{"text_format":"1","workbook":"xlsx","n_sheets":9,"sheets":["Sheet2","Sheet1","Pricing Sheet","Features","Tech Info from Vendor"," Training&Support from Vendor","Vendor Information","Product Information","DV-IDENTITY-0"],"not_rendered":{"charts":0,"images":0,"macros":1,"external_links":0,"defined_names":7,"comments":0,"pivot_tables":0},"unopened":[],"bounds":{"document_bytes":16777216,"sheet_cells":100000,"rows_first":2000,"rows_last":500,"rows_between":2000,"halvings":0,"cell_chars":16384,"cell_head_chars":4096},"cells_cut":0,"cells_raw":0,"read":"whole","date_system":"1900"}

{"sheet":"Sheet2","index":0,"n_rows":1462,"n_cols":1,"rows_kept":1462,"cut":false,"hidden":true,"merged":[]}
["2013-06-18"]
["2013-06-19"]
["2013-06-20"]
["2013-06-21"]
["2013-06-22"]
["2013-06-23"]
["2013-06-24"]
["2013-06-25"]
["2013-06-26"]
["2013-06-27"]
["2013-06-28"]
["2013-06-29"]
["2013-06-30"]
["2013-07-01"]
["2013-07-02"]
["2013-07-03"]
["2013-07-04"]
["2013-07-05"]
["2013-07-06"]
["2013-07-07"]
["2013-07-08"]
["2013-07-09"]
["2013-07-10"]
["2013-07-11"]
["2013-07-12"]
["2013-07-13"]
["2013-07-14"]
["2013-07-15"]
["2013-07-16"]
["2013-07-17"]
["2013-07-18"]
["2013-07-19"]
["2013-07-20"]
["2013-07-21"]
["2013-07-22"]
["2013-07-23"]
["2013-07-24"]
["2013-07-25"]
["2013-07-26"]
["2013-07-27"]
["2013-07-28"]
["2013-07-29"]
["2013-07-30"]
["2013-07-31"]
["2013-08-01"]
["2013-08-02"]
["2013-08-03"]
["2013-08-04"]
["2013-08-05"]
["2013-08-06"]
["2013-08-07"]
["2013-08-08"]
["2013-08-09"]
["2013-08-10"]
["2013-08-11"]
["2013-08-12"]
["2013-08-13"]
["2013-08-14"]
["2013-08-15"]
["2013-08-16"]
["2013-08-17"]
["2013-08-18"]
["2013-08-19"]
["2013-08-20"]
["2013-08-21"]
["2013-08-22"]
["2013-08-23"]
["2013-08-24"]
["2013-08-25"]
["2013-08-26"]
["2013-08-27"]
["2013-08-28"]
["2013-08-29"]
["2013-08-30"]
["2013-08-31"]
["2013-09-01"]
["2013-09-02"]
["2013-09-03"]
["2013-09-04"]
["2013-09-05"]
["2013-09-06"]
["2013-09-07"]
["2013-09-08"]
["2013-09-09"]
["2013-09-10"]
["2013-09-11"]
["2013-09-12"]
["2013-09-13"]
["2013-09-14"]
["2013-09-15"]
["2013-09-16"]
["2013-09-17"]
["2013-09-18"]
["2013-09-19"]
["2013-09-20"]
["2013-09-21"]
["2013-09-22"]
["2013-09-23"]
["2013-09-24"]
["2013-09-25"]
["2013-09-26"]
["2013-09-27"]
["2013-09-28"]
["2013-09-29"]
["2013-09-30"]
["2013-10-01"]
["2013-10-02"]
["2013-10-03"]
["2013-10-04"]
["2013-10-05"]
["2013-10-06"]
["2013-10-07"]
["2013-10-08"]
["2013-10-09"]
["2013-10-10"]
["2013-10-11"]
["2013-10-12"]
["2013-10-13"]
["2013-10-14"]
["2013-10-15"]
["2013-10-16"]
["2013-10-17"]
["2013-10-18"]
["2013-10-19"]
["2013-10-20"]
["2013-10-21"]
["2013-10-22"]
["2013-10-23"]
["2013-10-24"]
["2013-10-25"]
["2013-10-26"]
["2013-10-27"]
["2013-10-28"]
["2013-10-29"]
["2013-10-30"]
["2013-10-31"]
["2013-11-01"]
["2013-11-02"]
["2013-11-03"]
["2013-11-04"]
["2013-11-05"]
["2013-11-06"]
["2013-11-07"]
["2013-11-08"]
["2013-11-09"]
["2013-11-10"]
["2013-11-11"]
["2013-11-12"]
["2013-11-13"]
["2013-11-14"]
["2013-11-15"]
["2013-11-16"]
["2013-11-17"]
["2013-11-18"]
["2013-11-19"]
["2013-11-20"]
["2013-11-21"]
["2013-11-22"]
["2013-11-23"]
["2013-11-24"]
["2013-11-25"]
["2013-11-26"]
["2013-11-27"]
["2013-11-28"]
["2013-11-29"]
["2013-11-30"]
["2013-12-01"]
["2013-12-02"]
["2013-12-03"]
["2013-12-04"]
["2013-12-05"]
["2013-12-06"]
["2013-12-07"]
["2013-12-08"]
["2013-12-09"]
["2013-12-10"]
["2013-12-11"]
["2013-12-12"]
["2013-12-13"]
["2013-12-14"]
["2013-12-15"]
["2013-12-16"]
["2013-12-17"]
["2013-12-18"]
["2013-12-19"]
["2013-12-20"]
["2013-12-21"]
["2013-12-22"]
["2013-12-23"]
["2013-12-24"]
["2013-12-25"]
["2013-12-26"]
["2013-12-27"]
["2013-12-28"]
["2013-12-29"]
["2013-12-30"]
["2013-12-31"]
["2014-01-01"]
["2014-01-02"]
["2014-01-03"]
["2014-01-04"]
["2014-01-05"]
["2014-01-06"]
["2014-01-07"]
["2014-01-08"]
["2014-01-09"]
["2014-01-10"]
["2014-01-11"]
["2014-01-12"]
["2014-01-13"]
["2014-01-14"]
["2014-01-15"]
["2014-01-16"]
["2014-01-17"]
["2014-01-18"]
["2014-01-19"]
["2014-01-20"]
["2014-01-21"]
["2014-01-22"]
["2014-01-23"]
["2014-01-24"]
["2014-01-25"]
["2014-01-26"]
["2014-01-27"]
["2014-01-28"]
["2014-01-29"]
["2014-01-30"]
["2014-01-31"]
["2014-02-01"]
["2014-02-02"]
["2014-02-03"]
["2014-02-04"]
["2014-02-05"]
["2014-02-06"]
["2014-02-07"]
["2014-02-08"]
["2014-02-09"]
["2014-02-10"]
["2014-02-11"]
["2014-02-12"]
["2014-02-13"]
["2014-02-14"]
["2014-02-15"]
["2014-02-16"]
["2014-02-17"]
["2014-02-18"]
["2014-02-19"]
["2014-02-20"]
["2014-02-21"]
["2014-02-22"]
["2014-02-23"]
["2014-02-24"]
["2014-02-25"]
["2014-02-26"]
["2014-02-27"]
["2014-02-28"]
["2014-03-01"]
["2014-03-02"]
["2014-03-03"]
["2014-03-04"]
["2014-03-05"]
["2014-03-06"]
["2014-03-07"]
["2014-03-08"]
["2014-03-09"]
["2014-03-10"]
["2014-03-11"]
["2014-03-12"]
["2014-03-13"]
["2014-03-14"]
["2014-03-15"]
["2014-03-16"]
["2014-03-17"]
["2014-03-18"]
["2014-03-19"]
["2014-03-20"]
["2014-03-21"]
["2014-03-22"]
["2014-03-23"]
["2014-03-24"]
["2014-03-25"]
["2014-03-26"]
["2014-03-27"]
["2014-03-28"]
["2014-03-29"]
["2014-03-30"]
["2014-03-31"]
["2014-04-01"]
["2014-04-02"]
["2014-04-03"]
["2014-04-04"]
["2014-04-05"]
["2014-04-06"]
["2014-04-07"]
["2014-04-08"]
["2014-04-09"]
["2014-04-10"]
["2014-04-11"]
["2014-04-12"]
["2014-04-13"]
["2014-04-14"]
["2014-04-15"]
["2014-04-16"]
["2014-04-17"]
["2014-04-18"]
["2014-04-19"]
["2014-04-20"]
["2014-04-21"]
["2014-04-22"]
["2014-04-23"]
["2014-04-24"]
["2014-04-25"]
["2014-04-26"]
["2014-04-27"]
["2014-04-28"]
["2014-04-29"]
["2014-04-30"]
["2014-05-01"]
["2014-05-02"]
["2014-05-03"]
["2014-05-04"]
["2014-05-05"]
["2014-05-06"]
["2014-05-07"]
["2014-05-08"]
["2014-05-09"]
["2014-05-10"]
["2014-05-11"]
["2014-05-12"]
["2014-05-13"]
["2014-05-14"]
["2014-05-15"]
["2014-05-16"]
["2014-05-17"]
["2014-05-18"]
["2014-05-19"]
["2014-05-20"]
["2014-05-21"]
["2014-05-22"]
["2014-05-23"]
["2014-05-24"]
["2014-05-25"]
["2014-05-26"]
["2014-05-27"]
["2014-05-28"]
["2014-05-29"]
["2014-05-30"]
["2014-05-31"]
["2014-06-01"]
["2014-06-02"]
["2014-06-03"]
["2014-06-04"]
["2014-06-05"]
["2014-06-06"]
["2014-06-07"]
["2014-06-08"]
["2014-06-09"]
["2014-06-10"]
["2014-06-11"]
["2014-06-12"]
["2014-06-13"]
["2014-06-14"]
["2014-06-15"]
["2014-06-16"]
["2014-06-17"]
["2014-06-18"]
["2014-06-19"]
["2014-06-20"]
["2014-06-21"]
["2014-06-22"]
["2014-06-23"]
["2014-06-24"]
["2014-06-25"]
["2014-06-26"]
["2014-06-27"]
["2014-06-28"]
["2014-06-29"]
["2014-06-30"]
["2014-07-01"]
["2014-07-02"]
["2014-07-03"]
["2014-07-04"]
["2014-07-05"]
["2014-07-06"]
["2014-07-07"]
["2014-07-08"]
["2014-07-09"]
["2014-07-10"]
["2014-07-11"]
["2014-07-12"]
["2014-07-13"]
["2014-07-14"]
["2014-07-15"]
["2014-07-16"]
["2014-07-17"]
["2014-07-18"]
["2014-07-19"]
["2014-07-20"]
["2014-07-21"]
["2014-07-22"]
["2014-07-23"]
["2014-07-24"]
["2014-07-25"]
["2014-07-26"]
["2014-07-27"]
["2014-07-28"]
["2014-07-29"]
["2014-07-30"]
["2014-07-31"]
["2014-08-01"]
["2014-08-02"]
["2014-08-03"]
["2014-08-04"]
["2014-08-05"]
["2014-08-06"]
["2014-08-07"]
["2014-08-08"]
["2014-08-09"]
["2014-08-10"]
["2014-08-11"]
["2014-08-12"]
["2014-08-13"]
["2014-08-14"]
["2014-08-15"]
["2014-08-16"]
["2014-08-17"]
["2014-08-18"]
["2014-08-19"]
["2014-08-20"]
["2014-08-21"]
["2014-08-22"]
["2014-08-23"]
["2014-08-24"]
["2014-08-25"]
["2014-08-26"]
["2014-08-27"]
["2014-08-28"]
["2014-08-29"]
["2014-08-30"]
["2014-08-31"]
["2014-09-01"]
["2014-09-02"]
["2014-09-03"]
["2014-09-04"]
["2014-09-05"]
["2014-09-06"]
["2014-09-07"]
["2014-09-08"]
["2014-09-09"]
["2014-09-10"]
["2014-09-11"]
["2014-09-12"]
["2014-09-13"]
["2014-09-14"]
["2014-09-15"]
["2014-09-16"]
["2014-09-17"]
["2014-09-18"]
["2014-09-19"]
["2014-09-20"]
["2014-09-21"]
["2014-09-22"]
["2014-09-23"]
["2014-09-24"]
["2014-09-25"]
["2014-09-26"]
["2014-09-27"]
["2014-09-28"]
["2014-09-29"]
["2014-09-30"]
["2014-10-01"]
["2014-10-02"]
["2014-10-03"]
["2014-10-04"]
["2014-10-05"]
["2014-10-06"]
["2014-10-07"]
["2014-10-08"]
["2014-10-09"]
["2014-10-10"]
["2014-10-11"]
["2014-10-12"]
["2014-10-13"]
["2014-10-14"]
["2014-10-15"]
["2014-10-16"]
["2014-10-17"]
["2014-10-18"]
["2014-10-19"]
["2014-10-20"]
["2014-10-21"]
["2014-10-22"]
["2014-10-23"]
["2014-10-24"]
["2014-10-25"]
["2014-10-26"]
["2014-10-27"]
["2014-10-28"]
["2014-10-29"]
["2014-10-30"]
["2014-10-31"]
["2014-11-01"]
["2014-11-02"]
["2014-11-03"]
["2014-11-04"]
["2014-11-05"]
["2014-11-06"]
["2014-11-07"]
["2014-11-08"]
["2014-11-09"]
["2014-11-10"]
["2014-11-11"]
["2014-11-12"]
["2014-11-13"]
["2014-11-14"]
["2014-11-15"]
["2014-11-16"]
["2014-11-17"]
["2014-11-18"]
["2014-11-19"]
["2014-11-20"]
["2014-11-21"]
["2014-11-22"]
["2014-11-23"]
["2014-11-24"]
["2014-11-25"]
["2014-11-26"]
["2014-11-27"]
["2014-11-28"]
["2014-11-29"]
["2014-11-30"]
["2014-12-01"]
["2014-12-02"]
["2014-12-03"]
["2014-12-04"]
["2014-12-05"]
["2014-12-06"]
["2014-12-07"]
["2014-12-08"]
["2014-12-09"]
["2014-12-10"]
["2014-12-11"]
["2014-12-12"]
["2014-12-13"]
["2014-12-14"]
["2014-12-15"]
["2014-12-16"]
["2014-12-17"]
["2014-12-18"]
["2014-12-19"]
["2014-12-20"]
["2014-12-21"]
["2014-12-22"]
["2014-12-23"]
["2014-12-24"]
["2014-12-25"]
["2014-12-26"]
["2014-12-27"]
["2014-12-28"]
["2014-12-29"]
["2014-12-30"]
["2014-12-31"]
["2015-01-01"]
["2015-01-02"]
["2015-01-03"]
["2015-01-04"]
["2015-01-05"]
["2015-01-06"]
["2015-01-07"]
["2015-01-08"]
["2015-01-09"]
["2015-01-10"]
["2015-01-11"]
["2015-01-12"]
["2015-01-13"]
["2015-01-14"]
["2015-01-15"]
["2015-01-16"]
["2015-01-17"]
["2015-01-18"]
["2015-01-19"]
["2015-01-20"]
["2015-01-21"]
["2015-01-22"]
["2015-01-23"]
["2015-01-24"]
["2015-01-25"]
["2015-01-26"]
["2015-01-27"]
["2015-01-28"]
["2015-01-29"]
["2015-01-30"]
["2015-01-31"]
["2015-02-01"]
["2015-02-02"]
["2015-02-03"]
["2015-02-04"]
["2015-02-05"]
["2015-02-06"]
["2015-02-07"]
["2015-02-08"]
["2015-02-09"]
["2015-02-10"]
["2015-02-11"]
["2015-02-12"]
["2015-02-13"]
["2015-02-14"]
["2015-02-15"]
["2015-02-16"]
["2015-02-17"]
["2015-02-18"]
["2015-02-19"]
["2015-02-20"]
["2015-02-21"]
["2015-02-22"]
["2015-02-23"]
["2015-02-24"]
["2015-02-25"]
["2015-02-26"]
["2015-02-27"]
["2015-02-28"]
["2015-03-01"]
["2015-03-02"]
["2015-03-03"]
["2015-03-04"]
["2015-03-05"]
["2015-03-06"]
["2015-03-07"]
["2015-03-08"]
["2015-03-09"]
["2015-03-10"]
["2015-03-11"]
["2015-03-12"]
["2015-03-13"]
["2015-03-14"]
["2015-03-15"]
["2015-03-16"]
["2015-03-17"]
["2015-03-18"]
["2015-03-19"]
["2015-03-20"]
["2015-03-21"]
["2015-03-22"]
["2015-03-23"]
["2015-03-24"]
["2015-03-25"]
["2015-03-26"]
["2015-03-27"]
["2015-03-28"]
["2015-03-29"]
["2015-03-30"]
["2015-03-31"]
["2015-04-01"]
["2015-04-02"]
["2015-04-03"]
["2015-04-04"]
["2015-04-05"]
["2015-04-06"]
["2015-04-07"]
["2015-04-08"]
["2015-04-09"]
["2015-04-10"]
["2015-04-11"]
["2015-04-12"]
["2015-04-13"]
["2015-04-14"]
["2015-04-15"]
["2015-04-16"]
["2015-04-17"]
["2015-04-18"]
["2015-04-19"]
["2015-04-20"]
["2015-04-21"]
["2015-04-22"]
["2015-04-23"]
["2015-04-24"]
["2015-04-25"]
["2015-04-26"]
["2015-04-27"]
["2015-04-28"]
["2015-04-29"]
["2015-04-30"]
["2015-05-01"]
["2015-05-02"]
["2015-05-03"]
["2015-05-04"]
["2015-05-05"]
["2015-05-06"]
["2015-05-07"]
["2015-05-08"]
["2015-05-09"]
["2015-05-10"]
["2015-05-11"]
["2015-05-12"]
["2015-05-13"]
["2015-05-14"]
["2015-05-15"]
["2015-05-16"]
["2015-05-17"]
["2015-05-18"]
["2015-05-19"]
["2015-05-20"]
["2015-05-21"]
["2015-05-22"]
["2015-05-23"]
["2015-05-24"]
["2015-05-25"]
["2015-05-26"]
["2015-05-27"]
["2015-05-28"]
["2015-05-29"]
["2015-05-30"]
["2015-05-31"]
["2015-06-01"]
["2015-06-02"]
["2015-06-03"]
["2015-06-04"]
["2015-06-05"]
["2015-06-06"]
["2015-06-07"]
["2015-06-08"]
["2015-06-09"]
["2015-06-10"]
["2015-06-11"]
["2015-06-12"]
["2015-06-13"]
["2015-06-14"]
["2015-06-15"]
["2015-06-16"]
["2015-06-17"]
["2015-06-18"]
["2015-06-19"]
["2015-06-20"]
["2015-06-21"]
["2015-06-22"]
["2015-06-23"]
["2015-06-24"]
["2015-06-25"]
["2015-06-26"]
["2015-06-27"]
["2015-06-28"]
["2015-06-29"]
["2015-06-30"]
["2015-07-01"]
["2015-07-02"]
["2015-07-03"]
["2015-07-04"]
["2015-07-05"]
["2015-07-06"]
["2015-07-07"]
["2015-07-08"]
["2015-07-09"]
["2015-07-10"]
["2015-07-11"]
["2015-07-12"]
["2015-07-13"]
["2015-07-14"]
["2015-07-15"]
["2015-07-16"]
["2015-07-17"]
["2015-07-18"]
["2015-07-19"]
["2015-07-20"]
["2015-07-21"]
["2015-07-22"]
["2015-07-23"]
["2015-07-24"]
["2015-07-25"]
["2015-07-26"]
["2015-07-27"]
["2015-07-28"]
["2015-07-29"]
["2015-07-30"]
["2015-07-31"]
["2015-08-01"]
["2015-08-02"]
["2015-08-03"]
["2015-08-04"]
["2015-08-05"]
["2015-08-06"]
["2015-08-07"]
["2015-08-08"]
["2015-08-09"]
["2015-08-10"]
["2015-08-11"]
["2015-08-12"]
["2015-08-13"]
["2015-08-14"]
["2015-08-15"]
["2015-08-16"]
["2015-08-17"]
["2015-08-18"]
["2015-08-19"]
["2015-08-20"]
["2015-08-21"]
["2015-08-22"]
["2015-08-23"]
["2015-08-24"]
["2015-08-25"]
["2015-08-26"]
["2015-08-27"]
["2015-08-28"]
["2015-08-29"]
["2015-08-30"]
["2015-08-31"]
["2015-09-01"]
["2015-09-02"]
["2015-09-03"]
["2015-09-04"]
["2015-09-05"]
["2015-09-06"]
["2015-09-07"]
["2015-09-08"]
["2015-09-09"]
["2015-09-10"]
["2015-09-11"]
["2015-09-12"]
["2015-09-13"]
["2015-09-14"]
["2015-09-15"]
["2015-09-16"]
["2015-09-17"]
["2015-09-18"]
["2015-09-19"]
["2015-09-20"]
["2015-09-21"]
["2015-09-22"]
["2015-09-23"]
["2015-09-24"]
["2015-09-25"]
["2015-09-26"]
["2015-09-27"]
["2015-09-28"]
["2015-09-29"]
["2015-09-30"]
["2015-10-01"]
["2015-10-02"]
["2015-10-03"]
["2015-10-04"]
["2015-10-05"]
["2015-10-06"]
["2015-10-07"]
["2015-10-08"]
["2015-10-09"]
["2015-10-10"]
["2015-10-11"]
["2015-10-12"]
["2015-10-13"]
["2015-10-14"]
["2015-10-15"]
["2015-10-16"]
["2015-10-17"]
["2015-10-18"]
["2015-10-19"]
["2015-10-20"]
["2015-10-21"]
["2015-10-22"]
["2015-10-23"]
["2015-10-24"]
["2015-10-25"]
["2015-10-26"]
["2015-10-27"]
["2015-10-28"]
["2015-10-29"]
["2015-10-30"]
["2015-10-31"]
["2015-11-01"]
["2015-11-02"]
["2015-11-03"]
["2015-11-04"]
["2015-11-05"]
["2015-11-06"]
["2015-11-07"]
["2015-11-08"]
["2015-11-09"]
["2015-11-10"]
["2015-11-11"]
["2015-11-12"]
["2015-11-13"]
["2015-11-14"]
["2015-11-15"]
["2015-11-16"]
["2015-11-17"]
["2015-11-18"]
["2015-11-19"]
["2015-11-20"]
["2015-11-21"]
["2015-11-22"]
["2015-11-23"]
["2015-11-24"]
["2015-11-25"]
["2015-11-26"]
["2015-11-27"]
["2015-11-28"]
["2015-11-29"]
["2015-11-30"]
["2015-12-01"]
["2015-12-02"]
["2015-12-03"]
["2015-12-04"]
["2015-12-05"]
["2015-12-06"]
["2015-12-07"]
["2015-12-08"]
["2015-12-09"]
["2015-12-10"]
["2015-12-11"]
["2015-12-12"]
["2015-12-13"]
["2015-12-14"]
["2015-12-15"]
["2015-12-16"]
["2015-12-17"]
["2015-12-18"]
["2015-12-19"]
["2015-12-20"]
["2015-12-21"]
["2015-12-22"]
["2015-12-23"]
["2015-12-24"]
["2015-12-25"]
["2015-12-26"]
["2015-12-27"]
["2015-12-28"]
["2015-12-29"]
["2015-12-30"]
["2015-12-31"]
["2016-01-01"]
["2016-01-02"]
["2016-01-03"]
["2016-01-04"]
["2016-01-05"]
["2016-01-06"]
["2016-01-07"]
["2016-01-08"]
["2016-01-09"]
["2016-01-10"]
["2016-01-11"]
["2016-01-12"]
["2016-01-13"]
["2016-01-14"]
["2016-01-15"]
["2016-01-16"]
["2016-01-17"]
["2016-01-18"]
["2016-01-19"]
["2016-01-20"]
["2016-01-21"]
["2016-01-22"]
["2016-01-23"]
["2016-01-24"]
["2016-01-25"]
["2016-01-26"]
["2016-01-27"]
["2016-01-28"]
["2016-01-29"]
["2016-01-30"]
["2016-01-31"]
["2016-02-01"]
["2016-02-02"]
["2016-02-03"]
["2016-02-04"]
["2016-02-05"]
["2016-02-06"]
["2016-02-07"]
["2016-02-08"]
["2016-02-09"]
["2016-02-10"]
["2016-02-11"]
["2016-02-12"]
["2016-02-13"]
["2016-02-14"]
["2016-02-15"]
["2016-02-16"]
["2016-02-17"]
["2016-02-18"]
["2016-02-19"]
["2016-02-20"]
["2016-02-21"]
["2016-02-22"]
["2016-02-23"]
["2016-02-24"]
["2016-02-25"]
["2016-02-26"]
["2016-02-27"]
["2016-02-28"]
["2016-02-29"]
["2016-03-01"]
["2016-03-02"]
["2016-03-03"]
["2016-03-04"]
["2016-03-05"]
["2016-03-06"]
["2016-03-07"]
["2016-03-08"]
["2016-03-09"]
["2016-03-10"]
["2016-03-11"]
["2016-03-12"]
["2016-03-13"]
["2016-03-14"]
["2016-03-15"]
["2016-03-16"]
["2016-03-17"]
["2016-03-18"]
["2016-03-19"]
["2016-03-20"]
["2016-03-21"]
["2016-03-22"]
["2016-03-23"]
["2016-03-24"]
["2016-03-25"]
["2016-03-26"]
["2016-03-27"]
["2016-03-28"]
["2016-03-29"]
["2016-03-30"]
["2016-03-31"]
["2016-04-01"]
["2016-04-02"]
["2016-04-03"]
["2016-04-04"]
["2016-04-05"]
["2016-04-06"]
["2016-04-07"]
["2016-04-08"]
["2016-04-09"]
["2016-04-10"]
["2016-04-11"]
["2016-04-12"]
["2016-04-13"]
["2016-04-14"]
["2016-04-15"]
["2016-04-16"]
["2016-04-17"]
["2016-04-18"]
["2016-04-19"]
["2016-04-20"]
["2016-04-21"]
["2016-04-22"]
["2016-04-23"]
["2016-04-24"]
["2016-04-25"]
["2016-04-26"]
["2016-04-27"]
["2016-04-28"]
["2016-04-29"]
["2016-04-30"]
["2016-05-01"]
["2016-05-02"]
["2016-05-03"]
["2016-05-04"]
["2016-05-05"]
["2016-05-06"]
["2016-05-07"]
["2016-05-08"]
["2016-05-09"]
["2016-05-10"]
["2016-05-11"]
["2016-05-12"]
["2016-05-13"]
["2016-05-14"]
["2016-05-15"]
["2016-05-16"]
["2016-05-17"]
["2016-05-18"]
["2016-05-19"]
["2016-05-20"]
["2016-05-21"]
["2016-05-22"]
["2016-05-23"]
["2016-05-24"]
["2016-05-25"]
["2016-05-26"]
["2016-05-27"]
["2016-05-28"]
["2016-05-29"]
["2016-05-30"]
["2016-05-31"]
["2016-06-01"]
["2016-06-02"]
["2016-06-03"]
["2016-06-04"]
["2016-06-05"]
["2016-06-06"]
["2016-06-07"]
["2016-06-08"]
["2016-06-09"]
["2016-06-10"]
["2016-06-11"]
["2016-06-12"]
["2016-06-13"]
["2016-06-14"]
["2016-06-15"]
["2016-06-16"]
["2016-06-17"]
["2016-06-18"]
["2016-06-19"]
["2016-06-20"]
["2016-06-21"]
["2016-06-22"]
["2016-06-23"]
["2016-06-24"]
["2016-06-25"]
["2016-06-26"]
["2016-06-27"]
["2016-06-28"]
["2016-06-29"]
["2016-06-30"]
["2016-07-01"]
["2016-07-02"]
["2016-07-03"]
["2016-07-04"]
["2016-07-05"]
["2016-07-06"]
["2016-07-07"]
["2016-07-08"]
["2016-07-09"]
["2016-07-10"]
["2016-07-11"]
["2016-07-12"]
["2016-07-13"]
["2016-07-14"]
["2016-07-15"]
["2016-07-16"]
["2016-07-17"]
["2016-07-18"]
["2016-07-19"]
["2016-07-20"]
["2016-07-21"]
["2016-07-22"]
["2016-07-23"]
["2016-07-24"]
["2016-07-25"]
["2016-07-26"]
["2016-07-27"]
["2016-07-28"]
["2016-07-29"]
["2016-07-30"]
["2016-07-31"]
["2016-08-01"]
["2016-08-02"]
["2016-08-03"]
["2016-08-04"]
["2016-08-05"]
["2016-08-06"]
["2016-08-07"]
["2016-08-08"]
["2016-08-09"]
["2016-08-10"]
["2016-08-11"]
["2016-08-12"]
["2016-08-13"]
["2016-08-14"]
["2016-08-15"]
["2016-08-16"]
["2016-08-17"]
["2016-08-18"]
["2016-08-19"]
["2016-08-20"]
["2016-08-21"]
["2016-08-22"]
["2016-08-23"]
["2016-08-24"]
["2016-08-25"]
["2016-08-26"]
["2016-08-27"]
["2016-08-28"]
["2016-08-29"]
["2016-08-30"]
["2016-08-31"]
["2016-09-01"]
["2016-09-02"]
["2016-09-03"]
["2016-09-04"]
["2016-09-05"]
["2016-09-06"]
["2016-09-07"]
["2016-09-08"]
["2016-09-09"]
["2016-09-10"]
["2016-09-11"]
["2016-09-12"]
["2016-09-13"]
["2016-09-14"]
["2016-09-15"]
["2016-09-16"]
["2016-09-17"]
["2016-09-18"]
["2016-09-19"]
["2016-09-20"]
["2016-09-21"]
["2016-09-22"]
["2016-09-23"]
["2016-09-24"]
["2016-09-25"]
["2016-09-26"]
["2016-09-27"]
["2016-09-28"]
["2016-09-29"]
["2016-09-30"]
["2016-10-01"]
["2016-10-02"]
["2016-10-03"]
["2016-10-04"]
["2016-10-05"]
["2016-10-06"]
["2016-10-07"]
["2016-10-08"]
["2016-10-09"]
["2016-10-10"]
["2016-10-11"]
["2016-10-12"]
["2016-10-13"]
["2016-10-14"]
["2016-10-15"]
["2016-10-16"]
["2016-10-17"]
["2016-10-18"]
["2016-10-19"]
["2016-10-20"]
["2016-10-21"]
["2016-10-22"]
["2016-10-23"]
["2016-10-24"]
["2016-10-25"]
["2016-10-26"]
["2016-10-27"]
["2016-10-28"]
["2016-10-29"]
["2016-10-30"]
["2016-10-31"]
["2016-11-01"]
["2016-11-02"]
["2016-11-03"]
["2016-11-04"]
["2016-11-05"]
["2016-11-06"]
["2016-11-07"]
["2016-11-08"]
["2016-11-09"]
["2016-11-10"]
["2016-11-11"]
["2016-11-12"]
["2016-11-13"]
["2016-11-14"]
["2016-11-15"]
["2016-11-16"]
["2016-11-17"]
["2016-11-18"]
["2016-11-19"]
["2016-11-20"]
["2016-11-21"]
["2016-11-22"]
["2016-11-23"]
["2016-11-24"]
["2016-11-25"]
["2016-11-26"]
["2016-11-27"]
["2016-11-28"]
["2016-11-29"]
["2016-11-30"]
["2016-12-01"]
["2016-12-02"]
["2016-12-03"]
["2016-12-04"]
["2016-12-05"]
["2016-12-06"]
["2016-12-07"]
["2016-12-08"]
["2016-12-09"]
["2016-12-10"]
["2016-12-11"]
["2016-12-12"]
["2016-12-13"]
["2016-12-14"]
["2016-12-15"]
["2016-12-16"]
["2016-12-17"]
["2016-12-18"]
["2016-12-19"]
["2016-12-20"]
["2016-12-21"]
["2016-12-22"]
["2016-12-23"]
["2016-12-24"]
["2016-12-25"]
["2016-12-26"]
["2016-12-27"]
["2016-12-28"]
["2016-12-29"]
["2016-12-30"]
["2016-12-31"]
["2017-01-01"]
["2017-01-02"]
["2017-01-03"]
["2017-01-04"]
["2017-01-05"]
["2017-01-06"]
["2017-01-07"]
["2017-01-08"]
["2017-01-09"]
["2017-01-10"]
["2017-01-11"]
["2017-01-12"]
["2017-01-13"]
["2017-01-14"]
["2017-01-15"]
["2017-01-16"]
["2017-01-17"]
["2017-01-18"]
["2017-01-19"]
["2017-01-20"]
["2017-01-21"]
["2017-01-22"]
["2017-01-23"]
["2017-01-24"]
["2017-01-25"]
["2017-01-26"]
["2017-01-27"]
["2017-01-28"]
["2017-01-29"]
["2017-01-30"]
["2017-01-31"]
["2017-02-01"]
["2017-02-02"]
["2017-02-03"]
["2017-02-04"]
["2017-02-05"]
["2017-02-06"]
["2017-02-07"]
["2017-02-08"]
["2017-02-09"]
["2017-02-10"]
["2017-02-11"]
["2017-02-12"]
["2017-02-13"]
["2017-02-14"]
["2017-02-15"]
["2017-02-16"]
["2017-02-17"]
["2017-02-18"]
["2017-02-19"]
["2017-02-20"]
["2017-02-21"]
["2017-02-22"]
["2017-02-23"]
["2017-02-24"]
["2017-02-25"]
["2017-02-26"]
["2017-02-27"]
["2017-02-28"]
["2017-03-01"]
["2017-03-02"]
["2017-03-03"]
["2017-03-04"]
["2017-03-05"]
["2017-03-06"]
["2017-03-07"]
["2017-03-08"]
["2017-03-09"]
["2017-03-10"]
["2017-03-11"]
["2017-03-12"]
["2017-03-13"]
["2017-03-14"]
["2017-03-15"]
["2017-03-16"]
["2017-03-17"]
["2017-03-18"]
["2017-03-19"]
["2017-03-20"]
["2017-03-21"]
["2017-03-22"]
["2017-03-23"]
["2017-03-24"]
["2017-03-25"]
["2017-03-26"]
["2017-03-27"]
["2017-03-28"]
["2017-03-29"]
["2017-03-30"]
["2017-03-31"]
["2017-04-01"]
["2017-04-02"]
["2017-04-03"]
["2017-04-04"]
["2017-04-05"]
["2017-04-06"]
["2017-04-07"]
["2017-04-08"]
["2017-04-09"]
["2017-04-10"]
["2017-04-11"]
["2017-04-12"]
["2017-04-13"]
["2017-04-14"]
["2017-04-15"]
["2017-04-16"]
["2017-04-17"]
["2017-04-18"]
["2017-04-19"]
["2017-04-20"]
["2017-04-21"]
["2017-04-22"]
["2017-04-23"]
["2017-04-24"]
["2017-04-25"]
["2017-04-26"]
["2017-04-27"]
["2017-04-28"]
["2017-04-29"]
["2017-04-30"]
["2017-05-01"]
["2017-05-02"]
["2017-05-03"]
["2017-05-04"]
["2017-05-05"]
["2017-05-06"]
["2017-05-07"]
["2017-05-08"]
["2017-05-09"]
["2017-05-10"]
["2017-05-11"]
["2017-05-12"]
["2017-05-13"]
["2017-05-14"]
["2017-05-15"]
["2017-05-16"]
["2017-05-17"]
["2017-05-18"]
["2017-05-19"]
["2017-05-20"]
["2017-05-21"]
["2017-05-22"]
["2017-05-23"]
["2017-05-24"]
["2017-05-25"]
["2017-05-26"]
["2017-05-27"]
["2017-05-28"]
["2017-05-29"]
["2017-05-30"]
["2017-05-31"]
["2017-06-01"]
["2017-06-02"]
["2017-06-03"]
["2017-06-04"]
["2017-06-05"]
["2017-06-06"]
["2017-06-07"]
["2017-06-08"]
["2017-06-09"]
["2017-06-10"]
["2017-06-11"]
["2017-06-12"]
["2017-06-13"]
["2017-06-14"]
["2017-06-15"]
["2017-06-16"]
["2017-06-17"]
["2017-06-18"]

{"sheet":"Sheet1","index":1,"n_rows":42,"n_cols":12,"rows_kept":42,"cut":false,"hidden":true,"merged":[]}
[]
["(GMT-12:00) International Date Line West",null,null,null,null,null,null,"00:00:00"]
["(GMT-11:00) Midway Island, Samoa",null,null,null,null,null,null,"01:00:00",null,null,null,"Non-Profit"]
["(GMT-10:00) Hawaii",null,null,null,null,null,null,"02:00:00",null,null,null,"Association"]
["(GMT-09:00) Alaska",null,null,null,null,null,null,"03:00:00",null,null,null,"Corporation"]
["(GMT-08:00) Pacific Time (US & Canada); Tijuana",null,null,null,null,null,null,"04:00:00",null,null,null,"Government Organization"]
["(GMT-07:00) Chihuahua, La Paz, Mazatlan, Arizona",null,null,null,null,null,null,"05:00:00",null,null,null,"Educational Institution"]
["(GMT-07:00) Mountain Time (US & Canada)",null,null,null,null,null,null,"06:00:00"]
["(GMT-06:00) Central",null,null,null,null,null,null,"07:00:00"]
["(GMT-05:00) Bogota, Lima, Quito",null,null,null,null,null,null,"08:00:00"]
["(GMT-05:00) Eastern Time (US & Canada)",null,null,null,null,null,null,"09:00:00"]
["(GMT-04:00) Atlantic Time (Canada)",null,null,null,null,null,null,"10:00:00"]
["(GMT-04:00) Caracas, La Paz",null,null,null,null,null,null,"11:00:00"]
["(GMT-03:30) Newfoundland",null,null,null,null,null,null,"12:00:00"]
["(GMT-03:00) Brasilia, Greenland",null,null,null,null,null,null,"13:00:00"]
["(GMT-02:00) Mid-Atlantic",null,null,null,null,null,null,"14:00:00"]
["(GMT-01:00) Cape Verde Is.",null,null,null,null,null,null,"15:00:00"]
["(GMT) Greenwich Mean Time: Dublin, Edinburgh, Lisbon, London",null,null,null,null,null,null,"16:00:00"]
["(GMT+01:00) Belgrade, Bratislava, Budapest, Ljubljana, Prague,  West Central Africa",null,null,null,null,null,null,"17:00:00"]
["(GMT+02:00) Athens, Beirut, Istanbul, Minsk, Cairo",null,null,null,null,null,null,"18:00:00"]
["(GMT+03:00) Kuwait, Riyadh, Baghdad",null,null,null,null,null,null,"19:00:00"]
["(GMT+03:00) Moscow, St. Petersburg, Volgograd, Nairobi",null,null,null,null,null,null,"20:00:00"]
["(GMT+03:30) Tehran",null,null,null,null,null,null,"21:00:00"]
["(GMT+04:00) Abu Dhabi, Muscat,Baku, Tbilisi, Yerevan",null,null,null,null,null,null,"22:00:00"]
["(GMT+04:30) Kabul",null,null,null,null,null,null,"23:00:00"]
["(GMT+05:00) Islamabad, Karachi, Tashkent, Ekaterinburg"]
["(GMT+05:30) Chennai, Kolkata, Mumbai, New Delhi"]
["(GMT+05:45) Kathmandu"]
["(GMT+06:00) Almaty, Novosibirsk, Astana, Dhaka"]
["(GMT+06:30) Rangoon"]
["(GMT+07:00) Bangkok, Hanoi, Jakarta"]
["(GMT+07:00) Krasnoyarsk"]
["(GMT+08:00) Beijing, Chongqing, Hong Kong, Urumqi"]
["(GMT+08:00) Irkutsk, Ulaan Bataar"]
["(GMT+08:00) Kuala Lumpur, Singapore"]
["(GMT+08:00) Perth, Taipei"]
["(GMT+09:00) Osaka, Sapporo, Tokyo, Seoul"]
["(GMT+09:30) Adelaide, Darwin"]
["(GMT+10:00) Guam, Port Moresby, Hobart, Canberra, Melbourne, Sydney"]
["(GMT+11:00) Magadan, Solomon Is., New Caledonia"]
["(GMT+12:00) Auckland, Wellington, Fiji, Kamchatka, Marshall Is."]
["(GMT+13:00) Nuku'alofa"]

{"sheet":"Pricing Sheet","index":2,"n_rows":9,"n_cols":5,"rows_kept":9,"cut":false,"hidden":false,"merged":[[1,0,1,1],[0,0,0,1],[9,0,9,1]]}
["Please provide price estimates in the following scenarios. Though TMLIRP will review all pricing structures, outside of one-time set up fees, TMLIRP's preferred pricing structure is a per completed course cost.",null,null,null,"Internal"]
["Pricing Sheet Based on Learner Projections",null,null,null,"External"]
["Initial set up fees ",null,null,null,"Both"]
["Training and support fees (if applicable)"]
["Projected number of completed courses - 20,000"]
["Projected number of completed courses - 25,000"]
["Projected number of completed courses - 30,000"]
["Projected number of completed courses - 35,000"]
["If pricing is not available under this cost model, please provide detailed information on proposed pricing model and structure"]

{"sheet":"Features","index":3,"n_rows":141,"n_cols":4,"rows_kept":141,"cut":false,"hidden":false,"merged":[[114,0,114,3],[120,0,120,3],[132,0,132,3],[60,0,60,3],[67,0,67,3],[86,0,86,3],[93,0,93,3],[98,0,98,3],[107,0,107,3],[2,0,2,3],[20,1,20,3],[32,0,32,3],[38,0,38,3],[110,0,110,3]]}
[]
["Item #","Features","Vendor Response","TMLIRP Comments"]
["Learning Environment "]
[1,"Search functionality allowing learners to find specific courses, materials based on keywords, title, delivery format, and other tagged identifiers"]
[2,"Individualized learning plan, course catalog seen on same screen"]
[3,"Courses have standard attributes regardless of delivery mechanism including:\n- Title\n- Description\n- Length/duration\n- Prerequisites (if applicable)"]
[4,"Ability to create and assign learning tracks"]
[5,"Learners can enroll or request enrollment in course or cancel their enrollment"]
[6,"Learners can review their learning history/completed work"]
[7,"Support for multiple catalogs"]
[8,"Transcripts (viewable by learners)"]
[9,"Curriculum can set by courses, content, etc. "]
[10,"Learner home dashboard (this means that when the learner enters the system, they see a home dashboard that contains high level information, including their current courses)"]
[11,"Learner drag and drop functionality (usually seen with widgets/blocks) on home dashboard"]
[12,"Daily task (to do list)"]
[13,"Learner progress bar or similar"]
[14,"Learners can bookmark their progress and return later"]
[15,"Learners can view entire catalog and select own courses "]
[16,"Learners can be assigned materials, videos, etc. "]
[17,"Learners can download materials, etc."]
[null,"Compliance and Regulatory "]
[18,"Audit Trail "]
[19,"Workflow features (please provide details)"]
[20,"Auditable compliance reports"]
[21,"Enrollment rules to auto assign content/courses to employees"]
[22,"Diagnostic tools to identify compliance and competence gaps and recommend or assign appropriate learning"]
[23,"Document Management System built-in; includes forms, workflow documents/materials, etc."]
[24,"Automation of training for SOPs and policies "]
[25,"CEU monitoring"]
[26,"Reporting for Law Enforcement training hours to Texas Commission on Law Enforcement (TCOLE)",null,"A significant percentage of member employees are law enforcement and take courses for TCOLE credit. TCOLE has stipulated that LMS vendors are responsible for reporting hours and ensuring that content meets TCOLE standards."]
[27,"Regarding law enforcement training hours, course learning objectives and lesson plans are approved by TCOLE and provided as required"]
[28,"TCOLE approved courses are designated with the assigned TCOLE program number in the description"]
["Built into LMS"]
[29,"Built-in authoring tool "]
[30,"Built-in authoring tool that can output to HTML5"]
[31,"Built-in authoring tool accepts video and photo uploads "]
[32,"Built-in tool accepts interface with services such as YouTube and Vimeo"]
[33,"Built-in authoring tool that comes with templates"]
["General "]
[34,"Custom domain "]
[35,"Skinned - choose your own colors "]
[36,"Add your own logo"]
[37,"Change labels, tabs"]
[38,"Self-registration "]
[39,"Forget password (auto e-mail sent to learner to create new password)"]
[40,"Personalize home page"]
[41,"Announcements/News"]
[42,"Drag and Drop on the administration side "]
[43,"Assign CEUs to courses, materials "]
[44,"Track CEUs"]
[45,"Single Sign On "]
[46,"Minimum time required per page, with a minimum time total for the successful completion of a course",null,"To prevent quickly clicking through content without viewing or listening to the content, there should be a minimum time of completion for the course."]
[47,"Built-in Help Desk "]
[48,"End user customer support"]
[49,"HTML editor "]
[50,"CSS editor "]
[51,"LMS offers a course marketplace, whereas client can select and purchase 3rd party courses directly, marketplace may be online or selections made via phone or email"]
[52,"Learning Record Store (LRS)"]
[53,"LMS includes plug-ins (API store - no charge to clients)"]
[54,"System comes with games (or game base learning course(s)"]
["Notifications"]
[55,"Upon registration of courses"]
[56,"Automatic and customizable email notifications"]
[57,"Auto reminders via e-mail "]
[58,"Can send emails within system"]
[59,"E-mail templates"]
[60,"Mail merge"]
["Administrator"]
[61,"Allow administrators to create, modify and cancel a course"]
[62,"Allow administrators to view all class offerings of a course"]
[63,"Assign users to groups, can assign X number to X number of courses, Y to a different number of courses or course"]
[64,"Learning plan can be assigned by job role, region, department"]
[65,"Allow administrators to set multiple levels of approval (e.g., no approval needed, supervisor approval, instructor approval, etc.)"]
[66,"Allow administrator and/or tech team to load learner learning history via batch import (excel template)"]
[67,"Allow administrators to track attendance status (e.g., no show, cancelled, attended) of all types of training (e.g. instructor led, online, virtual)"]
[68,"Assign and enforce access based on user profile"]
[69,"Capture multiple user attributes (e.g. Organization, department, Manager, Job role, etc.)"]
[70,"Create user groups through defined attributes (e.g. organization, departments, country, etc.)"]
[71,"Control profile settings by field (e.g., allow learners to change email addresses but not change user name)"]
[72,"Administrator can limit access to catalog items based on user profile (i.e. job role, location, customer, partner, etc.)"]
[73,"Provide multiple levels of administrative access and privileges"]
[74,"Allow administrators to create and assign system roles"]
[75,"Ability to drill-down on analytics for more information (Example: system shows total number of courses completed, administrator clicks on the graph and can drill down for addl info/data)"]
[76,"Create user groups through defined attributes (e.g. organization, departments, country, etc.)"]
[77,"Administrator dashboard"]
[78,"Batch upload of learners"]
["Client/TMLIRP Area"]
[79,"Client can to see their team in a dashboard or view"]
[80,"Client can assign training to team and/or individuals"]
[81,"Client can add/reject/update/approve learners/users"]
[82,"Client can view user/learner profiles "]
[83,"Dashboard that shares user information - such as courses assigned, courses completed, student demographics, usage comparison by time period, etc"]
[84,"If no dashboard, then monthly reports  as indicated in the feature described directly above."]
["Mobile "]
[85,"Supports HTML5 Courses"]
[86,"LMS comes with native app for mobile devices"]
[87,"Other features available within native app (vendor - provide details) - or offers multiple mobile apps"]
[88,"Mobile responsive"]
["Assessment/Survey"]
[89,"Built in assessment/survey tool "]
[90,"Question types (M/C, T/F)"]
[91,"Quiz can be audio/video/image based"]
[92,"Questions can be randomized "]
[93,"Quiz bank "]
[94,"Can leave comments/responses related to the course content"]
[95,"Limit the number of times assessment can be launched"]
[96,"Timed Questions/Assessments"]
["Languages "]
[97,"English"]
[98,"Latin American Spanish"]
["User Interface "]
[99,"Easy to use "]
[100,"Visually Clean (Modern)"]
[101,"Administration side - easy to use, simplicity"]
["Certificates"]
[102,"Certificate Templates"]
[103,"Ability to edit Certificate(s)"]
[104,"Ability to upload your own Certificate(s)",null,"Customized for TMLIRP, include logo"]
[105,"Ability to e-mail certificates to learners"]
[106,"Ability to download/print certificate, individuals and administrators"]
["Reports"]
[107,"Ad-hoc ",null,"For reports, please indicate what is available for client and for administrators"]
[108,"Custom fields are reportable",null,"For reports, please indicate what is available for client and for administrators"]
[109,"Learner can view a report or set of reports (defined by administrator)",null,"For reports, please indicate what is available for client and for administrators"]
[110,"Ability to schedule and email reports",null,"For reports, please indicate what is available for client and for administrators"]
[111,"Ability to report on question level data from surveys and assessments/tests",null,"For reports, please indicate what is available for client and for administrators"]
[112,"Wizards for reporting",null,"For reports, please indicate what is available for client and for administrators"]
[113,"Ability to schedule and SMS links to reports",null,"For reports, please indicate what is available for client and for administrators"]
[114,"Ability to add filters to view reports on screen",null,"For reports, please indicate what is available for client and for administrators"]
[115,"SQL Query ",null,"For reports, please indicate what is available for client and for administrators"]
[116,"Export data to a 3rd party database",null,"For reports, please indicate what is available for client and for administrators"]
[117,"Export data as .tab delaminated - .xls, html, csv, pdf",null,"For reports, please indicate what is available for client and for administrators"]
["Other Features"]
[118,"Require HTTPS://"]
[119,"24/7 support "]
[120,"Support based in home country (ex. Your company is in U.S. - support is based in U.S.)"]
[121,"Includes courses or a course library at no additional charge"]
[122,"256 AES security or higher"]
[123,"Virus and anti-malware checker on all uploads into the LMS"]
[124,"Daily backups"]
[125,"Continuous updates"]

{"sheet":"Tech Info from Vendor","index":4,"n_rows":32,"n_cols":2,"rows_kept":32,"cut":false,"hidden":false,"merged":[[0,1,0,2],[32,0,32,2],[7,0,7,2],[1,0,1,2],[16,0,16,2],[21,0,21,2],[26,0,26,2]]}
["Item #","Technical Information - To be Completed by the Vendor"]
["Technology and Platform Compatiability"]
[1,"Does your platform support mobile access?  If so, which mobile operating systems (iOS, Android) are supported?"]
[2,"Are there any browser compatibility requirements for accessing the platform (e.g., Chrome, Firefox, Safari)?"]
[3,"Does your platform integrate with existing learning management systems (LMS)?  If so, which ones?  What is the estimated cost of LMS integration?"]
[4,"Can your platform provide accessibility features (e.g., WCAG compliance, screen reader support)?   "]
[5,"Has the platform been tested for accessibility by users with disabilities (e.g., closed captions, transcripts)?"]
["Security and Data Privacy"]
[6,"What security protocols are in place to protect user data and prevent unauthorized access?"]
[7,"Do you comply with industry standards and regulations, such as GDPR, HIPAA, or SOC 2?"]
[8,"How is sensitive data (e.g., personal information, payment details) encrypted during transmission and storage?"]
[9,"Is sensitive data stored globally or within the United States?"]
[10,"Do you perform background checks on your employees?"]
[11,"What authentication methods are supported (e.g., Single Sign-On, Two-Factor Authentication)?"]
[12,"Do you have a disaster recovery plan in place in case of system failure?  If yes, provide a brief overview."]
[13,"What cyber security and data breach response insurance coverage do you have in place covering your operations?"]
["Infrastructure and Hosting"]
[14,"Where are your servers physically located and do you offer any content delivery network (CDN) capabilities to ensure fast global access?"]
[15,"How do you ensure high availability and reliability of your platform (e.g., uptime SLA, redundancy)?"]
[16,"What is the platform's backup and recovery process for training content and user data with regards to reliability?"]
[17,"Do you provide service-level agreements (SLAs) for uptime, support response times, and issue resolutions?"]
["Integration and Customization"]
[18,"Can your platform integrate with other third-party applications (e.g., CRM, HRIS, RMIS)?  If so, which ones?"]
[19,"Is there an API available for custom integrations or data exchange?"]
[20,"Can the platform be customized to reflect our branding (e.g., logos, colors, fonts)?"]
[21,"Can we add custom reporting or analytics to track learner progress or performance?"]
["Support and Maintenance"]
[22,"What technical support do you provide (e.g., 24/7 support, phone, email, live chat)?"]
[23,"What is your typical response time for support requests and how are issues escalated?"]
[24,"Do you offer training or documentation for administrators and users on using the platform?"]
[25,"How do you handle software bugs, platform updates, and ongoing maintenance?"]
[26,"What proactive measures do you take to monitor the platform's health and performance?"]

{"sheet":" Training&Support from Vendor","index":5,"n_rows":16,"n_cols":2,"rows_kept":16,"cut":false,"hidden":false,"merged":[[0,1,0,2]]}
["Item #","Training and Support - To Be Completed by Vendor"]
[1,"Do you provide free training?"]
[2,"If yes, what is included in the \"free\" training?  Please be specific.  For example:  We include a 30 page training guide, three webinars scheduled in conjunction with the client;  Face to Face training on-site at our location or at their location "]
[3,"If no (regarding training), what are the costs and what is included?  If you offer training beyond free, what is included in that type of training and what are the fees?"]
[4,"Do you have a training department?  If no, who will provide the training?"]
[5,"Community site/Knowledge portal?  If yes, what is included?\n"]
[6,"Is support included when client purchases system?  Is support only for one administrator or if the client has multiple administrators (do they receive support too)?  If an additional cost, please state fee(s)."]
[7,"How many people do you have in support?  Do you have support agents that speak any other languages besides English? If yes, list the languages. Where are your support agents based (i.e. located)?\n"]
[8,"What are your hours of phone support?"]
[9,"Do you offer support on the weekends?"]
[10,"Do you offer e-mail support?"]
[11,"Do you provide chat support?"]
[12,"Do you offer higher levels of support (fee based)?  If yes, what are the tiers and what are the fees?  What does the client receive for the tier(s) or higher level of support?"]
[13,"Do you offer end user support?  If yes, what are the fees and what is provided to each end user? Lastly, what are the times available for that support?"]
[14,"What is the ratio of support tickets to number of clients? "]
[15,"Do you provide email updates and reminders regarding new courses or courses that would be of interest to member administrators?"]

{"sheet":"Vendor Information","index":6,"n_rows":12,"n_cols":1,"rows_kept":12,"cut":false,"hidden":false,"merged":[[0,0,0,1],[4,0,4,1],[12,0,12,1]]}
["Vendor Information - To be Completed by the Vendor"]
["Company Name"]
["Address"]
["City, State, Zip"]
[]
["Year Company Founded"]
["Private or Public"]
["Parent Company (if applicable)"]
["Authorized Contact"]
["Phone"]
["Email"]
["Website"]

{"sheet":"Product Information","index":7,"n_rows":21,"n_cols":1,"rows_kept":21,"cut":false,"hidden":false,"merged":[[18,0,18,1],[19,0,19,1],[20,0,20,1],[0,0,0,1],[8,0,8,1],[15,0,15,1],[16,0,16,1],[17,0,17,1]]}
["Product Information - To be Completed by the Vendor"]
["Product Name"]
["Current Release"]
["Current Release Date"]
["Release Frequency"]
["Number of individual clients"]
["Planned Upgrades and Releases for next 6 months"]
[]
["Learning Experience - To be Completed by the Vendor"]
["Please describe your product road map"]
["Provide LMS implementation timeframe"]
["Provide LMS implementation process"]
["How long has your product been available?"]
[]
[]
["Please provide screenshots of the following: "]
["1. Learner home page - what they see every time they enter the system - their home. "]
["2.  Administrator home page - their main page, they see each time they enter admin side. "]
["3.  View of analytical data - any screen is fine "]
["4.  View of the reporting page, a screen of a report would be valuable"]
["5.  View of system on a mobile device, smartphone and/or tablet - what does the learner see on their device - front screen is fine "]

{"sheet":"DV-IDENTITY-0","index":8,"n_rows":8,"n_cols":256,"rows_kept":8,"cut":false,"hidden":true,"merged":[]}
[{"$f":"IF('Vendor Information'!1:1,\"AAAAAF/sjgA=\",0)","v":{"$error":"#VALUE!"}},{"$f":"AND('Vendor Information'!A1,\"AAAAAF/sjgE=\")","v":{"$error":"#VALUE!"}},{"$f":"AND('Vendor Information'!B1,\"AAAAAF/sjgI=\")","v":{"$error":"#VALUE!"}},{"$f":"AND('Vendor Information'!#REF!,\"AAAAAF/sjgM=\")","v":{"$error":"#REF!"}},{"$f":"IF('Vendor Information'!#REF!,\"AAAAAF/sjgQ=\",0)","v":{"$error":"#REF!"}},{"$f":"AND('Vendor Information'!#REF!,\"AAAAAF/sjgU=\")","v":{"$error":"#REF!"}},{"$f":"AND('Vendor Information'!#REF!,\"AAAAAF/sjgY=\")","v":{"$error":"#REF!"}},{"$f":"AND('Vendor Information'!#REF!,\"AAAAAF/sjgc=\")","v":{"$error":"#REF!"}},{"$f":"IF('Vendor Information'!2:2,\"AAAAAF/sjgg=\",0)","v":0},{"$f":"AND('Vendor Information'!A2,\"AAAAAF/sjgk=\")","v":{"$error":"#VALUE!"}},{"$f":"AND('Vendor Information'!B2,\"AAAAAF/sjgo=\")","v":{"$error":"#VALUE!"}},{"$f":"AND('Vendor Information'!#REF!,\"AAAAAF/sjgs=\")","v":{"$error":"#REF!"}},{"$f":"IF('Vendor Information'!3:3,\"AAAAAF/sjgw=\",0)","v":0},{"$f":"AND('Vendor Information'!A3,\"AAAAAF/sjg0=\")","v":{"$error":"#VALUE!"}},{"$f":"AND('Vendor Information'!B3,\"AAAAAF/sjg4=\")","v":{"$error":"#VALUE!"}},{"$f":"AND('Vendor Information'!#REF!,\"AAAAAF/sjg8=\")","v":{"$error":"#REF!"}},{"$f":"IF('Vendor Information'!4:4,\"AAAAAF/sjhA=\",0)","v":0},{"$f":"AND('Vendor Information'!A4,\"AAAAAF/sjhE=\")","v":{"$error":"#VALUE!"}},{"$f":"AND('Vendor Information'!B4,\"AAAAAF/sjhI=\")","v":{"$error":"#VALUE!"}},{"$f":"AND('Vendor Information'!#REF!,\"AAAAAF/sjhM=\")","v":{"$error":"#REF!"}},{"$f":"IF('Vendor Information'!5:5,\"AAAAAF/sjhQ=\",0)","v":0},{"$f":"AND('Vendor Information'!A5,\"AAAAAF/sjhU=\")","v":{"$error":"#VALUE!"}},{"$f":"AND('Vendor Information'!B5,\"AAAAAF/sjhY=\")","v":{"$error":"#VALUE!"}},{"$f":"AND('Vendor Information'!#REF!,\"AAAAAF/sjhc=\")","v":{"$error":"#REF!"}},{"$f":"IF('Vendor Information'!6:6,\"AAAAAF/sjhg=\",0)","v":0},{"$f":"AND('Vendor Information'!A6,\"AAAAAF/sjhk=\")","v":{"$error":"#VALUE!"}},{"$f":"AND('Vendor Information'!B6,\"AAAAAF/sjho=\")","v":{"$error":"#VALUE!"}},{"$f":"AND('Vendor Information'!#REF!,\"AAAAAF/sjhs=\")","v":{"$error":"#REF!"}},{"$f":"IF('Vendor Information'!7:7,\"AAAAAF/sjhw=\",0)","v":0},{"$f":"AND('Vendor Information'!A7,\"AAAAAF/sjh0=\")","v":{"$error":"#VALUE!"}},{"$f":"AND('Vendor Information'!B7,\"AAAAAF/sjh4=\")","v":{"$error":"#VALUE!"}},{"$f":"AND('Vendor Information'!#REF!,\"AAAAAF/sjh8=\")","v":{"$error":"#REF!"}},{"$f":"IF('Vendor Information'!8:8,\"AAAAAF/sjiA=\",0)","v":0},{"$f":"AND('Vendor Information'!A8,\"AAAAAF/sjiE=\")","v":{"$error":"#VALUE!"}},{"$f":"AND('Vendor Information'!B8,\"AAAAAF/sjiI=\")","v":{"$error":"#VALUE!"}},{"$f":"AND('Vendor Information'!#REF!,\"AAAAAF/sjiM=\")","v":{"$error":"#REF!"}},{"$f":"IF('Vendor Information'!9:9,\"AAAAAF/sjiQ=\",0)","v":0},{"$f":"AND('Vendor Information'!A9,\"AAAAAF/sjiU=\")","v":{"$error":"#VALUE!"}},{"$f":"AND('Vendor Information'!B9,\"AAAAAF/sjiY=\")","v":{"$error":"#VALUE!"}},{"$f":"AND('Vendor Information'!#REF!,\"AAAAAF/sjic=\")","v":{"$error":"#REF!"}},{"$f":"IF('Vendor Information'!10:10,\"AAAAAF/sjig=\",0)","v":0},{"$f":"AND('Vendor Information'!A10,\"AAAAAF/sjik=\")","v":{"$error":"#VALUE!"}},{"$f":"AND('Vendor Information'!B10,\"AAAAAF/sjio=\")","v":{"$error":"#VALUE!"}},{"$f":"AND('Vendor Information'!#REF!,\"AAAAAF/sjis=\")","v":{"$error":"#REF!"}},{"$f":"IF('Vendor Information'!#REF!,\"AAAAAF/sjiw=\",0)","v":{"$error":"#REF!"}},{"$f":"AND('Vendor Information'!#REF!,\"AAAAAF/sji0=\")","v":{"$error":"#REF!"}},{"$f":"AND('Vendor Information'!#REF!,\"AAAAAF/sji4=\")","v":{"$error":"#REF!"}},{"$f":"AND('Vendor Information'!#REF!,\"AAAAAF/sji8=\")","v":{"$error":"#REF!"}},{"$f":"IF('Vendor Information'!12:12,\"AAAAAF/sjjA=\",0)","v":0},{"$f":"AND('Vendor Information'!A12,\"AAAAAF/sjjE=\")","v":{"$error":"#VALUE!"}},{"$f":"AND('Vendor Information'!B12,\"AAAAAF/sjjI=\")","v":{"$error":"#VALUE!"}},{"$f":"AND('Vendor Information'!#REF!,\"AAAAAF/sjjM=\")","v":{"$error":"#REF!"}},{"$f":"IF('Vendor Information'!13:13,\"AAAAAF/sjjQ=\",0)","v":0},{"$f":"AND('Vendor Information'!A13,\"AAAAAF/sjjU=\")","v":{"$error":"#VALUE!"}},{"$f":"AND('Vendor Information'!B13,\"AAAAAF/sjjY=\")","v":{"$error":"#VALUE!"}},{"$f":"AND('Vendor Information'!#REF!,\"AAAAAF/sjjc=\")","v":{"$error":"#REF!"}},{"$f":"IF('Vendor Information'!#REF!,\"AAAAAF/sjjg=\",0)","v":{"$error":"#REF!"}},{"$f":"AND('Vendor Information'!#REF!,\"AAAAAF/sjjk=\")","v":{"$error":"#REF!"}},{"$f":"AND('Vendor Information'!#REF!,\"AAAAAF/sjjo=\")","v":{"$error":"#REF!"}},{"$f":"AND('Vendor Information'!#REF!,\"AAAAAF/sjjs=\")","v":{"$error":"#REF!"}},{"$f":"IF('Vendor Information'!#REF!,\"AAAAAF/sjjw=\",0)","v":{"$error":"#REF!"}},{"$f":"AND('Vendor Information'!#REF!,\"AAAAAF/sjj0=\")","v":{"$error":"#REF!"}},{"$f":"AND('Vendor Information'!#REF!,\"AAAAAF/sjj4=\")","v":{"$error":"#REF!"}},{"$f":"AND('Vendor Information'!#REF!,\"AAAAAF/sjj8=\")","v":{"$error":"#REF!"}},{"$f":"IF('Vendor Information'!#REF!,\"AAAAAF/sjkA=\",0)","v":{"$error":"#REF!"}},{"$f":"AND('Vendor Information'!#REF!,\"AAAAAF/sjkE=\")","v":{"$error":"#REF!"}},{"$f":"AND('Vendor Information'!#REF!,\"AAAAAF/sjkI=\")","v":{"$error":"#REF!"}},{"$f":"AND('Vendor Information'!#REF!,\"AAAAAF/sjkM=\")","v":{"$error":"#REF!"}},{"$f":"IF('Vendor Information'!#REF!,\"AAAAAF/sjkQ=\",0)","v":{"$error":"#REF!"}},{"$f":"AND('Vendor Information'!#REF!,\"AAAAAF/sjkU=\")","v":{"$error":"#REF!"}},{"$f":"AND('Vendor Information'!#REF!,\"AAAAAF/sjkY=\")","v":{"$error":"#REF!"}},{"$f":"AND('Vendor Information'!#REF!,\"AAAAAF/sjkc=\")","v":{"$error":"#REF!"}},{"$f":"IF('Vendor Information'!14:14,\"AAAAAF/sjkg=\",0)","v":0},{"$f":"AND('Vendor Information'!A14,\"AAAAAF/sjkk=\")","v":{"$error":"#VALUE!"}},{"$f":"AND('Vendor Information'!B14,\"AAAAAF/sjko=\")","v":{"$error":"#VALUE!"}},{"$f":"AND('Vendor Information'!#REF!,\"AAAAAF/sjks=\")","v":{"$error":"#REF!"}},{"$f":"IF('Vendor Information'!#REF!,\"AAAAAF/sjkw=\",0)","v":{"$error":"#REF!"}},{"$f":"AND('Vendor Information'!#REF!,\"AAAAAF/sjk0=\")","v":{"$error":"#REF!"}},{"$f":"AND('Vendor Information'!#REF!,\"AAAAAF/sjk4=\")","v":{"$error":"#REF!"}},{"$f":"AND('Vendor Information'!#REF!,\"AAAAAF/sjk8=\")","v":{"$error":"#REF!"}},{"$f":"IF('Vendor Information'!#REF!,\"AAAAAF/sjlA=\",0)","v":{"$error":"#REF!"}},{"$f":"AND('Vendor Information'!#REF!,\"AAAAAF/sjlE=\")","v":{"$error":"#REF!"}},{"$f":"AND('Vendor Information'!#REF!,\"AAAAAF/sjlI=\")","v":{"$error":"#REF!"}},{"$f":"AND('Vendor Information'!#REF!,\"AAAAAF/sjlM=\")","v":{"$error":"#REF!"}},{"$f":"IF('Vendor Information'!#REF!,\"AAAAAF/sjlQ=\",0)","v":{"$error":"#REF!"}},{"$f":"AND('Vendor Information'!#REF!,\"AAAAAF/sjlU=\")","v":{"$error":"#REF!"}},{"$f":"AND('Vendor Information'!#REF!,\"AAAAAF/sjlY=\")","v":{"$error":"#REF!"}},{"$f":"AND('Vendor Information'!#REF!,\"AAAAAF/sjlc=\")","v":{"$error":"#REF!"}},{"$f":"IF('Vendor Information'!#REF!,\"AAAAAF/sjlg=\",0)","v":{"$error":"#REF!"}},{"$f":"AND('Vendor Information'!#REF!,\"AAAAAF/sjlk=\")","v":{"$error":"#REF!"}},{"$f":"AND('Vendor Information'!#REF!,\"AAAAAF/sjlo=\")","v":{"$error":"#REF!"}},{"$f":"AND('Vendor Information'!#REF!,\"AAAAAF/sjls=\")","v":{"$error":"#REF!"}},{"$f":"IF('Vendor Information'!#REF!,\"AAAAAF/sjlw=\",0)","v":{"$error":"#REF!"}},{"$f":"AND('Vendor Information'!#REF!,\"AAAAAF/sjl0=\")","v":{"$error":"#REF!"}},{"$f":"AND('Vendor Information'!#REF!,\"AAAAAF/sjl4=\")","v":{"$error":"#REF!"}},{"$f":"AND('Vendor Information'!#REF!,\"AAAAAF/sjl8=\")","v":{"$error":"#REF!"}},{"$f":"IF('Vendor Information'!#REF!,\"AAAAAF/sjmA=\",0)","v":{"$error":"#REF!"}},{"$f":"AND('Vendor Information'!#REF!,\"AAAAAF/sjmE=\")","v":{"$error":"#REF!"}},{"$f":"AND('Vendor Information'!#REF!,\"AAAAAF/sjmI=\")","v":{"$error":"#REF!"}},{"$f":"AND('Vendor Information'!#REF!,\"AAAAAF/sjmM=\")","v":{"$error":"#REF!"}},{"$f":"IF('Vendor Information'!#REF!,\"AAAAAF/sjmQ=\",0)","v":{"$error":"#REF!"}},{"$f":"AND('Vendor Information'!#REF!,\"AAAAAF/sjmU=\")","v":{"$error":"#REF!"}},{"$f":"AND('Vendor Information'!#REF!,\"AAAAAF/sjmY=\")","v":{"$error":"#REF!"}},{"$f":"AND('Vendor Information'!#REF!,\"AAAAAF/sjmc=\")","v":{"$error":"#REF!"}},{"$f":"IF('Vendor Information'!#REF!,\"AAAAAF/sjmg=\",0)","v":{"$error":"#REF!"}},{"$f":"AND('Vendor Information'!#REF!,\"AAAAAF/sjmk=\")","v":{"$error":"#REF!"}},{"$f":"AND('Vendor Information'!#REF!,\"AAAAAF/sjmo=\")","v":{"$error":"#REF!"}},{"$f":"AND('Vendor Information'!#REF!,\"AAAAAF/sjms=\")","v":{"$error":"#REF!"}},{"$f":"IF('Vendor Information'!#REF!,\"AAAAAF/sjmw=\",0)","v":{"$error":"#REF!"}},{"$f":"AND('Vendor Information'!#REF!,\"AAAAAF/sjm0=\")","v":{"$error":"#REF!"}},{"$f":"AND('Vendor Information'!#REF!,\"AAAAAF/sjm4=\")","v":{"$error":"#REF!"}},{"$f":"AND('Vendor Information'!#REF!,\"AAAAAF/sjm8=\")","v":{"$error":"#REF!"}},{"$f":"IF('Vendor Information'!#REF!,\"AAAAAF/sjnA=\",0)","v":{"$error":"#REF!"}},{"$f":"AND('Vendor Information'!#REF!,\"AAAAAF/sjnE=\")","v":{"$error":"#REF!"}},{"$f":"AND('Vendor Information'!#REF!,\"AAAAAF/sjnI=\")","v":{"$error":"#REF!"}},{"$f":"AND('Vendor Information'!#REF!,\"AAAAAF/sjnM=\")","v":{"$error":"#REF!"}},{"$f":"IF('Vendor Information'!#REF!,\"AAAAAF/sjnQ=\",0)","v":{"$error":"#REF!"}},{"$f":"AND('Vendor Information'!#REF!,\"AAAAAF/sjnU=\")","v":{"$error":"#REF!"}},{"$f":"AND('Vendor Information'!#REF!,\"AAAAAF/sjnY=\")","v":{"$error":"#REF!"}},{"$f":"AND('Vendor Information'!#REF!,\"AAAAAF/sjnc=\")","v":{"$error":"#REF!"}},{"$f":"IF('Vendor Information'!#REF!,\"AAAAAF/sjng=\",0)","v":{"$error":"#REF!"}},{"$f":"AND('Vendor Information'!#REF!,\"AAAAAF/sjnk=\")","v":{"$error":"#REF!"}},{"$f":"AND('Vendor Information'!#REF!,\"AAAAAF/sjno=\")","v":{"$error":"#REF!"}},{"$f":"AND('Vendor Information'!#REF!,\"AAAAAF/sjns=\")","v":{"$error":"#REF!"}},{"$f":"IF('Vendor Information'!#REF!,\"AAAAAF/sjnw=\",0)","v":{"$error":"#REF!"}},{"$f":"AND('Vendor Information'!#REF!,\"AAAAAF/sjn0=\")","v":{"$error":"#REF!"}},{"$f":"AND('Vendor Information'!#REF!,\"AAAAAF/sjn4=\")","v":{"$error":"#REF!"}},{"$f":"AND('Vendor Information'!#REF!,\"AAAAAF/sjn8=\")","v":{"$error":"#REF!"}},{"$f":"IF('Vendor Information'!#REF!,\"AAAAAF/sjoA=\",0)","v":{"$error":"#REF!"}},{"$f":"AND('Vendor Information'!#REF!,\"AAAAAF/sjoE=\")","v":{"$error":"#REF!"}},{"$f":"AND('Vendor Information'!#REF!,\"AAAAAF/sjoI=\")","v":{"$error":"#REF!"}},{"$f":"AND('Vendor Information'!#REF!,\"AAAAAF/sjoM=\")","v":{"$error":"#REF!"}},{"$f":"IF('Vendor Information'!#REF!,\"AAAAAF/sjoQ=\",0)","v":{"$error":"#REF!"}},{"$f":"AND('Vendor Information'!#REF!,\"AAAAAF/sjoU=\")","v":{"$error":"#REF!"}},{"$f":"AND('Vendor Information'!#REF!,\"AAAAAF/sjoY=\")","v":{"$error":"#REF!"}},{"$f":"AND('Vendor Information'!#REF!,\"AAAAAF/sjoc=\")","v":{"$error":"#REF!"}},{"$f":"IF('Vendor Information'!A:A,\"AAAAAF/sjog=\",0)","v":{"$error":"#VALUE!"}},{"$f":"IF('Vendor Information'!B:B,\"AAAAAF/sjok=\",0)","v":0},{"$f":"IF('Vendor Information'!#REF!,\"AAAAAF/sjoo=\",0)","v":{"$error":"#REF!"}},{"$f":"IF('Product Information'!1:1,\"AAAAAF/sjos=\",0)","v":0},{"$f":"AND('Product Information'!A1,\"AAAAAF/sjow=\")","v":{"$error":"#VALUE!"}},{"$f":"AND('Product Information'!B1,\"AAAAAF/sjo0=\")","v":{"$error":"#VALUE!"}},{"$f":"AND('Product Information'!C1,\"AAAAAF/sjo4=\")","v":{"$error":"#VALUE!"}},{"$f":"AND('Product Information'!D1,\"AAAAAF/sjo8=\")","v":{"$error":"#VALUE!"}},{"$f":"IF('Product Information'!#REF!,\"AAAAAF/sjpA=\",0)","v":{"$error":"#REF!"}},{"$f":"AND('Product Information'!#REF!,\"AAAAAF/sjpE=\")","v":{"$error":"#REF!"}},{"$f":"AND('Product Information'!#REF!,\"AAAAAF/sjpI=\")","v":{"$error":"#REF!"}},{"$f":"AND('Product Information'!#REF!,\"AAAAAF/sjpM=\")","v":{"$error":"#REF!"}},{"$f":"AND('Product Information'!#REF!,\"AAAAAF/sjpQ=\")","v":{"$error":"#REF!"}},{"$f":"IF('Product Information'!2:2,\"AAAAAF/sjpU=\",0)","v":0},{"$f":"AND('Product Information'!A2,\"AAAAAF/sjpY=\")","v":{"$error":"#VALUE!"}},{"$f":"AND('Product Information'!B2,\"AAAAAF/sjpc=\")","v":{"$error":"#VALUE!"}},{"$f":"AND('Product Information'!C2,\"AAAAAF/sjpg=\")","v":{"$error":"#VALUE!"}},{"$f":"AND('Product Information'!D2,\"AAAAAF/sjpk=\")","v":{"$error":"#VALUE!"}},{"$f":"IF('Product Information'!3:3,\"AAAAAF/sjpo=\",0)","v":0},{"$f":"AND('Product Information'!A3,\"AAAAAF/sjps=\")","v":{"$error":"#VALUE!"}},{"$f":"AND('Product Information'!B3,\"AAAAAF/sjpw=\")","v":{"$error":"#VALUE!"}},{"$f":"AND('Product Information'!C3,\"AAAAAF/sjp0=\")","v":{"$error":"#VALUE!"}},{"$f":"AND('Product Information'!D3,\"AAAAAF/sjp4=\")","v":{"$error":"#VALUE!"}},{"$f":"IF('Product Information'!4:4,\"AAAAAF/sjp8=\",0)","v":0},{"$f":"AND('Product Information'!A4,\"AAAAAF/sjqA=\")","v":{"$error":"#VALUE!"}},{"$f":"AND('Product Information'!B4,\"AAAAAF/sjqE=\")","v":{"$error":"#VALUE!"}},{"$f":"AND('Product Information'!C4,\"AAAAAF/sjqI=\")","v":{"$error":"#VALUE!"}},{"$f":"AND('Product Information'!D4,\"AAAAAF/sjqM=\")","v":{"$error":"#VALUE!"}},{"$f":"IF('Product Information'!5:5,\"AAAAAF/sjqQ=\",0)","v":0},{"$f":"AND('Product Information'!A5,\"AAAAAF/sjqU=\")","v":{"$error":"#VALUE!"}},{"$f":"AND('Product Information'!B5,\"AAAAAF/sjqY=\")","v":{"$error":"#VALUE!"}},{"$f":"AND('Product Information'!C5,\"AAAAAF/sjqc=\")","v":{"$error":"#VALUE!"}},{"$f":"AND('Product Information'!D5,\"AAAAAF/sjqg=\")","v":{"$error":"#VALUE!"}},{"$f":"IF('Product Information'!6:6,\"AAAAAF/sjqk=\",0)","v":0},{"$f":"AND('Product Information'!A6,\"AAAAAF/sjqo=\")","v":{"$error":"#VALUE!"}},{"$f":"AND('Product Information'!B6,\"AAAAAF/sjqs=\")","v":{"$error":"#VALUE!"}},{"$f":"AND('Product Information'!C6,\"AAAAAF/sjqw=\")","v":{"$error":"#VALUE!"}},{"$f":"AND('Product Information'!D6,\"AAAAAF/sjq0=\")","v":{"$error":"#VALUE!"}},{"$f":"IF(#REF!,\"AAAAAF/sjq4=\",0)","v":{"$error":"#REF!"}},{"$f":"AND(#REF!,\"AAAAAF/sjq8=\")","v":{"$error":"#REF!"}},{"$f":"AND(#REF!,\"AAAAAF/sjrA=\")","v":{"$error":"#REF!"}},{"$f":"AND(#REF!,\"AAAAAF/sjrE=\")","v":{"$error":"#REF!"}},{"$f":"AND(#REF!,\"AAAAAF/sjrI=\")","v":{"$error":"#REF!"}},{"$f":"IF(#REF!,\"AAAAAF/sjrM=\",0)","v":{"$error":"#REF!"}},{"$f":"AND(#REF!,\"AAAAAF/sjrQ=\")","v":{"$error":"#REF!"}},{"$f":"AND(#REF!,\"AAAAAF/sjrU=\")","v":{"$error":"#REF!"}},{"$f":"AND(#REF!,\"AAAAAF/sjrY=\")","v":{"$error":"#REF!"}},{"$f":"AND(#REF!,\"AAAAAF/sjrc=\")","v":{"$error":"#REF!"}},{"$f":"IF('Product Information'!7:7,\"AAAAAF/sjrg=\",0)","v":0},{"$f":"AND('Product Information'!A7,\"AAAAAF/sjrk=\")","v":{"$error":"#VALUE!"}},{"$f":"AND('Product Information'!B7,\"AAAAAF/sjro=\")","v":{"$error":"#VALUE!"}},{"$f":"AND('Product Information'!C7,\"AAAAAF/sjrs=\")","v":{"$error":"#VALUE!"}},{"$f":"AND('Product Information'!D7,\"AAAAAF/sjrw=\")","v":{"$error":"#VALUE!"}},{"$f":"IF(#REF!,\"AAAAAF/sjr0=\",0)","v":{"$error":"#REF!"}},{"$f":"AND(#REF!,\"AAAAAF/sjr4=\")","v":{"$error":"#REF!"}},{"$f":"AND(#REF!,\"AAAAAF/sjr8=\")","v":{"$error":"#REF!"}},{"$f":"AND(#REF!,\"AAAAAF/sjsA=\")","v":{"$error":"#REF!"}},{"$f":"AND(#REF!,\"AAAAAF/sjsE=\")","v":{"$error":"#REF!"}},{"$f":"IF(#REF!,\"AAAAAF/sjsI=\",0)","v":{"$error":"#REF!"}},{"$f":"AND(#REF!,\"AAAAAF/sjsM=\")","v":{"$error":"#REF!"}},{"$f":"AND(#REF!,\"AAAAAF/sjsQ=\")","v":{"$error":"#REF!"}},{"$f":"AND(#REF!,\"AAAAAF/sjsU=\")","v":{"$error":"#REF!"}},{"$f":"AND(#REF!,\"AAAAAF/sjsY=\")","v":{"$error":"#REF!"}},{"$f":"IF(#REF!,\"AAAAAF/sjsc=\",0)","v":{"$error":"#REF!"}},{"$f":"AND(#REF!,\"AAAAAF/sjsg=\")","v":{"$error":"#REF!"}},{"$f":"AND(#REF!,\"AAAAAF/sjsk=\")","v":{"$error":"#REF!"}},{"$f":"AND(#REF!,\"AAAAAF/sjso=\")","v":{"$error":"#REF!"}},{"$f":"AND(#REF!,\"AAAAAF/sjss=\")","v":{"$error":"#REF!"}},{"$f":"IF(#REF!,\"AAAAAF/sjsw=\",0)","v":{"$error":"#REF!"}},{"$f":"AND(#REF!,\"AAAAAF/sjs0=\")","v":{"$error":"#REF!"}},{"$f":"AND(#REF!,\"AAAAAF/sjs4=\")","v":{"$error":"#REF!"}},{"$f":"AND(#REF!,\"AAAAAF/sjs8=\")","v":{"$error":"#REF!"}},{"$f":"AND(#REF!,\"AAAAAF/sjtA=\")","v":{"$error":"#REF!"}},{"$f":"IF(#REF!,\"AAAAAF/sjtE=\",0)","v":{"$error":"#REF!"}},{"$f":"AND(#REF!,\"AAAAAF/sjtI=\")","v":{"$error":"#REF!"}},{"$f":"AND(#REF!,\"AAAAAF/sjtM=\")","v":{"$error":"#REF!"}},{"$f":"AND(#REF!,\"AAAAAF/sjtQ=\")","v":{"$error":"#REF!"}},{"$f":"AND(#REF!,\"AAAAAF/sjtU=\")","v":{"$error":"#REF!"}},{"$f":"IF(#REF!,\"AAAAAF/sjtY=\",0)","v":{"$error":"#REF!"}},{"$f":"AND(#REF!,\"AAAAAF/sjtc=\")","v":{"$error":"#REF!"}},{"$f":"AND(#REF!,\"AAAAAF/sjtg=\")","v":{"$error":"#REF!"}},{"$f":"AND(#REF!,\"AAAAAF/sjtk=\")","v":{"$error":"#REF!"}},{"$f":"AND(#REF!,\"AAAAAF/sjto=\")","v":{"$error":"#REF!"}},{"$f":"IF(#REF!,\"AAAAAF/sjts=\",0)","v":{"$error":"#REF!"}},{"$f":"AND(#REF!,\"AAAAAF/sjtw=\")","v":{"$error":"#REF!"}},{"$f":"AND(#REF!,\"AAAAAF/sjt0=\")","v":{"$error":"#REF!"}},{"$f":"AND(#REF!,\"AAAAAF/sjt4=\")","v":{"$error":"#REF!"}},{"$f":"AND(#REF!,\"AAAAAF/sjt8=\")","v":{"$error":"#REF!"}},{"$f":"IF(#REF!,\"AAAAAF/sjuA=\",0)","v":{"$error":"#REF!"}},{"$f":"AND(#REF!,\"AAAAAF/sjuE=\")","v":{"$error":"#REF!"}},{"$f":"AND(#REF!,\"AAAAAF/sjuI=\")","v":{"$error":"#REF!"}},{"$f":"AND(#REF!,\"AAAAAF/sjuM=\")","v":{"$error":"#REF!"}},{"$f":"AND(#REF!,\"AAAAAF/sjuQ=\")","v":{"$error":"#REF!"}},{"$f":"IF(#REF!,\"AAAAAF/sjuU=\",0)","v":{"$error":"#REF!"}},{"$f":"AND(#REF!,\"AAAAAF/sjuY=\")","v":{"$error":"#REF!"}},{"$f":"AND(#REF!,\"AAAAAF/sjuc=\")","v":{"$error":"#REF!"}},{"$f":"AND(#REF!,\"AAAAAF/sjug=\")","v":{"$error":"#REF!"}},{"$f":"AND(#REF!,\"AAAAAF/sjuk=\")","v":{"$error":"#REF!"}},{"$f":"IF(#REF!,\"AAAAAF/sjuo=\",0)","v":{"$error":"#REF!"}},{"$f":"AND(#REF!,\"AAAAAF/sjus=\")","v":{"$error":"#REF!"}},{"$f":"AND(#REF!,\"AAAAAF/sjuw=\")","v":{"$error":"#REF!"}},{"$f":"AND(#REF!,\"AAAAAF/sju0=\")","v":{"$error":"#REF!"}},{"$f":"AND(#REF!,\"AAAAAF/sju4=\")","v":{"$error":"#REF!"}},{"$f":"IF(#REF!,\"AAAAAF/sju8=\",0)","v":{"$error":"#REF!"}},{"$f":"AND(#REF!,\"AAAAAF/sjvA=\")","v":{"$error":"#REF!"}},{"$f":"AND(#REF!,\"AAAAAF/sjvE=\")","v":{"$error":"#REF!"}},{"$f":"AND(#REF!,\"AAAAAF/sjvI=\")","v":{"$error":"#REF!"}},{"$f":"AND(#REF!,\"AAAAAF/sjvM=\")","v":{"$error":"#REF!"}},{"$f":"IF(#REF!,\"AAAAAF/sjvQ=\",0)","v":{"$error":"#REF!"}},{"$f":"AND(#REF!,\"AAAAAF/sjvU=\")","v":{"$error":"#REF!"}},{"$f":"AND(#REF!,\"AAAAAF/sjvY=\")","v":{"$error":"#REF!"}},{"$f":"AND(#REF!,\"AAAAAF/sjvc=\")","v":{"$error":"#REF!"}},{"$f":"AND(#REF!,\"AAAAAF/sjvg=\")","v":{"$error":"#REF!"}},{"$f":"IF(#REF!,\"AAAAAF/sjvk=\",0)","v":{"$error":"#REF!"}},{"$f":"AND(#REF!,\"AAAAAF/sjvo=\")","v":{"$error":"#REF!"}},{"$f":"AND(#REF!,\"AAAAAF/sjvs=\")","v":{"$error":"#REF!"}},{"$f":"AND(#REF!,\"AAAAAF/sjvw=\")","v":{"$error":"#REF!"}},{"$f":"AND(#REF!,\"AAAAAF/sjv0=\")","v":{"$error":"#REF!"}},{"$f":"IF(#REF!,\"AAAAAF/sjv4=\",0)","v":{"$error":"#REF!"}},{"$f":"AND(#REF!,\"AAAAAF/sjv8=\")","v":{"$error":"#REF!"}}]
[{"$f":"AND(#REF!,\"AAAAAHy2PQA=\")","v":{"$error":"#REF!"}},{"$f":"AND(#REF!,\"AAAAAHy2PQE=\")","v":{"$error":"#REF!"}},{"$f":"AND(#REF!,\"AAAAAHy2PQI=\")","v":{"$error":"#REF!"}},{"$f":"IF(#REF!,\"AAAAAHy2PQM=\",0)","v":{"$error":"#REF!"}},{"$f":"AND(#REF!,\"AAAAAHy2PQQ=\")","v":{"$error":"#REF!"}},{"$f":"AND(#REF!,\"AAAAAHy2PQU=\")","v":{"$error":"#REF!"}},{"$f":"AND(#REF!,\"AAAAAHy2PQY=\")","v":{"$error":"#REF!"}},{"$f":"AND(#REF!,\"AAAAAHy2PQc=\")","v":{"$error":"#REF!"}},{"$f":"IF(#REF!,\"AAAAAHy2PQg=\",0)","v":{"$error":"#REF!"}},{"$f":"AND(#REF!,\"AAAAAHy2PQk=\")","v":{"$error":"#REF!"}},{"$f":"AND(#REF!,\"AAAAAHy2PQo=\")","v":{"$error":"#REF!"}},{"$f":"AND(#REF!,\"AAAAAHy2PQs=\")","v":{"$error":"#REF!"}},{"$f":"AND(#REF!,\"AAAAAHy2PQw=\")","v":{"$error":"#REF!"}},{"$f":"IF(#REF!,\"AAAAAHy2PQ0=\",0)","v":{"$error":"#REF!"}},{"$f":"AND(#REF!,\"AAAAAHy2PQ4=\")","v":{"$error":"#REF!"}},{"$f":"AND(#REF!,\"AAAAAHy2PQ8=\")","v":{"$error":"#REF!"}},{"$f":"AND(#REF!,\"AAAAAHy2PRA=\")","v":{"$error":"#REF!"}},{"$f":"AND(#REF!,\"AAAAAHy2PRE=\")","v":{"$error":"#REF!"}},{"$f":"IF(#REF!,\"AAAAAHy2PRI=\",0)","v":{"$error":"#REF!"}},{"$f":"AND(#REF!,\"AAAAAHy2PRM=\")","v":{"$error":"#REF!"}},{"$f":"AND(#REF!,\"AAAAAHy2PRQ=\")","v":{"$error":"#REF!"}},{"$f":"AND(#REF!,\"AAAAAHy2PRU=\")","v":{"$error":"#REF!"}},{"$f":"AND(#REF!,\"AAAAAHy2PRY=\")","v":{"$error":"#REF!"}},{"$f":"IF(#REF!,\"AAAAAHy2PRc=\",0)","v":{"$error":"#REF!"}},{"$f":"AND(#REF!,\"AAAAAHy2PRg=\")","v":{"$error":"#REF!"}},{"$f":"AND(#REF!,\"AAAAAHy2PRk=\")","v":{"$error":"#REF!"}},{"$f":"AND(#REF!,\"AAAAAHy2PRo=\")","v":{"$error":"#REF!"}},{"$f":"AND(#REF!,\"AAAAAHy2PRs=\")","v":{"$error":"#REF!"}},{"$f":"IF(#REF!,\"AAAAAHy2PRw=\",0)","v":{"$error":"#REF!"}},{"$f":"AND(#REF!,\"AAAAAHy2PR0=\")","v":{"$error":"#REF!"}},{"$f":"AND(#REF!,\"AAAAAHy2PR4=\")","v":{"$error":"#REF!"}},{"$f":"AND(#REF!,\"AAAAAHy2PR8=\")","v":{"$error":"#REF!"}},{"$f":"AND(#REF!,\"AAAAAHy2PSA=\")","v":{"$error":"#REF!"}},{"$f":"IF(#REF!,\"AAAAAHy2PSE=\",0)","v":{"$error":"#REF!"}},{"$f":"AND(#REF!,\"AAAAAHy2PSI=\")","v":{"$error":"#REF!"}},{"$f":"AND(#REF!,\"AAAAAHy2PSM=\")","v":{"$error":"#REF!"}},{"$f":"AND(#REF!,\"AAAAAHy2PSQ=\")","v":{"$error":"#REF!"}},{"$f":"AND(#REF!,\"AAAAAHy2PSU=\")","v":{"$error":"#REF!"}},{"$f":"IF(#REF!,\"AAAAAHy2PSY=\",0)","v":{"$error":"#REF!"}},{"$f":"AND(#REF!,\"AAAAAHy2PSc=\")","v":{"$error":"#REF!"}},{"$f":"AND(#REF!,\"AAAAAHy2PSg=\")","v":{"$error":"#REF!"}},{"$f":"AND(#REF!,\"AAAAAHy2PSk=\")","v":{"$error":"#REF!"}},{"$f":"AND(#REF!,\"AAAAAHy2PSo=\")","v":{"$error":"#REF!"}},{"$f":"IF(#REF!,\"AAAAAHy2PSs=\",0)","v":{"$error":"#REF!"}},{"$f":"AND(#REF!,\"AAAAAHy2PSw=\")","v":{"$error":"#REF!"}},{"$f":"AND(#REF!,\"AAAAAHy2PS0=\")","v":{"$error":"#REF!"}},{"$f":"AND(#REF!,\"AAAAAHy2PS4=\")","v":{"$error":"#REF!"}},{"$f":"AND(#REF!,\"AAAAAHy2PS8=\")","v":{"$error":"#REF!"}},{"$f":"IF(#REF!,\"AAAAAHy2PTA=\",0)","v":{"$error":"#REF!"}},{"$f":"AND(#REF!,\"AAAAAHy2PTE=\")","v":{"$error":"#REF!"}},{"$f":"AND(#REF!,\"AAAAAHy2PTI=\")","v":{"$error":"#REF!"}},{"$f":"AND(#REF!,\"AAAAAHy2PTM=\")","v":{"$error":"#REF!"}},{"$f":"AND(#REF!,\"AAAAAHy2PTQ=\")","v":{"$error":"#REF!"}},{"$f":"IF(#REF!,\"AAAAAHy2PTU=\",0)","v":{"$error":"#REF!"}},{"$f":"AND(#REF!,\"AAAAAHy2PTY=\")","v":{"$error":"#REF!"}},{"$f":"AND(#REF!,\"AAAAAHy2PTc=\")","v":{"$error":"#REF!"}},{"$f":"AND(#REF!,\"AAAAAHy2PTg=\")","v":{"$error":"#REF!"}},{"$f":"AND(#REF!,\"AAAAAHy2PTk=\")","v":{"$error":"#REF!"}},{"$f":"IF(#REF!,\"AAAAAHy2PTo=\",0)","v":{"$error":"#REF!"}},{"$f":"AND(#REF!,\"AAAAAHy2PTs=\")","v":{"$error":"#REF!"}},{"$f":"AND(#REF!,\"AAAAAHy2PTw=\")","v":{"$error":"#REF!"}},{"$f":"AND(#REF!,\"AAAAAHy2PT0=\")","v":{"$error":"#REF!"}},{"$f":"AND(#REF!,\"AAAAAHy2PT4=\")","v":{"$error":"#REF!"}},{"$f":"IF(#REF!,\"AAAAAHy2PT8=\",0)","v":{"$error":"#REF!"}},{"$f":"AND(#REF!,\"AAAAAHy2PUA=\")","v":{"$error":"#REF!"}},{"$f":"AND(#REF!,\"AAAAAHy2PUE=\")","v":{"$error":"#REF!"}},{"$f":"AND(#REF!,\"AAAAAHy2PUI=\")","v":{"$error":"#REF!"}},{"$f":"AND(#REF!,\"AAAAAHy2PUM=\")","v":{"$error":"#REF!"}},{"$f":"IF(#REF!,\"AAAAAHy2PUQ=\",0)","v":{"$error":"#REF!"}},{"$f":"AND(#REF!,\"AAAAAHy2PUU=\")","v":{"$error":"#REF!"}},{"$f":"AND(#REF!,\"AAAAAHy2PUY=\")","v":{"$error":"#REF!"}},{"$f":"AND(#REF!,\"AAAAAHy2PUc=\")","v":{"$error":"#REF!"}},{"$f":"AND(#REF!,\"AAAAAHy2PUg=\")","v":{"$error":"#REF!"}},{"$f":"IF(#REF!,\"AAAAAHy2PUk=\",0)","v":{"$error":"#REF!"}},{"$f":"AND(#REF!,\"AAAAAHy2PUo=\")","v":{"$error":"#REF!"}},{"$f":"AND(#REF!,\"AAAAAHy2PUs=\")","v":{"$error":"#REF!"}},{"$f":"AND(#REF!,\"AAAAAHy2PUw=\")","v":{"$error":"#REF!"}},{"$f":"AND(#REF!,\"AAAAAHy2PU0=\")","v":{"$error":"#REF!"}},{"$f":"IF(#REF!,\"AAAAAHy2PU4=\",0)","v":{"$error":"#REF!"}},{"$f":"AND(#REF!,\"AAAAAHy2PU8=\")","v":{"$error":"#REF!"}},{"$f":"AND(#REF!,\"AAAAAHy2PVA=\")","v":{"$error":"#REF!"}},{"$f":"AND(#REF!,\"AAAAAHy2PVE=\")","v":{"$error":"#REF!"}},{"$f":"AND(#REF!,\"AAAAAHy2PVI=\")","v":{"$error":"#REF!"}},{"$f":"IF(#REF!,\"AAAAAHy2PVM=\",0)","v":{"$error":"#REF!"}},{"$f":"AND(#REF!,\"AAAAAHy2PVQ=\")","v":{"$error":"#REF!"}},{"$f":"AND(#REF!,\"AAAAAHy2PVU=\")","v":{"$error":"#REF!"}},{"$f":"AND(#REF!,\"AAAAAHy2PVY=\")","v":{"$error":"#REF!"}},{"$f":"AND(#REF!,\"AAAAAHy2PVc=\")","v":{"$error":"#REF!"}},{"$f":"IF(#REF!,\"AAAAAHy2PVg=\",0)","v":{"$error":"#REF!"}},{"$f":"AND(#REF!,\"AAAAAHy2PVk=\")","v":{"$error":"#REF!"}},{"$f":"AND(#REF!,\"AAAAAHy2PVo=\")","v":{"$error":"#REF!"}},{"$f":"AND(#REF!,\"AAAAAHy2PVs=\")","v":{"$error":"#REF!"}},{"$f":"AND(#REF!,\"AAAAAHy2PVw=\")","v":{"$error":"#REF!"}},{"$f":"IF(#REF!,\"AAAAAHy2PV0=\",0)","v":{"$error":"#REF!"}},{"$f":"AND(#REF!,\"AAAAAHy2PV4=\")","v":{"$error":"#REF!"}},{"$f":"AND(#REF!,\"AAAAAHy2PV8=\")","v":{"$error":"#REF!"}},{"$f":"AND(#REF!,\"AAAAAHy2PWA=\")","v":{"$error":"#REF!"}},{"$f":"AND(#REF!,\"AAAAAHy2PWE=\")","v":{"$error":"#REF!"}},{"$f":"IF(#REF!,\"AAAAAHy2PWI=\",0)","v":{"$error":"#REF!"}},{"$f":"AND(#REF!,\"AAAAAHy2PWM=\")","v":{"$error":"#REF!"}},{"$f":"AND(#REF!,\"AAAAAHy2PWQ=\")","v":{"$error":"#REF!"}},{"$f":"AND(#REF!,\"AAAAAHy2PWU=\")","v":{"$error":"#REF!"}},{"$f":"AND(#REF!,\"AAAAAHy2PWY=\")","v":{"$error":"#REF!"}},{"$f":"IF(#REF!,\"AAAAAHy2PWc=\",0)","v":{"$error":"#REF!"}},{"$f":"AND(#REF!,\"AAAAAHy2PWg=\")","v":{"$error":"#REF!"}},{"$f":"AND(#REF!,\"AAAAAHy2PWk=\")","v":{"$error":"#REF!"}},{"$f":"AND(#REF!,\"AAAAAHy2PWo=\")","v":{"$error":"#REF!"}},{"$f":"AND(#REF!,\"AAAAAHy2PWs=\")","v":{"$error":"#REF!"}},{"$f":"IF(#REF!,\"AAAAAHy2PWw=\",0)","v":{"$error":"#REF!"}},{"$f":"AND(#REF!,\"AAAAAHy2PW0=\")","v":{"$error":"#REF!"}},{"$f":"AND(#REF!,\"AAAAAHy2PW4=\")","v":{"$error":"#REF!"}},{"$f":"AND(#REF!,\"AAAAAHy2PW8=\")","v":{"$error":"#REF!"}},{"$f":"AND(#REF!,\"AAAAAHy2PXA=\")","v":{"$error":"#REF!"}},{"$f":"IF(#REF!,\"AAAAAHy2PXE=\",0)","v":{"$error":"#REF!"}},{"$f":"IF(#REF!,\"AAAAAHy2PXI=\",0)","v":{"$error":"#REF!"}},{"$f":"IF(#REF!,\"AAAAAHy2PXM=\",0)","v":{"$error":"#REF!"}},{"$f":"IF(#REF!,\"AAAAAHy2PXQ=\",0)","v":{"$error":"#REF!"}},{"$f":"IF(#REF!,\"AAAAAHy2PXU=\",0)","v":{"$error":"#REF!"}},{"$f":"AND(#REF!,\"AAAAAHy2PXY=\")","v":{"$error":"#REF!"}},{"$f":"AND(#REF!,\"AAAAAHy2PXc=\")","v":{"$error":"#REF!"}},{"$f":"AND(#REF!,\"AAAAAHy2PXg=\")","v":{"$error":"#REF!"}},{"$f":"AND(#REF!,\"AAAAAHy2PXk=\")","v":{"$error":"#REF!"}},{"$f":"IF(#REF!,\"AAAAAHy2PXo=\",0)","v":{"$error":"#REF!"}},{"$f":"AND(#REF!,\"AAAAAHy2PXs=\")","v":{"$error":"#REF!"}},{"$f":"AND(#REF!,\"AAAAAHy2PXw=\")","v":{"$error":"#REF!"}},{"$f":"AND(#REF!,\"AAAAAHy2PX0=\")","v":{"$error":"#REF!"}},{"$f":"AND(#REF!,\"AAAAAHy2PX4=\")","v":{"$error":"#REF!"}},{"$f":"IF(#REF!,\"AAAAAHy2PX8=\",0)","v":{"$error":"#REF!"}},{"$f":"AND(#REF!,\"AAAAAHy2PYA=\")","v":{"$error":"#REF!"}},{"$f":"AND(#REF!,\"AAAAAHy2PYE=\")","v":{"$error":"#REF!"}},{"$f":"AND(#REF!,\"AAAAAHy2PYI=\")","v":{"$error":"#REF!"}},{"$f":"AND(#REF!,\"AAAAAHy2PYM=\")","v":{"$error":"#REF!"}},{"$f":"IF(#REF!,\"AAAAAHy2PYQ=\",0)","v":{"$error":"#REF!"}},{"$f":"AND(#REF!,\"AAAAAHy2PYU=\")","v":{"$error":"#REF!"}},{"$f":"IF(#REF!,\"AAAAAHy2PYY=\",0)","v":{"$error":"#REF!"}},{"$f":"AND(#REF!,\"AAAAAHy2PYc=\")","v":{"$error":"#REF!"}},{"$f":"IF(#REF!,\"AAAAAHy2PYg=\",0)","v":{"$error":"#REF!"}},{"$f":"AND(#REF!,\"AAAAAHy2PYk=\")","v":{"$error":"#REF!"}},{"$f":"IF(#REF!,\"AAAAAHy2PYo=\",0)","v":{"$error":"#REF!"}},{"$f":"AND(#REF!,\"AAAAAHy2PYs=\")","v":{"$error":"#REF!"}},{"$f":"IF(#REF!,\"AAAAAHy2PYw=\",0)","v":{"$error":"#REF!"}},{"$f":"AND(#REF!,\"AAAAAHy2PY0=\")","v":{"$error":"#REF!"}},{"$f":"IF(#REF!,\"AAAAAHy2PY4=\",0)","v":{"$error":"#REF!"}},{"$f":"AND(#REF!,\"AAAAAHy2PY8=\")","v":{"$error":"#REF!"}},{"$f":"IF(#REF!,\"AAAAAHy2PZA=\",0)","v":{"$error":"#REF!"}},{"$f":"AND(#REF!,\"AAAAAHy2PZE=\")","v":{"$error":"#REF!"}},{"$f":"IF(#REF!,\"AAAAAHy2PZI=\",0)","v":{"$error":"#REF!"}},{"$f":"AND(#REF!,\"AAAAAHy2PZM=\")","v":{"$error":"#REF!"}},{"$f":"IF(#REF!,\"AAAAAHy2PZQ=\",0)","v":{"$error":"#REF!"}},{"$f":"AND(#REF!,\"AAAAAHy2PZU=\")","v":{"$error":"#REF!"}},{"$f":"IF(#REF!,\"AAAAAHy2PZY=\",0)","v":{"$error":"#REF!"}},{"$f":"AND(#REF!,\"AAAAAHy2PZc=\")","v":{"$error":"#REF!"}},{"$f":"IF(#REF!,\"AAAAAHy2PZg=\",0)","v":{"$error":"#REF!"}},{"$f":"AND(#REF!,\"AAAAAHy2PZk=\")","v":{"$error":"#REF!"}},{"$f":"IF(#REF!,\"AAAAAHy2PZo=\",0)","v":{"$error":"#REF!"}},{"$f":"AND(#REF!,\"AAAAAHy2PZs=\")","v":{"$error":"#REF!"}},{"$f":"IF(#REF!,\"AAAAAHy2PZw=\",0)","v":{"$error":"#REF!"}},{"$f":"AND(#REF!,\"AAAAAHy2PZ0=\")","v":{"$error":"#REF!"}},{"$f":"IF(#REF!,\"AAAAAHy2PZ4=\",0)","v":{"$error":"#REF!"}},{"$f":"AND(#REF!,\"AAAAAHy2PZ8=\")","v":{"$error":"#REF!"}},{"$f":"IF(#REF!,\"AAAAAHy2PaA=\",0)","v":{"$error":"#REF!"}},{"$f":"AND(#REF!,\"AAAAAHy2PaE=\")","v":{"$error":"#REF!"}},{"$f":"IF(#REF!,\"AAAAAHy2PaI=\",0)","v":{"$error":"#REF!"}},{"$f":"AND(#REF!,\"AAAAAHy2PaM=\")","v":{"$error":"#REF!"}},{"$f":"IF(#REF!,\"AAAAAHy2PaQ=\",0)","v":{"$error":"#REF!"}},{"$f":"IF(#REF!,\"AAAAAHy2PaU=\",0)","v":{"$error":"#REF!"}},{"$f":"IF(#REF!,\"AAAAAHy2PaY=\",0)","v":{"$error":"#REF!"}},{"$f":"IF(#REF!,\"AAAAAHy2Pac=\",0)","v":{"$error":"#REF!"}},{"$f":"IF(#REF!,\"AAAAAHy2Pag=\",0)","v":{"$error":"#REF!"}},{"$f":"AND(#REF!,\"AAAAAHy2Pak=\")","v":{"$error":"#REF!"}},{"$f":"AND(#REF!,\"AAAAAHy2Pao=\")","v":{"$error":"#REF!"}},{"$f":"AND(#REF!,\"AAAAAHy2Pas=\")","v":{"$error":"#REF!"}},{"$f":"AND(#REF!,\"AAAAAHy2Paw=\")","v":{"$error":"#REF!"}},{"$f":"AND(#REF!,\"AAAAAHy2Pa0=\")","v":{"$error":"#REF!"}},{"$f":"AND(#REF!,\"AAAAAHy2Pa4=\")","v":{"$error":"#REF!"}},{"$f":"AND(#REF!,\"AAAAAHy2Pa8=\")","v":{"$error":"#REF!"}},{"$f":"AND(#REF!,\"AAAAAHy2PbA=\")","v":{"$error":"#REF!"}},{"$f":"IF(#REF!,\"AAAAAHy2PbE=\",0)","v":{"$error":"#REF!"}},{"$f":"AND(#REF!,\"AAAAAHy2PbI=\")","v":{"$error":"#REF!"}},{"$f":"AND(#REF!,\"AAAAAHy2PbM=\")","v":{"$error":"#REF!"}},{"$f":"AND(#REF!,\"AAAAAHy2PbQ=\")","v":{"$error":"#REF!"}},{"$f":"AND(#REF!,\"AAAAAHy2PbU=\")","v":{"$error":"#REF!"}},{"$f":"AND(#REF!,\"AAAAAHy2PbY=\")","v":{"$error":"#REF!"}},{"$f":"AND(#REF!,\"AAAAAHy2Pbc=\")","v":{"$error":"#REF!"}},{"$f":"AND(#REF!,\"AAAAAHy2Pbg=\")","v":{"$error":"#REF!"}},{"$f":"AND(#REF!,\"AAAAAHy2Pbk=\")","v":{"$error":"#REF!"}},{"$f":"IF(#REF!,\"AAAAAHy2Pbo=\",0)","v":{"$error":"#REF!"}},{"$f":"AND(#REF!,\"AAAAAHy2Pbs=\")","v":{"$error":"#REF!"}},{"$f":"AND(#REF!,\"AAAAAHy2Pbw=\")","v":{"$error":"#REF!"}},{"$f":"AND(#REF!,\"AAAAAHy2Pb0=\")","v":{"$error":"#REF!"}},{"$f":"AND(#REF!,\"AAAAAHy2Pb4=\")","v":{"$error":"#REF!"}},{"$f":"AND(#REF!,\"AAAAAHy2Pb8=\")","v":{"$error":"#REF!"}},{"$f":"AND(#REF!,\"AAAAAHy2PcA=\")","v":{"$error":"#REF!"}},{"$f":"AND(#REF!,\"AAAAAHy2PcE=\")","v":{"$error":"#REF!"}},{"$f":"AND(#REF!,\"AAAAAHy2PcI=\")","v":{"$error":"#REF!"}},{"$f":"IF(#REF!,\"AAAAAHy2PcM=\",0)","v":{"$error":"#REF!"}},{"$f":"AND(#REF!,\"AAAAAHy2PcQ=\")","v":{"$error":"#REF!"}},{"$f":"AND(#REF!,\"AAAAAHy2PcU=\")","v":{"$error":"#REF!"}},{"$f":"AND(#REF!,\"AAAAAHy2PcY=\")","v":{"$error":"#REF!"}},{"$f":"AND(#REF!,\"AAAAAHy2Pcc=\")","v":{"$error":"#REF!"}},{"$f":"AND(#REF!,\"AAAAAHy2Pcg=\")","v":{"$error":"#REF!"}},{"$f":"AND(#REF!,\"AAAAAHy2Pck=\")","v":{"$error":"#REF!"}},{"$f":"AND(#REF!,\"AAAAAHy2Pco=\")","v":{"$error":"#REF!"}},{"$f":"AND(#REF!,\"AAAAAHy2Pcs=\")","v":{"$error":"#REF!"}},{"$f":"IF(#REF!,\"AAAAAHy2Pcw=\",0)","v":{"$error":"#REF!"}},{"$f":"AND(#REF!,\"AAAAAHy2Pc0=\")","v":{"$error":"#REF!"}},{"$f":"AND(#REF!,\"AAAAAHy2Pc4=\")","v":{"$error":"#REF!"}},{"$f":"AND(#REF!,\"AAAAAHy2Pc8=\")","v":{"$error":"#REF!"}},{"$f":"AND(#REF!,\"AAAAAHy2PdA=\")","v":{"$error":"#REF!"}},{"$f":"AND(#REF!,\"AAAAAHy2PdE=\")","v":{"$error":"#REF!"}},{"$f":"AND(#REF!,\"AAAAAHy2PdI=\")","v":{"$error":"#REF!"}},{"$f":"AND(#REF!,\"AAAAAHy2PdM=\")","v":{"$error":"#REF!"}},{"$f":"AND(#REF!,\"AAAAAHy2PdQ=\")","v":{"$error":"#REF!"}},{"$f":"IF(#REF!,\"AAAAAHy2PdU=\",0)","v":{"$error":"#REF!"}},{"$f":"AND(#REF!,\"AAAAAHy2PdY=\")","v":{"$error":"#REF!"}},{"$f":"AND(#REF!,\"AAAAAHy2Pdc=\")","v":{"$error":"#REF!"}},{"$f":"AND(#REF!,\"AAAAAHy2Pdg=\")","v":{"$error":"#REF!"}},{"$f":"AND(#REF!,\"AAAAAHy2Pdk=\")","v":{"$error":"#REF!"}},{"$f":"AND(#REF!,\"AAAAAHy2Pdo=\")","v":{"$error":"#REF!"}},{"$f":"AND(#REF!,\"AAAAAHy2Pds=\")","v":{"$error":"#REF!"}},{"$f":"AND(#REF!,\"AAAAAHy2Pdw=\")","v":{"$error":"#REF!"}},{"$f":"AND(#REF!,\"AAAAAHy2Pd0=\")","v":{"$error":"#REF!"}},{"$f":"IF(#REF!,\"AAAAAHy2Pd4=\",0)","v":{"$error":"#REF!"}},{"$f":"AND(#REF!,\"AAAAAHy2Pd8=\")","v":{"$error":"#REF!"}},{"$f":"AND(#REF!,\"AAAAAHy2PeA=\")","v":{"$error":"#REF!"}},{"$f":"AND(#REF!,\"AAAAAHy2PeE=\")","v":{"$error":"#REF!"}},{"$f":"AND(#REF!,\"AAAAAHy2PeI=\")","v":{"$error":"#REF!"}},{"$f":"AND(#REF!,\"AAAAAHy2PeM=\")","v":{"$error":"#REF!"}},{"$f":"AND(#REF!,\"AAAAAHy2PeQ=\")","v":{"$error":"#REF!"}},{"$f":"AND(#REF!,\"AAAAAHy2PeU=\")","v":{"$error":"#REF!"}},{"$f":"AND(#REF!,\"AAAAAHy2PeY=\")","v":{"$error":"#REF!"}},{"$f":"IF(#REF!,\"AAAAAHy2Pec=\",0)","v":{"$error":"#REF!"}},{"$f":"AND(#REF!,\"AAAAAHy2Peg=\")","v":{"$error":"#REF!"}},{"$f":"AND(#REF!,\"AAAAAHy2Pek=\")","v":{"$error":"#REF!"}},{"$f":"AND(#REF!,\"AAAAAHy2Peo=\")","v":{"$error":"#REF!"}},{"$f":"AND(#REF!,\"AAAAAHy2Pes=\")","v":{"$error":"#REF!"}},{"$f":"AND(#REF!,\"AAAAAHy2Pew=\")","v":{"$error":"#REF!"}},{"$f":"AND(#REF!,\"AAAAAHy2Pe0=\")","v":{"$error":"#REF!"}},{"$f":"AND(#REF!,\"AAAAAHy2Pe4=\")","v":{"$error":"#REF!"}},{"$f":"AND(#REF!,\"AAAAAHy2Pe8=\")","v":{"$error":"#REF!"}},{"$f":"IF(#REF!,\"AAAAAHy2PfA=\",0)","v":{"$error":"#REF!"}},{"$f":"AND(#REF!,\"AAAAAHy2PfE=\")","v":{"$error":"#REF!"}},{"$f":"AND(#REF!,\"AAAAAHy2PfI=\")","v":{"$error":"#REF!"}},{"$f":"AND(#REF!,\"AAAAAHy2PfM=\")","v":{"$error":"#REF!"}},{"$f":"AND(#REF!,\"AAAAAHy2PfQ=\")","v":{"$error":"#REF!"}},{"$f":"AND(#REF!,\"AAAAAHy2PfU=\")","v":{"$error":"#REF!"}},{"$f":"AND(#REF!,\"AAAAAHy2PfY=\")","v":{"$error":"#REF!"}},{"$f":"AND(#REF!,\"AAAAAHy2Pfc=\")","v":{"$error":"#REF!"}},{"$f":"AND(#REF!,\"AAAAAHy2Pfg=\")","v":{"$error":"#REF!"}},{"$f":"IF(#REF!,\"AAAAAHy2Pfk=\",0)","v":{"$error":"#REF!"}},{"$f":"AND(#REF!,\"AAAAAHy2Pfo=\")","v":{"$error":"#REF!"}},{"$f":"AND(#REF!,\"AAAAAHy2Pfs=\")","v":{"$error":"#REF!"}},{"$f":"AND(#REF!,\"AAAAAHy2Pfw=\")","v":{"$error":"#REF!"}},{"$f":"AND(#REF!,\"AAAAAHy2Pf0=\")","v":{"$error":"#REF!"}},{"$f":"AND(#REF!,\"AAAAAHy2Pf4=\")","v":{"$error":"#REF!"}},{"$f":"AND(#REF!,\"AAAAAHy2Pf8=\")","v":{"$error":"#REF!"}}]
[{"$f":"AND(#REF!,\"AAAAAF+0/wA=\")","v":{"$error":"#REF!"}},{"$f":"AND(#REF!,\"AAAAAF+0/wE=\")","v":{"$error":"#REF!"}},{"$f":"IF(#REF!,\"AAAAAF+0/wI=\",0)","v":{"$error":"#REF!"}},{"$f":"AND(#REF!,\"AAAAAF+0/wM=\")","v":{"$error":"#REF!"}},{"$f":"AND(#REF!,\"AAAAAF+0/wQ=\")","v":{"$error":"#REF!"}},{"$f":"AND(#REF!,\"AAAAAF+0/wU=\")","v":{"$error":"#REF!"}},{"$f":"AND(#REF!,\"AAAAAF+0/wY=\")","v":{"$error":"#REF!"}},{"$f":"AND(#REF!,\"AAAAAF+0/wc=\")","v":{"$error":"#REF!"}},{"$f":"AND(#REF!,\"AAAAAF+0/wg=\")","v":{"$error":"#REF!"}},{"$f":"AND(#REF!,\"AAAAAF+0/wk=\")","v":{"$error":"#REF!"}},{"$f":"AND(#REF!,\"AAAAAF+0/wo=\")","v":{"$error":"#REF!"}},{"$f":"IF(#REF!,\"AAAAAF+0/ws=\",0)","v":{"$error":"#REF!"}},{"$f":"AND(#REF!,\"AAAAAF+0/ww=\")","v":{"$error":"#REF!"}},{"$f":"AND(#REF!,\"AAAAAF+0/w0=\")","v":{"$error":"#REF!"}},{"$f":"AND(#REF!,\"AAAAAF+0/w4=\")","v":{"$error":"#REF!"}},{"$f":"AND(#REF!,\"AAAAAF+0/w8=\")","v":{"$error":"#REF!"}},{"$f":"AND(#REF!,\"AAAAAF+0/xA=\")","v":{"$error":"#REF!"}},{"$f":"AND(#REF!,\"AAAAAF+0/xE=\")","v":{"$error":"#REF!"}},{"$f":"AND(#REF!,\"AAAAAF+0/xI=\")","v":{"$error":"#REF!"}},{"$f":"AND(#REF!,\"AAAAAF+0/xM=\")","v":{"$error":"#REF!"}},{"$f":"IF(#REF!,\"AAAAAF+0/xQ=\",0)","v":{"$error":"#REF!"}},{"$f":"AND(#REF!,\"AAAAAF+0/xU=\")","v":{"$error":"#REF!"}},{"$f":"AND(#REF!,\"AAAAAF+0/xY=\")","v":{"$error":"#REF!"}},{"$f":"AND(#REF!,\"AAAAAF+0/xc=\")","v":{"$error":"#REF!"}},{"$f":"AND(#REF!,\"AAAAAF+0/xg=\")","v":{"$error":"#REF!"}},{"$f":"AND(#REF!,\"AAAAAF+0/xk=\")","v":{"$error":"#REF!"}},{"$f":"AND(#REF!,\"AAAAAF+0/xo=\")","v":{"$error":"#REF!"}},{"$f":"AND(#REF!,\"AAAAAF+0/xs=\")","v":{"$error":"#REF!"}},{"$f":"AND(#REF!,\"AAAAAF+0/xw=\")","v":{"$error":"#REF!"}},{"$f":"IF(#REF!,\"AAAAAF+0/x0=\",0)","v":{"$error":"#REF!"}},{"$f":"AND(#REF!,\"AAAAAF+0/x4=\")","v":{"$error":"#REF!"}},{"$f":"AND(#REF!,\"AAAAAF+0/x8=\")","v":{"$error":"#REF!"}},{"$f":"AND(#REF!,\"AAAAAF+0/yA=\")","v":{"$error":"#REF!"}},{"$f":"AND(#REF!,\"AAAAAF+0/yE=\")","v":{"$error":"#REF!"}},{"$f":"AND(#REF!,\"AAAAAF+0/yI=\")","v":{"$error":"#REF!"}},{"$f":"AND(#REF!,\"AAAAAF+0/yM=\")","v":{"$error":"#REF!"}},{"$f":"AND(#REF!,\"AAAAAF+0/yQ=\")","v":{"$error":"#REF!"}},{"$f":"AND(#REF!,\"AAAAAF+0/yU=\")","v":{"$error":"#REF!"}},{"$f":"IF(#REF!,\"AAAAAF+0/yY=\",0)","v":{"$error":"#REF!"}},{"$f":"AND(#REF!,\"AAAAAF+0/yc=\")","v":{"$error":"#REF!"}},{"$f":"AND(#REF!,\"AAAAAF+0/yg=\")","v":{"$error":"#REF!"}},{"$f":"AND(#REF!,\"AAAAAF+0/yk=\")","v":{"$error":"#REF!"}},{"$f":"AND(#REF!,\"AAAAAF+0/yo=\")","v":{"$error":"#REF!"}},{"$f":"AND(#REF!,\"AAAAAF+0/ys=\")","v":{"$error":"#REF!"}},{"$f":"AND(#REF!,\"AAAAAF+0/yw=\")","v":{"$error":"#REF!"}},{"$f":"AND(#REF!,\"AAAAAF+0/y0=\")","v":{"$error":"#REF!"}},{"$f":"AND(#REF!,\"AAAAAF+0/y4=\")","v":{"$error":"#REF!"}},{"$f":"IF(#REF!,\"AAAAAF+0/y8=\",0)","v":{"$error":"#REF!"}},{"$f":"AND(#REF!,\"AAAAAF+0/zA=\")","v":{"$error":"#REF!"}},{"$f":"AND(#REF!,\"AAAAAF+0/zE=\")","v":{"$error":"#REF!"}},{"$f":"AND(#REF!,\"AAAAAF+0/zI=\")","v":{"$error":"#REF!"}},{"$f":"AND(#REF!,\"AAAAAF+0/zM=\")","v":{"$error":"#REF!"}},{"$f":"AND(#REF!,\"AAAAAF+0/zQ=\")","v":{"$error":"#REF!"}},{"$f":"AND(#REF!,\"AAAAAF+0/zU=\")","v":{"$error":"#REF!"}},{"$f":"AND(#REF!,\"AAAAAF+0/zY=\")","v":{"$error":"#REF!"}},{"$f":"AND(#REF!,\"AAAAAF+0/zc=\")","v":{"$error":"#REF!"}},{"$f":"IF(#REF!,\"AAAAAF+0/zg=\",0)","v":{"$error":"#REF!"}},{"$f":"AND(#REF!,\"AAAAAF+0/zk=\")","v":{"$error":"#REF!"}},{"$f":"AND(#REF!,\"AAAAAF+0/zo=\")","v":{"$error":"#REF!"}},{"$f":"AND(#REF!,\"AAAAAF+0/zs=\")","v":{"$error":"#REF!"}},{"$f":"AND(#REF!,\"AAAAAF+0/zw=\")","v":{"$error":"#REF!"}},{"$f":"AND(#REF!,\"AAAAAF+0/z0=\")","v":{"$error":"#REF!"}},{"$f":"AND(#REF!,\"AAAAAF+0/z4=\")","v":{"$error":"#REF!"}},{"$f":"AND(#REF!,\"AAAAAF+0/z8=\")","v":{"$error":"#REF!"}},{"$f":"AND(#REF!,\"AAAAAF+0/0A=\")","v":{"$error":"#REF!"}},{"$f":"IF(#REF!,\"AAAAAF+0/0E=\",0)","v":{"$error":"#REF!"}},{"$f":"AND(#REF!,\"AAAAAF+0/0I=\")","v":{"$error":"#REF!"}},{"$f":"AND(#REF!,\"AAAAAF+0/0M=\")","v":{"$error":"#REF!"}},{"$f":"AND(#REF!,\"AAAAAF+0/0Q=\")","v":{"$error":"#REF!"}},{"$f":"AND(#REF!,\"AAAAAF+0/0U=\")","v":{"$error":"#REF!"}},{"$f":"AND(#REF!,\"AAAAAF+0/0Y=\")","v":{"$error":"#REF!"}},{"$f":"AND(#REF!,\"AAAAAF+0/0c=\")","v":{"$error":"#REF!"}},{"$f":"AND(#REF!,\"AAAAAF+0/0g=\")","v":{"$error":"#REF!"}},{"$f":"AND(#REF!,\"AAAAAF+0/0k=\")","v":{"$error":"#REF!"}},{"$f":"IF(#REF!,\"AAAAAF+0/0o=\",0)","v":{"$error":"#REF!"}},{"$f":"AND(#REF!,\"AAAAAF+0/0s=\")","v":{"$error":"#REF!"}},{"$f":"AND(#REF!,\"AAAAAF+0/0w=\")","v":{"$error":"#REF!"}},{"$f":"AND(#REF!,\"AAAAAF+0/00=\")","v":{"$error":"#REF!"}},{"$f":"AND(#REF!,\"AAAAAF+0/04=\")","v":{"$error":"#REF!"}},{"$f":"AND(#REF!,\"AAAAAF+0/08=\")","v":{"$error":"#REF!"}},{"$f":"AND(#REF!,\"AAAAAF+0/1A=\")","v":{"$error":"#REF!"}},{"$f":"AND(#REF!,\"AAAAAF+0/1E=\")","v":{"$error":"#REF!"}},{"$f":"AND(#REF!,\"AAAAAF+0/1I=\")","v":{"$error":"#REF!"}},{"$f":"IF(#REF!,\"AAAAAF+0/1M=\",0)","v":{"$error":"#REF!"}},{"$f":"AND(#REF!,\"AAAAAF+0/1Q=\")","v":{"$error":"#REF!"}},{"$f":"AND(#REF!,\"AAAAAF+0/1U=\")","v":{"$error":"#REF!"}},{"$f":"AND(#REF!,\"AAAAAF+0/1Y=\")","v":{"$error":"#REF!"}},{"$f":"AND(#REF!,\"AAAAAF+0/1c=\")","v":{"$error":"#REF!"}},{"$f":"AND(#REF!,\"AAAAAF+0/1g=\")","v":{"$error":"#REF!"}},{"$f":"AND(#REF!,\"AAAAAF+0/1k=\")","v":{"$error":"#REF!"}},{"$f":"AND(#REF!,\"AAAAAF+0/1o=\")","v":{"$error":"#REF!"}},{"$f":"AND(#REF!,\"AAAAAF+0/1s=\")","v":{"$error":"#REF!"}},{"$f":"IF(#REF!,\"AAAAAF+0/1w=\",0)","v":{"$error":"#REF!"}},{"$f":"AND(#REF!,\"AAAAAF+0/10=\")","v":{"$error":"#REF!"}},{"$f":"AND(#REF!,\"AAAAAF+0/14=\")","v":{"$error":"#REF!"}},{"$f":"AND(#REF!,\"AAAAAF+0/18=\")","v":{"$error":"#REF!"}},{"$f":"AND(#REF!,\"AAAAAF+0/2A=\")","v":{"$error":"#REF!"}},{"$f":"AND(#REF!,\"AAAAAF+0/2E=\")","v":{"$error":"#REF!"}},{"$f":"AND(#REF!,\"AAAAAF+0/2I=\")","v":{"$error":"#REF!"}},{"$f":"AND(#REF!,\"AAAAAF+0/2M=\")","v":{"$error":"#REF!"}},{"$f":"AND(#REF!,\"AAAAAF+0/2Q=\")","v":{"$error":"#REF!"}},{"$f":"IF(#REF!,\"AAAAAF+0/2U=\",0)","v":{"$error":"#REF!"}},{"$f":"AND(#REF!,\"AAAAAF+0/2Y=\")","v":{"$error":"#REF!"}},{"$f":"AND(#REF!,\"AAAAAF+0/2c=\")","v":{"$error":"#REF!"}},{"$f":"AND(#REF!,\"AAAAAF+0/2g=\")","v":{"$error":"#REF!"}},{"$f":"AND(#REF!,\"AAAAAF+0/2k=\")","v":{"$error":"#REF!"}},{"$f":"AND(#REF!,\"AAAAAF+0/2o=\")","v":{"$error":"#REF!"}},{"$f":"AND(#REF!,\"AAAAAF+0/2s=\")","v":{"$error":"#REF!"}},{"$f":"AND(#REF!,\"AAAAAF+0/2w=\")","v":{"$error":"#REF!"}},{"$f":"AND(#REF!,\"AAAAAF+0/20=\")","v":{"$error":"#REF!"}},{"$f":"IF(#REF!,\"AAAAAF+0/24=\",0)","v":{"$error":"#REF!"}},{"$f":"AND(#REF!,\"AAAAAF+0/28=\")","v":{"$error":"#REF!"}},{"$f":"AND(#REF!,\"AAAAAF+0/3A=\")","v":{"$error":"#REF!"}},{"$f":"AND(#REF!,\"AAAAAF+0/3E=\")","v":{"$error":"#REF!"}},{"$f":"AND(#REF!,\"AAAAAF+0/3I=\")","v":{"$error":"#REF!"}},{"$f":"AND(#REF!,\"AAAAAF+0/3M=\")","v":{"$error":"#REF!"}},{"$f":"AND(#REF!,\"AAAAAF+0/3Q=\")","v":{"$error":"#REF!"}},{"$f":"AND(#REF!,\"AAAAAF+0/3U=\")","v":{"$error":"#REF!"}},{"$f":"AND(#REF!,\"AAAAAF+0/3Y=\")","v":{"$error":"#REF!"}},{"$f":"IF(#REF!,\"AAAAAF+0/3c=\",0)","v":{"$error":"#REF!"}},{"$f":"AND(#REF!,\"AAAAAF+0/3g=\")","v":{"$error":"#REF!"}},{"$f":"AND(#REF!,\"AAAAAF+0/3k=\")","v":{"$error":"#REF!"}},{"$f":"AND(#REF!,\"AAAAAF+0/3o=\")","v":{"$error":"#REF!"}},{"$f":"AND(#REF!,\"AAAAAF+0/3s=\")","v":{"$error":"#REF!"}},{"$f":"AND(#REF!,\"AAAAAF+0/3w=\")","v":{"$error":"#REF!"}},{"$f":"AND(#REF!,\"AAAAAF+0/30=\")","v":{"$error":"#REF!"}},{"$f":"AND(#REF!,\"AAAAAF+0/34=\")","v":{"$error":"#REF!"}},{"$f":"AND(#REF!,\"AAAAAF+0/38=\")","v":{"$error":"#REF!"}},{"$f":"IF(#REF!,\"AAAAAF+0/4A=\",0)","v":{"$error":"#REF!"}},{"$f":"AND(#REF!,\"AAAAAF+0/4E=\")","v":{"$error":"#REF!"}},{"$f":"AND(#REF!,\"AAAAAF+0/4I=\")","v":{"$error":"#REF!"}},{"$f":"AND(#REF!,\"AAAAAF+0/4M=\")","v":{"$error":"#REF!"}},{"$f":"AND(#REF!,\"AAAAAF+0/4Q=\")","v":{"$error":"#REF!"}},{"$f":"AND(#REF!,\"AAAAAF+0/4U=\")","v":{"$error":"#REF!"}},{"$f":"AND(#REF!,\"AAAAAF+0/4Y=\")","v":{"$error":"#REF!"}},{"$f":"AND(#REF!,\"AAAAAF+0/4c=\")","v":{"$error":"#REF!"}},{"$f":"AND(#REF!,\"AAAAAF+0/4g=\")","v":{"$error":"#REF!"}},{"$f":"IF(#REF!,\"AAAAAF+0/4k=\",0)","v":{"$error":"#REF!"}},{"$f":"AND(#REF!,\"AAAAAF+0/4o=\")","v":{"$error":"#REF!"}},{"$f":"AND(#REF!,\"AAAAAF+0/4s=\")","v":{"$error":"#REF!"}},{"$f":"AND(#REF!,\"AAAAAF+0/4w=\")","v":{"$error":"#REF!"}},{"$f":"AND(#REF!,\"AAAAAF+0/40=\")","v":{"$error":"#REF!"}},{"$f":"AND(#REF!,\"AAAAAF+0/44=\")","v":{"$error":"#REF!"}},{"$f":"AND(#REF!,\"AAAAAF+0/48=\")","v":{"$error":"#REF!"}},{"$f":"AND(#REF!,\"AAAAAF+0/5A=\")","v":{"$error":"#REF!"}},{"$f":"AND(#REF!,\"AAAAAF+0/5E=\")","v":{"$error":"#REF!"}},{"$f":"IF(#REF!,\"AAAAAF+0/5I=\",0)","v":{"$error":"#REF!"}},{"$f":"AND(#REF!,\"AAAAAF+0/5M=\")","v":{"$error":"#REF!"}},{"$f":"AND(#REF!,\"AAAAAF+0/5Q=\")","v":{"$error":"#REF!"}},{"$f":"AND(#REF!,\"AAAAAF+0/5U=\")","v":{"$error":"#REF!"}},{"$f":"AND(#REF!,\"AAAAAF+0/5Y=\")","v":{"$error":"#REF!"}},{"$f":"AND(#REF!,\"AAAAAF+0/5c=\")","v":{"$error":"#REF!"}},{"$f":"AND(#REF!,\"AAAAAF+0/5g=\")","v":{"$error":"#REF!"}},{"$f":"AND(#REF!,\"AAAAAF+0/5k=\")","v":{"$error":"#REF!"}},{"$f":"AND(#REF!,\"AAAAAF+0/5o=\")","v":{"$error":"#REF!"}},{"$f":"IF(#REF!,\"AAAAAF+0/5s=\",0)","v":{"$error":"#REF!"}},{"$f":"AND(#REF!,\"AAAAAF+0/5w=\")","v":{"$error":"#REF!"}},{"$f":"AND(#REF!,\"AAAAAF+0/50=\")","v":{"$error":"#REF!"}},{"$f":"AND(#REF!,\"AAAAAF+0/54=\")","v":{"$error":"#REF!"}},{"$f":"AND(#REF!,\"AAAAAF+0/58=\")","v":{"$error":"#REF!"}},{"$f":"AND(#REF!,\"AAAAAF+0/6A=\")","v":{"$error":"#REF!"}},{"$f":"AND(#REF!,\"AAAAAF+0/6E=\")","v":{"$error":"#REF!"}},{"$f":"AND(#REF!,\"AAAAAF+0/6I=\")","v":{"$error":"#REF!"}},{"$f":"AND(#REF!,\"AAAAAF+0/6M=\")","v":{"$error":"#REF!"}},{"$f":"IF(#REF!,\"AAAAAF+0/6Q=\",0)","v":{"$error":"#REF!"}},{"$f":"AND(#REF!,\"AAAAAF+0/6U=\")","v":{"$error":"#REF!"}},{"$f":"AND(#REF!,\"AAAAAF+0/6Y=\")","v":{"$error":"#REF!"}},{"$f":"AND(#REF!,\"AAAAAF+0/6c=\")","v":{"$error":"#REF!"}},{"$f":"AND(#REF!,\"AAAAAF+0/6g=\")","v":{"$error":"#REF!"}},{"$f":"AND(#REF!,\"AAAAAF+0/6k=\")","v":{"$error":"#REF!"}},{"$f":"AND(#REF!,\"AAAAAF+0/6o=\")","v":{"$error":"#REF!"}},{"$f":"AND(#REF!,\"AAAAAF+0/6s=\")","v":{"$error":"#REF!"}},{"$f":"AND(#REF!,\"AAAAAF+0/6w=\")","v":{"$error":"#REF!"}},{"$f":"IF(#REF!,\"AAAAAF+0/60=\",0)","v":{"$error":"#REF!"}},{"$f":"AND(#REF!,\"AAAAAF+0/64=\")","v":{"$error":"#REF!"}},{"$f":"AND(#REF!,\"AAAAAF+0/68=\")","v":{"$error":"#REF!"}},{"$f":"AND(#REF!,\"AAAAAF+0/7A=\")","v":{"$error":"#REF!"}},{"$f":"AND(#REF!,\"AAAAAF+0/7E=\")","v":{"$error":"#REF!"}},{"$f":"AND(#REF!,\"AAAAAF+0/7I=\")","v":{"$error":"#REF!"}},{"$f":"AND(#REF!,\"AAAAAF+0/7M=\")","v":{"$error":"#REF!"}},{"$f":"AND(#REF!,\"AAAAAF+0/7Q=\")","v":{"$error":"#REF!"}},{"$f":"AND(#REF!,\"AAAAAF+0/7U=\")","v":{"$error":"#REF!"}},{"$f":"IF(#REF!,\"AAAAAF+0/7Y=\",0)","v":{"$error":"#REF!"}},{"$f":"AND(#REF!,\"AAAAAF+0/7c=\")","v":{"$error":"#REF!"}},{"$f":"AND(#REF!,\"AAAAAF+0/7g=\")","v":{"$error":"#REF!"}},{"$f":"AND(#REF!,\"AAAAAF+0/7k=\")","v":{"$error":"#REF!"}},{"$f":"AND(#REF!,\"AAAAAF+0/7o=\")","v":{"$error":"#REF!"}},{"$f":"AND(#REF!,\"AAAAAF+0/7s=\")","v":{"$error":"#REF!"}},{"$f":"AND(#REF!,\"AAAAAF+0/7w=\")","v":{"$error":"#REF!"}},{"$f":"AND(#REF!,\"AAAAAF+0/70=\")","v":{"$error":"#REF!"}},{"$f":"AND(#REF!,\"AAAAAF+0/74=\")","v":{"$error":"#REF!"}},{"$f":"IF(#REF!,\"AAAAAF+0/78=\",0)","v":{"$error":"#REF!"}},{"$f":"AND(#REF!,\"AAAAAF+0/8A=\")","v":{"$error":"#REF!"}},{"$f":"AND(#REF!,\"AAAAAF+0/8E=\")","v":{"$error":"#REF!"}},{"$f":"AND(#REF!,\"AAAAAF+0/8I=\")","v":{"$error":"#REF!"}},{"$f":"AND(#REF!,\"AAAAAF+0/8M=\")","v":{"$error":"#REF!"}},{"$f":"AND(#REF!,\"AAAAAF+0/8Q=\")","v":{"$error":"#REF!"}},{"$f":"AND(#REF!,\"AAAAAF+0/8U=\")","v":{"$error":"#REF!"}},{"$f":"AND(#REF!,\"AAAAAF+0/8Y=\")","v":{"$error":"#REF!"}},{"$f":"AND(#REF!,\"AAAAAF+0/8c=\")","v":{"$error":"#REF!"}},{"$f":"IF(#REF!,\"AAAAAF+0/8g=\",0)","v":{"$error":"#REF!"}},{"$f":"AND(#REF!,\"AAAAAF+0/8k=\")","v":{"$error":"#REF!"}},{"$f":"AND(#REF!,\"AAAAAF+0/8o=\")","v":{"$error":"#REF!"}},{"$f":"AND(#REF!,\"AAAAAF+0/8s=\")","v":{"$error":"#REF!"}},{"$f":"AND(#REF!,\"AAAAAF+0/8w=\")","v":{"$error":"#REF!"}},{"$f":"AND(#REF!,\"AAAAAF+0/80=\")","v":{"$error":"#REF!"}},{"$f":"AND(#REF!,\"AAAAAF+0/84=\")","v":{"$error":"#REF!"}},{"$f":"AND(#REF!,\"AAAAAF+0/88=\")","v":{"$error":"#REF!"}},{"$f":"AND(#REF!,\"AAAAAF+0/9A=\")","v":{"$error":"#REF!"}},{"$f":"IF(#REF!,\"AAAAAF+0/9E=\",0)","v":{"$error":"#REF!"}},{"$f":"AND(#REF!,\"AAAAAF+0/9I=\")","v":{"$error":"#REF!"}},{"$f":"AND(#REF!,\"AAAAAF+0/9M=\")","v":{"$error":"#REF!"}},{"$f":"AND(#REF!,\"AAAAAF+0/9Q=\")","v":{"$error":"#REF!"}},{"$f":"AND(#REF!,\"AAAAAF+0/9U=\")","v":{"$error":"#REF!"}},{"$f":"AND(#REF!,\"AAAAAF+0/9Y=\")","v":{"$error":"#REF!"}},{"$f":"AND(#REF!,\"AAAAAF+0/9c=\")","v":{"$error":"#REF!"}},{"$f":"AND(#REF!,\"AAAAAF+0/9g=\")","v":{"$error":"#REF!"}},{"$f":"AND(#REF!,\"AAAAAF+0/9k=\")","v":{"$error":"#REF!"}},{"$f":"IF(#REF!,\"AAAAAF+0/9o=\",0)","v":{"$error":"#REF!"}},{"$f":"AND(#REF!,\"AAAAAF+0/9s=\")","v":{"$error":"#REF!"}},{"$f":"AND(#REF!,\"AAAAAF+0/9w=\")","v":{"$error":"#REF!"}},{"$f":"AND(#REF!,\"AAAAAF+0/90=\")","v":{"$error":"#REF!"}},{"$f":"AND(#REF!,\"AAAAAF+0/94=\")","v":{"$error":"#REF!"}},{"$f":"AND(#REF!,\"AAAAAF+0/98=\")","v":{"$error":"#REF!"}},{"$f":"AND(#REF!,\"AAAAAF+0/+A=\")","v":{"$error":"#REF!"}},{"$f":"AND(#REF!,\"AAAAAF+0/+E=\")","v":{"$error":"#REF!"}},{"$f":"AND(#REF!,\"AAAAAF+0/+I=\")","v":{"$error":"#REF!"}},{"$f":"IF(#REF!,\"AAAAAF+0/+M=\",0)","v":{"$error":"#REF!"}},{"$f":"AND(#REF!,\"AAAAAF+0/+Q=\")","v":{"$error":"#REF!"}},{"$f":"AND(#REF!,\"AAAAAF+0/+U=\")","v":{"$error":"#REF!"}},{"$f":"AND(#REF!,\"AAAAAF+0/+Y=\")","v":{"$error":"#REF!"}},{"$f":"AND(#REF!,\"AAAAAF+0/+c=\")","v":{"$error":"#REF!"}},{"$f":"AND(#REF!,\"AAAAAF+0/+g=\")","v":{"$error":"#REF!"}},{"$f":"AND(#REF!,\"AAAAAF+0/+k=\")","v":{"$error":"#REF!"}},{"$f":"AND(#REF!,\"AAAAAF+0/+o=\")","v":{"$error":"#REF!"}},{"$f":"AND(#REF!,\"AAAAAF+0/+s=\")","v":{"$error":"#REF!"}},{"$f":"IF(#REF!,\"AAAAAF+0/+w=\",0)","v":{"$error":"#REF!"}},{"$f":"AND(#REF!,\"AAAAAF+0/+0=\")","v":{"$error":"#REF!"}},{"$f":"AND(#REF!,\"AAAAAF+0/+4=\")","v":{"$error":"#REF!"}},{"$f":"AND(#REF!,\"AAAAAF+0/+8=\")","v":{"$error":"#REF!"}},{"$f":"AND(#REF!,\"AAAAAF+0//A=\")","v":{"$error":"#REF!"}},{"$f":"AND(#REF!,\"AAAAAF+0//E=\")","v":{"$error":"#REF!"}},{"$f":"AND(#REF!,\"AAAAAF+0//I=\")","v":{"$error":"#REF!"}},{"$f":"AND(#REF!,\"AAAAAF+0//M=\")","v":{"$error":"#REF!"}},{"$f":"AND(#REF!,\"AAAAAF+0//Q=\")","v":{"$error":"#REF!"}},{"$f":"IF(#REF!,\"AAAAAF+0//U=\",0)","v":{"$error":"#REF!"}},{"$f":"AND(#REF!,\"AAAAAF+0//Y=\")","v":{"$error":"#REF!"}},{"$f":"AND(#REF!,\"AAAAAF+0//c=\")","v":{"$error":"#REF!"}},{"$f":"AND(#REF!,\"AAAAAF+0//g=\")","v":{"$error":"#REF!"}},{"$f":"AND(#REF!,\"AAAAAF+0//k=\")","v":{"$error":"#REF!"}},{"$f":"AND(#REF!,\"AAAAAF+0//o=\")","v":{"$error":"#REF!"}},{"$f":"AND(#REF!,\"AAAAAF+0//s=\")","v":{"$error":"#REF!"}},{"$f":"AND(#REF!,\"AAAAAF+0//w=\")","v":{"$error":"#REF!"}},{"$f":"AND(#REF!,\"AAAAAF+0//0=\")","v":{"$error":"#REF!"}},{"$f":"IF(#REF!,\"AAAAAF+0//4=\",0)","v":{"$error":"#REF!"}},{"$f":"AND(#REF!,\"AAAAAF+0//8=\")","v":{"$error":"#REF!"}}]
[{"$f":"AND(#REF!,\"AAAAAG+jrQA=\")","v":{"$error":"#REF!"}},{"$f":"AND(#REF!,\"AAAAAG+jrQE=\")","v":{"$error":"#REF!"}},{"$f":"AND(#REF!,\"AAAAAG+jrQI=\")","v":{"$error":"#REF!"}},{"$f":"AND(#REF!,\"AAAAAG+jrQM=\")","v":{"$error":"#REF!"}},{"$f":"AND(#REF!,\"AAAAAG+jrQQ=\")","v":{"$error":"#REF!"}},{"$f":"AND(#REF!,\"AAAAAG+jrQU=\")","v":{"$error":"#REF!"}},{"$f":"AND(#REF!,\"AAAAAG+jrQY=\")","v":{"$error":"#REF!"}},{"$f":"IF(#REF!,\"AAAAAG+jrQc=\",0)","v":{"$error":"#REF!"}},{"$f":"AND(#REF!,\"AAAAAG+jrQg=\")","v":{"$error":"#REF!"}},{"$f":"AND(#REF!,\"AAAAAG+jrQk=\")","v":{"$error":"#REF!"}},{"$f":"AND(#REF!,\"AAAAAG+jrQo=\")","v":{"$error":"#REF!"}},{"$f":"AND(#REF!,\"AAAAAG+jrQs=\")","v":{"$error":"#REF!"}},{"$f":"AND(#REF!,\"AAAAAG+jrQw=\")","v":{"$error":"#REF!"}},{"$f":"AND(#REF!,\"AAAAAG+jrQ0=\")","v":{"$error":"#REF!"}},{"$f":"AND(#REF!,\"AAAAAG+jrQ4=\")","v":{"$error":"#REF!"}},{"$f":"AND(#REF!,\"AAAAAG+jrQ8=\")","v":{"$error":"#REF!"}},{"$f":"IF(#REF!,\"AAAAAG+jrRA=\",0)","v":{"$error":"#REF!"}},{"$f":"AND(#REF!,\"AAAAAG+jrRE=\")","v":{"$error":"#REF!"}},{"$f":"AND(#REF!,\"AAAAAG+jrRI=\")","v":{"$error":"#REF!"}},{"$f":"AND(#REF!,\"AAAAAG+jrRM=\")","v":{"$error":"#REF!"}},{"$f":"AND(#REF!,\"AAAAAG+jrRQ=\")","v":{"$error":"#REF!"}},{"$f":"AND(#REF!,\"AAAAAG+jrRU=\")","v":{"$error":"#REF!"}},{"$f":"AND(#REF!,\"AAAAAG+jrRY=\")","v":{"$error":"#REF!"}},{"$f":"AND(#REF!,\"AAAAAG+jrRc=\")","v":{"$error":"#REF!"}},{"$f":"AND(#REF!,\"AAAAAG+jrRg=\")","v":{"$error":"#REF!"}},{"$f":"IF(#REF!,\"AAAAAG+jrRk=\",0)","v":{"$error":"#REF!"}},{"$f":"AND(#REF!,\"AAAAAG+jrRo=\")","v":{"$error":"#REF!"}},{"$f":"AND(#REF!,\"AAAAAG+jrRs=\")","v":{"$error":"#REF!"}},{"$f":"AND(#REF!,\"AAAAAG+jrRw=\")","v":{"$error":"#REF!"}},{"$f":"AND(#REF!,\"AAAAAG+jrR0=\")","v":{"$error":"#REF!"}},{"$f":"AND(#REF!,\"AAAAAG+jrR4=\")","v":{"$error":"#REF!"}},{"$f":"AND(#REF!,\"AAAAAG+jrR8=\")","v":{"$error":"#REF!"}},{"$f":"AND(#REF!,\"AAAAAG+jrSA=\")","v":{"$error":"#REF!"}},{"$f":"AND(#REF!,\"AAAAAG+jrSE=\")","v":{"$error":"#REF!"}},{"$f":"IF(#REF!,\"AAAAAG+jrSI=\",0)","v":{"$error":"#REF!"}},{"$f":"AND(#REF!,\"AAAAAG+jrSM=\")","v":{"$error":"#REF!"}},{"$f":"AND(#REF!,\"AAAAAG+jrSQ=\")","v":{"$error":"#REF!"}},{"$f":"AND(#REF!,\"AAAAAG+jrSU=\")","v":{"$error":"#REF!"}},{"$f":"AND(#REF!,\"AAAAAG+jrSY=\")","v":{"$error":"#REF!"}},{"$f":"AND(#REF!,\"AAAAAG+jrSc=\")","v":{"$error":"#REF!"}},{"$f":"AND(#REF!,\"AAAAAG+jrSg=\")","v":{"$error":"#REF!"}},{"$f":"AND(#REF!,\"AAAAAG+jrSk=\")","v":{"$error":"#REF!"}},{"$f":"AND(#REF!,\"AAAAAG+jrSo=\")","v":{"$error":"#REF!"}},{"$f":"IF(#REF!,\"AAAAAG+jrSs=\",0)","v":{"$error":"#REF!"}},{"$f":"AND(#REF!,\"AAAAAG+jrSw=\")","v":{"$error":"#REF!"}},{"$f":"AND(#REF!,\"AAAAAG+jrS0=\")","v":{"$error":"#REF!"}},{"$f":"AND(#REF!,\"AAAAAG+jrS4=\")","v":{"$error":"#REF!"}},{"$f":"AND(#REF!,\"AAAAAG+jrS8=\")","v":{"$error":"#REF!"}},{"$f":"AND(#REF!,\"AAAAAG+jrTA=\")","v":{"$error":"#REF!"}},{"$f":"AND(#REF!,\"AAAAAG+jrTE=\")","v":{"$error":"#REF!"}},{"$f":"AND(#REF!,\"AAAAAG+jrTI=\")","v":{"$error":"#REF!"}},{"$f":"AND(#REF!,\"AAAAAG+jrTM=\")","v":{"$error":"#REF!"}},{"$f":"IF(#REF!,\"AAAAAG+jrTQ=\",0)","v":{"$error":"#REF!"}},{"$f":"AND(#REF!,\"AAAAAG+jrTU=\")","v":{"$error":"#REF!"}},{"$f":"AND(#REF!,\"AAAAAG+jrTY=\")","v":{"$error":"#REF!"}},{"$f":"AND(#REF!,\"AAAAAG+jrTc=\")","v":{"$error":"#REF!"}},{"$f":"AND(#REF!,\"AAAAAG+jrTg=\")","v":{"$error":"#REF!"}},{"$f":"AND(#REF!,\"AAAAAG+jrTk=\")","v":{"$error":"#REF!"}},{"$f":"AND(#REF!,\"AAAAAG+jrTo=\")","v":{"$error":"#REF!"}},{"$f":"AND(#REF!,\"AAAAAG+jrTs=\")","v":{"$error":"#REF!"}},{"$f":"AND(#REF!,\"AAAAAG+jrTw=\")","v":{"$error":"#REF!"}},{"$f":"IF(#REF!,\"AAAAAG+jrT0=\",0)","v":{"$error":"#REF!"}},{"$f":"AND(#REF!,\"AAAAAG+jrT4=\")","v":{"$error":"#REF!"}},{"$f":"AND(#REF!,\"AAAAAG+jrT8=\")","v":{"$error":"#REF!"}},{"$f":"AND(#REF!,\"AAAAAG+jrUA=\")","v":{"$error":"#REF!"}},{"$f":"AND(#REF!,\"AAAAAG+jrUE=\")","v":{"$error":"#REF!"}},{"$f":"AND(#REF!,\"AAAAAG+jrUI=\")","v":{"$error":"#REF!"}},{"$f":"AND(#REF!,\"AAAAAG+jrUM=\")","v":{"$error":"#REF!"}},{"$f":"AND(#REF!,\"AAAAAG+jrUQ=\")","v":{"$error":"#REF!"}},{"$f":"AND(#REF!,\"AAAAAG+jrUU=\")","v":{"$error":"#REF!"}},{"$f":"IF(#REF!,\"AAAAAG+jrUY=\",0)","v":{"$error":"#REF!"}},{"$f":"AND(#REF!,\"AAAAAG+jrUc=\")","v":{"$error":"#REF!"}},{"$f":"AND(#REF!,\"AAAAAG+jrUg=\")","v":{"$error":"#REF!"}},{"$f":"AND(#REF!,\"AAAAAG+jrUk=\")","v":{"$error":"#REF!"}},{"$f":"AND(#REF!,\"AAAAAG+jrUo=\")","v":{"$error":"#REF!"}},{"$f":"AND(#REF!,\"AAAAAG+jrUs=\")","v":{"$error":"#REF!"}},{"$f":"AND(#REF!,\"AAAAAG+jrUw=\")","v":{"$error":"#REF!"}},{"$f":"AND(#REF!,\"AAAAAG+jrU0=\")","v":{"$error":"#REF!"}},{"$f":"AND(#REF!,\"AAAAAG+jrU4=\")","v":{"$error":"#REF!"}},{"$f":"IF(#REF!,\"AAAAAG+jrU8=\",0)","v":{"$error":"#REF!"}},{"$f":"AND(#REF!,\"AAAAAG+jrVA=\")","v":{"$error":"#REF!"}},{"$f":"AND(#REF!,\"AAAAAG+jrVE=\")","v":{"$error":"#REF!"}},{"$f":"AND(#REF!,\"AAAAAG+jrVI=\")","v":{"$error":"#REF!"}},{"$f":"AND(#REF!,\"AAAAAG+jrVM=\")","v":{"$error":"#REF!"}},{"$f":"AND(#REF!,\"AAAAAG+jrVQ=\")","v":{"$error":"#REF!"}},{"$f":"AND(#REF!,\"AAAAAG+jrVU=\")","v":{"$error":"#REF!"}},{"$f":"AND(#REF!,\"AAAAAG+jrVY=\")","v":{"$error":"#REF!"}},{"$f":"AND(#REF!,\"AAAAAG+jrVc=\")","v":{"$error":"#REF!"}},{"$f":"IF(#REF!,\"AAAAAG+jrVg=\",0)","v":{"$error":"#REF!"}},{"$f":"AND(#REF!,\"AAAAAG+jrVk=\")","v":{"$error":"#REF!"}},{"$f":"AND(#REF!,\"AAAAAG+jrVo=\")","v":{"$error":"#REF!"}},{"$f":"AND(#REF!,\"AAAAAG+jrVs=\")","v":{"$error":"#REF!"}},{"$f":"AND(#REF!,\"AAAAAG+jrVw=\")","v":{"$error":"#REF!"}},{"$f":"AND(#REF!,\"AAAAAG+jrV0=\")","v":{"$error":"#REF!"}},{"$f":"AND(#REF!,\"AAAAAG+jrV4=\")","v":{"$error":"#REF!"}},{"$f":"AND(#REF!,\"AAAAAG+jrV8=\")","v":{"$error":"#REF!"}},{"$f":"AND(#REF!,\"AAAAAG+jrWA=\")","v":{"$error":"#REF!"}},{"$f":"IF(#REF!,\"AAAAAG+jrWE=\",0)","v":{"$error":"#REF!"}},{"$f":"AND(#REF!,\"AAAAAG+jrWI=\")","v":{"$error":"#REF!"}},{"$f":"AND(#REF!,\"AAAAAG+jrWM=\")","v":{"$error":"#REF!"}},{"$f":"AND(#REF!,\"AAAAAG+jrWQ=\")","v":{"$error":"#REF!"}},{"$f":"AND(#REF!,\"AAAAAG+jrWU=\")","v":{"$error":"#REF!"}},{"$f":"AND(#REF!,\"AAAAAG+jrWY=\")","v":{"$error":"#REF!"}},{"$f":"AND(#REF!,\"AAAAAG+jrWc=\")","v":{"$error":"#REF!"}},{"$f":"AND(#REF!,\"AAAAAG+jrWg=\")","v":{"$error":"#REF!"}},{"$f":"AND(#REF!,\"AAAAAG+jrWk=\")","v":{"$error":"#REF!"}},{"$f":"IF(#REF!,\"AAAAAG+jrWo=\",0)","v":{"$error":"#REF!"}},{"$f":"AND(#REF!,\"AAAAAG+jrWs=\")","v":{"$error":"#REF!"}},{"$f":"AND(#REF!,\"AAAAAG+jrWw=\")","v":{"$error":"#REF!"}},{"$f":"AND(#REF!,\"AAAAAG+jrW0=\")","v":{"$error":"#REF!"}},{"$f":"AND(#REF!,\"AAAAAG+jrW4=\")","v":{"$error":"#REF!"}},{"$f":"AND(#REF!,\"AAAAAG+jrW8=\")","v":{"$error":"#REF!"}},{"$f":"AND(#REF!,\"AAAAAG+jrXA=\")","v":{"$error":"#REF!"}},{"$f":"AND(#REF!,\"AAAAAG+jrXE=\")","v":{"$error":"#REF!"}},{"$f":"AND(#REF!,\"AAAAAG+jrXI=\")","v":{"$error":"#REF!"}},{"$f":"IF(#REF!,\"AAAAAG+jrXM=\",0)","v":{"$error":"#REF!"}},{"$f":"AND(#REF!,\"AAAAAG+jrXQ=\")","v":{"$error":"#REF!"}},{"$f":"AND(#REF!,\"AAAAAG+jrXU=\")","v":{"$error":"#REF!"}},{"$f":"AND(#REF!,\"AAAAAG+jrXY=\")","v":{"$error":"#REF!"}},{"$f":"AND(#REF!,\"AAAAAG+jrXc=\")","v":{"$error":"#REF!"}},{"$f":"AND(#REF!,\"AAAAAG+jrXg=\")","v":{"$error":"#REF!"}},{"$f":"AND(#REF!,\"AAAAAG+jrXk=\")","v":{"$error":"#REF!"}},{"$f":"AND(#REF!,\"AAAAAG+jrXo=\")","v":{"$error":"#REF!"}},{"$f":"AND(#REF!,\"AAAAAG+jrXs=\")","v":{"$error":"#REF!"}},{"$f":"IF(#REF!,\"AAAAAG+jrXw=\",0)","v":{"$error":"#REF!"}},{"$f":"AND(#REF!,\"AAAAAG+jrX0=\")","v":{"$error":"#REF!"}},{"$f":"AND(#REF!,\"AAAAAG+jrX4=\")","v":{"$error":"#REF!"}},{"$f":"AND(#REF!,\"AAAAAG+jrX8=\")","v":{"$error":"#REF!"}},{"$f":"AND(#REF!,\"AAAAAG+jrYA=\")","v":{"$error":"#REF!"}},{"$f":"AND(#REF!,\"AAAAAG+jrYE=\")","v":{"$error":"#REF!"}},{"$f":"AND(#REF!,\"AAAAAG+jrYI=\")","v":{"$error":"#REF!"}},{"$f":"AND(#REF!,\"AAAAAG+jrYM=\")","v":{"$error":"#REF!"}},{"$f":"AND(#REF!,\"AAAAAG+jrYQ=\")","v":{"$error":"#REF!"}},{"$f":"IF(#REF!,\"AAAAAG+jrYU=\",0)","v":{"$error":"#REF!"}},{"$f":"AND(#REF!,\"AAAAAG+jrYY=\")","v":{"$error":"#REF!"}},{"$f":"AND(#REF!,\"AAAAAG+jrYc=\")","v":{"$error":"#REF!"}},{"$f":"AND(#REF!,\"AAAAAG+jrYg=\")","v":{"$error":"#REF!"}},{"$f":"AND(#REF!,\"AAAAAG+jrYk=\")","v":{"$error":"#REF!"}},{"$f":"AND(#REF!,\"AAAAAG+jrYo=\")","v":{"$error":"#REF!"}},{"$f":"AND(#REF!,\"AAAAAG+jrYs=\")","v":{"$error":"#REF!"}},{"$f":"AND(#REF!,\"AAAAAG+jrYw=\")","v":{"$error":"#REF!"}},{"$f":"AND(#REF!,\"AAAAAG+jrY0=\")","v":{"$error":"#REF!"}},{"$f":"IF(#REF!,\"AAAAAG+jrY4=\",0)","v":{"$error":"#REF!"}},{"$f":"AND(#REF!,\"AAAAAG+jrY8=\")","v":{"$error":"#REF!"}},{"$f":"AND(#REF!,\"AAAAAG+jrZA=\")","v":{"$error":"#REF!"}},{"$f":"AND(#REF!,\"AAAAAG+jrZE=\")","v":{"$error":"#REF!"}},{"$f":"AND(#REF!,\"AAAAAG+jrZI=\")","v":{"$error":"#REF!"}},{"$f":"AND(#REF!,\"AAAAAG+jrZM=\")","v":{"$error":"#REF!"}},{"$f":"AND(#REF!,\"AAAAAG+jrZQ=\")","v":{"$error":"#REF!"}},{"$f":"AND(#REF!,\"AAAAAG+jrZU=\")","v":{"$error":"#REF!"}},{"$f":"AND(#REF!,\"AAAAAG+jrZY=\")","v":{"$error":"#REF!"}},{"$f":"IF(#REF!,\"AAAAAG+jrZc=\",0)","v":{"$error":"#REF!"}},{"$f":"AND(#REF!,\"AAAAAG+jrZg=\")","v":{"$error":"#REF!"}},{"$f":"AND(#REF!,\"AAAAAG+jrZk=\")","v":{"$error":"#REF!"}},{"$f":"AND(#REF!,\"AAAAAG+jrZo=\")","v":{"$error":"#REF!"}},{"$f":"AND(#REF!,\"AAAAAG+jrZs=\")","v":{"$error":"#REF!"}},{"$f":"AND(#REF!,\"AAAAAG+jrZw=\")","v":{"$error":"#REF!"}},{"$f":"AND(#REF!,\"AAAAAG+jrZ0=\")","v":{"$error":"#REF!"}},{"$f":"AND(#REF!,\"AAAAAG+jrZ4=\")","v":{"$error":"#REF!"}},{"$f":"AND(#REF!,\"AAAAAG+jrZ8=\")","v":{"$error":"#REF!"}},{"$f":"IF(#REF!,\"AAAAAG+jraA=\",0)","v":{"$error":"#REF!"}},{"$f":"AND(#REF!,\"AAAAAG+jraE=\")","v":{"$error":"#REF!"}},{"$f":"AND(#REF!,\"AAAAAG+jraI=\")","v":{"$error":"#REF!"}},{"$f":"AND(#REF!,\"AAAAAG+jraM=\")","v":{"$error":"#REF!"}},{"$f":"AND(#REF!,\"AAAAAG+jraQ=\")","v":{"$error":"#REF!"}},{"$f":"AND(#REF!,\"AAAAAG+jraU=\")","v":{"$error":"#REF!"}},{"$f":"AND(#REF!,\"AAAAAG+jraY=\")","v":{"$error":"#REF!"}},{"$f":"AND(#REF!,\"AAAAAG+jrac=\")","v":{"$error":"#REF!"}},{"$f":"AND(#REF!,\"AAAAAG+jrag=\")","v":{"$error":"#REF!"}},{"$f":"IF(#REF!,\"AAAAAG+jrak=\",0)","v":{"$error":"#REF!"}},{"$f":"AND(#REF!,\"AAAAAG+jrao=\")","v":{"$error":"#REF!"}},{"$f":"AND(#REF!,\"AAAAAG+jras=\")","v":{"$error":"#REF!"}},{"$f":"AND(#REF!,\"AAAAAG+jraw=\")","v":{"$error":"#REF!"}},{"$f":"AND(#REF!,\"AAAAAG+jra0=\")","v":{"$error":"#REF!"}},{"$f":"AND(#REF!,\"AAAAAG+jra4=\")","v":{"$error":"#REF!"}},{"$f":"AND(#REF!,\"AAAAAG+jra8=\")","v":{"$error":"#REF!"}},{"$f":"AND(#REF!,\"AAAAAG+jrbA=\")","v":{"$error":"#REF!"}},{"$f":"AND(#REF!,\"AAAAAG+jrbE=\")","v":{"$error":"#REF!"}},{"$f":"IF(#REF!,\"AAAAAG+jrbI=\",0)","v":{"$error":"#REF!"}},{"$f":"AND(#REF!,\"AAAAAG+jrbM=\")","v":{"$error":"#REF!"}},{"$f":"AND(#REF!,\"AAAAAG+jrbQ=\")","v":{"$error":"#REF!"}},{"$f":"AND(#REF!,\"AAAAAG+jrbU=\")","v":{"$error":"#REF!"}},{"$f":"AND(#REF!,\"AAAAAG+jrbY=\")","v":{"$error":"#REF!"}},{"$f":"AND(#REF!,\"AAAAAG+jrbc=\")","v":{"$error":"#REF!"}},{"$f":"AND(#REF!,\"AAAAAG+jrbg=\")","v":{"$error":"#REF!"}},{"$f":"AND(#REF!,\"AAAAAG+jrbk=\")","v":{"$error":"#REF!"}},{"$f":"AND(#REF!,\"AAAAAG+jrbo=\")","v":{"$error":"#REF!"}},{"$f":"IF(#REF!,\"AAAAAG+jrbs=\",0)","v":{"$error":"#REF!"}},{"$f":"AND(#REF!,\"AAAAAG+jrbw=\")","v":{"$error":"#REF!"}},{"$f":"AND(#REF!,\"AAAAAG+jrb0=\")","v":{"$error":"#REF!"}},{"$f":"AND(#REF!,\"AAAAAG+jrb4=\")","v":{"$error":"#REF!"}},{"$f":"AND(#REF!,\"AAAAAG+jrb8=\")","v":{"$error":"#REF!"}},{"$f":"AND(#REF!,\"AAAAAG+jrcA=\")","v":{"$error":"#REF!"}},{"$f":"AND(#REF!,\"AAAAAG+jrcE=\")","v":{"$error":"#REF!"}},{"$f":"AND(#REF!,\"AAAAAG+jrcI=\")","v":{"$error":"#REF!"}},{"$f":"AND(#REF!,\"AAAAAG+jrcM=\")","v":{"$error":"#REF!"}},{"$f":"IF(#REF!,\"AAAAAG+jrcQ=\",0)","v":{"$error":"#REF!"}},{"$f":"AND(#REF!,\"AAAAAG+jrcU=\")","v":{"$error":"#REF!"}},{"$f":"AND(#REF!,\"AAAAAG+jrcY=\")","v":{"$error":"#REF!"}},{"$f":"AND(#REF!,\"AAAAAG+jrcc=\")","v":{"$error":"#REF!"}},{"$f":"AND(#REF!,\"AAAAAG+jrcg=\")","v":{"$error":"#REF!"}},{"$f":"AND(#REF!,\"AAAAAG+jrck=\")","v":{"$error":"#REF!"}},{"$f":"AND(#REF!,\"AAAAAG+jrco=\")","v":{"$error":"#REF!"}},{"$f":"AND(#REF!,\"AAAAAG+jrcs=\")","v":{"$error":"#REF!"}},{"$f":"AND(#REF!,\"AAAAAG+jrcw=\")","v":{"$error":"#REF!"}},{"$f":"IF(#REF!,\"AAAAAG+jrc0=\",0)","v":{"$error":"#REF!"}},{"$f":"AND(#REF!,\"AAAAAG+jrc4=\")","v":{"$error":"#REF!"}},{"$f":"AND(#REF!,\"AAAAAG+jrc8=\")","v":{"$error":"#REF!"}},{"$f":"AND(#REF!,\"AAAAAG+jrdA=\")","v":{"$error":"#REF!"}},{"$f":"AND(#REF!,\"AAAAAG+jrdE=\")","v":{"$error":"#REF!"}},{"$f":"AND(#REF!,\"AAAAAG+jrdI=\")","v":{"$error":"#REF!"}},{"$f":"AND(#REF!,\"AAAAAG+jrdM=\")","v":{"$error":"#REF!"}},{"$f":"AND(#REF!,\"AAAAAG+jrdQ=\")","v":{"$error":"#REF!"}},{"$f":"AND(#REF!,\"AAAAAG+jrdU=\")","v":{"$error":"#REF!"}},{"$f":"IF(#REF!,\"AAAAAG+jrdY=\",0)","v":{"$error":"#REF!"}},{"$f":"AND(#REF!,\"AAAAAG+jrdc=\")","v":{"$error":"#REF!"}},{"$f":"AND(#REF!,\"AAAAAG+jrdg=\")","v":{"$error":"#REF!"}},{"$f":"AND(#REF!,\"AAAAAG+jrdk=\")","v":{"$error":"#REF!"}},{"$f":"AND(#REF!,\"AAAAAG+jrdo=\")","v":{"$error":"#REF!"}},{"$f":"AND(#REF!,\"AAAAAG+jrds=\")","v":{"$error":"#REF!"}},{"$f":"AND(#REF!,\"AAAAAG+jrdw=\")","v":{"$error":"#REF!"}},{"$f":"AND(#REF!,\"AAAAAG+jrd0=\")","v":{"$error":"#REF!"}},{"$f":"AND(#REF!,\"AAAAAG+jrd4=\")","v":{"$error":"#REF!"}},{"$f":"IF(#REF!,\"AAAAAG+jrd8=\",0)","v":{"$error":"#REF!"}},{"$f":"AND(#REF!,\"AAAAAG+jreA=\")","v":{"$error":"#REF!"}},{"$f":"AND(#REF!,\"AAAAAG+jreE=\")","v":{"$error":"#REF!"}},{"$f":"AND(#REF!,\"AAAAAG+jreI=\")","v":{"$error":"#REF!"}},{"$f":"AND(#REF!,\"AAAAAG+jreM=\")","v":{"$error":"#REF!"}},{"$f":"AND(#REF!,\"AAAAAG+jreQ=\")","v":{"$error":"#REF!"}},{"$f":"AND(#REF!,\"AAAAAG+jreU=\")","v":{"$error":"#REF!"}},{"$f":"AND(#REF!,\"AAAAAG+jreY=\")","v":{"$error":"#REF!"}},{"$f":"AND(#REF!,\"AAAAAG+jrec=\")","v":{"$error":"#REF!"}},{"$f":"IF(#REF!,\"AAAAAG+jreg=\",0)","v":{"$error":"#REF!"}},{"$f":"AND(#REF!,\"AAAAAG+jrek=\")","v":{"$error":"#REF!"}},{"$f":"AND(#REF!,\"AAAAAG+jreo=\")","v":{"$error":"#REF!"}},{"$f":"AND(#REF!,\"AAAAAG+jres=\")","v":{"$error":"#REF!"}},{"$f":"AND(#REF!,\"AAAAAG+jrew=\")","v":{"$error":"#REF!"}},{"$f":"AND(#REF!,\"AAAAAG+jre0=\")","v":{"$error":"#REF!"}},{"$f":"AND(#REF!,\"AAAAAG+jre4=\")","v":{"$error":"#REF!"}},{"$f":"AND(#REF!,\"AAAAAG+jre8=\")","v":{"$error":"#REF!"}},{"$f":"AND(#REF!,\"AAAAAG+jrfA=\")","v":{"$error":"#REF!"}},{"$f":"IF(#REF!,\"AAAAAG+jrfE=\",0)","v":{"$error":"#REF!"}},{"$f":"AND(#REF!,\"AAAAAG+jrfI=\")","v":{"$error":"#REF!"}},{"$f":"AND(#REF!,\"AAAAAG+jrfM=\")","v":{"$error":"#REF!"}},{"$f":"AND(#REF!,\"AAAAAG+jrfQ=\")","v":{"$error":"#REF!"}},{"$f":"AND(#REF!,\"AAAAAG+jrfU=\")","v":{"$error":"#REF!"}},{"$f":"AND(#REF!,\"AAAAAG+jrfY=\")","v":{"$error":"#REF!"}},{"$f":"AND(#REF!,\"AAAAAG+jrfc=\")","v":{"$error":"#REF!"}},{"$f":"AND(#REF!,\"AAAAAG+jrfg=\")","v":{"$error":"#REF!"}},{"$f":"AND(#REF!,\"AAAAAG+jrfk=\")","v":{"$error":"#REF!"}},{"$f":"IF(#REF!,\"AAAAAG+jrfo=\",0)","v":{"$error":"#REF!"}},{"$f":"AND(#REF!,\"AAAAAG+jrfs=\")","v":{"$error":"#REF!"}},{"$f":"AND(#REF!,\"AAAAAG+jrfw=\")","v":{"$error":"#REF!"}},{"$f":"AND(#REF!,\"AAAAAG+jrf0=\")","v":{"$error":"#REF!"}},{"$f":"AND(#REF!,\"AAAAAG+jrf4=\")","v":{"$error":"#REF!"}},{"$f":"AND(#REF!,\"AAAAAG+jrf8=\")","v":{"$error":"#REF!"}}]
[{"$f":"AND(#REF!,\"AAAAAG2f/QA=\")","v":{"$error":"#REF!"}},{"$f":"AND(#REF!,\"AAAAAG2f/QE=\")","v":{"$error":"#REF!"}},{"$f":"AND(#REF!,\"AAAAAG2f/QI=\")","v":{"$error":"#REF!"}},{"$f":"IF(#REF!,\"AAAAAG2f/QM=\",0)","v":{"$error":"#REF!"}},{"$f":"AND(#REF!,\"AAAAAG2f/QQ=\")","v":{"$error":"#REF!"}},{"$f":"AND(#REF!,\"AAAAAG2f/QU=\")","v":{"$error":"#REF!"}},{"$f":"AND(#REF!,\"AAAAAG2f/QY=\")","v":{"$error":"#REF!"}},{"$f":"AND(#REF!,\"AAAAAG2f/Qc=\")","v":{"$error":"#REF!"}},{"$f":"AND(#REF!,\"AAAAAG2f/Qg=\")","v":{"$error":"#REF!"}},{"$f":"AND(#REF!,\"AAAAAG2f/Qk=\")","v":{"$error":"#REF!"}},{"$f":"AND(#REF!,\"AAAAAG2f/Qo=\")","v":{"$error":"#REF!"}},{"$f":"AND(#REF!,\"AAAAAG2f/Qs=\")","v":{"$error":"#REF!"}},{"$f":"IF(#REF!,\"AAAAAG2f/Qw=\",0)","v":{"$error":"#REF!"}},{"$f":"AND(#REF!,\"AAAAAG2f/Q0=\")","v":{"$error":"#REF!"}},{"$f":"AND(#REF!,\"AAAAAG2f/Q4=\")","v":{"$error":"#REF!"}},{"$f":"AND(#REF!,\"AAAAAG2f/Q8=\")","v":{"$error":"#REF!"}},{"$f":"AND(#REF!,\"AAAAAG2f/RA=\")","v":{"$error":"#REF!"}},{"$f":"AND(#REF!,\"AAAAAG2f/RE=\")","v":{"$error":"#REF!"}},{"$f":"AND(#REF!,\"AAAAAG2f/RI=\")","v":{"$error":"#REF!"}},{"$f":"AND(#REF!,\"AAAAAG2f/RM=\")","v":{"$error":"#REF!"}},{"$f":"AND(#REF!,\"AAAAAG2f/RQ=\")","v":{"$error":"#REF!"}},{"$f":"IF(#REF!,\"AAAAAG2f/RU=\",0)","v":{"$error":"#REF!"}},{"$f":"AND(#REF!,\"AAAAAG2f/RY=\")","v":{"$error":"#REF!"}},{"$f":"AND(#REF!,\"AAAAAG2f/Rc=\")","v":{"$error":"#REF!"}},{"$f":"AND(#REF!,\"AAAAAG2f/Rg=\")","v":{"$error":"#REF!"}},{"$f":"AND(#REF!,\"AAAAAG2f/Rk=\")","v":{"$error":"#REF!"}},{"$f":"AND(#REF!,\"AAAAAG2f/Ro=\")","v":{"$error":"#REF!"}},{"$f":"AND(#REF!,\"AAAAAG2f/Rs=\")","v":{"$error":"#REF!"}},{"$f":"AND(#REF!,\"AAAAAG2f/Rw=\")","v":{"$error":"#REF!"}},{"$f":"AND(#REF!,\"AAAAAG2f/R0=\")","v":{"$error":"#REF!"}},{"$f":"IF(#REF!,\"AAAAAG2f/R4=\",0)","v":{"$error":"#REF!"}},{"$f":"AND(#REF!,\"AAAAAG2f/R8=\")","v":{"$error":"#REF!"}},{"$f":"AND(#REF!,\"AAAAAG2f/SA=\")","v":{"$error":"#REF!"}},{"$f":"AND(#REF!,\"AAAAAG2f/SE=\")","v":{"$error":"#REF!"}},{"$f":"AND(#REF!,\"AAAAAG2f/SI=\")","v":{"$error":"#REF!"}},{"$f":"AND(#REF!,\"AAAAAG2f/SM=\")","v":{"$error":"#REF!"}},{"$f":"AND(#REF!,\"AAAAAG2f/SQ=\")","v":{"$error":"#REF!"}},{"$f":"AND(#REF!,\"AAAAAG2f/SU=\")","v":{"$error":"#REF!"}},{"$f":"AND(#REF!,\"AAAAAG2f/SY=\")","v":{"$error":"#REF!"}},{"$f":"IF(#REF!,\"AAAAAG2f/Sc=\",0)","v":{"$error":"#REF!"}},{"$f":"AND(#REF!,\"AAAAAG2f/Sg=\")","v":{"$error":"#REF!"}},{"$f":"AND(#REF!,\"AAAAAG2f/Sk=\")","v":{"$error":"#REF!"}},{"$f":"AND(#REF!,\"AAAAAG2f/So=\")","v":{"$error":"#REF!"}},{"$f":"AND(#REF!,\"AAAAAG2f/Ss=\")","v":{"$error":"#REF!"}},{"$f":"AND(#REF!,\"AAAAAG2f/Sw=\")","v":{"$error":"#REF!"}},{"$f":"AND(#REF!,\"AAAAAG2f/S0=\")","v":{"$error":"#REF!"}},{"$f":"AND(#REF!,\"AAAAAG2f/S4=\")","v":{"$error":"#REF!"}},{"$f":"AND(#REF!,\"AAAAAG2f/S8=\")","v":{"$error":"#REF!"}},{"$f":"IF(#REF!,\"AAAAAG2f/TA=\",0)","v":{"$error":"#REF!"}},{"$f":"AND(#REF!,\"AAAAAG2f/TE=\")","v":{"$error":"#REF!"}},{"$f":"AND(#REF!,\"AAAAAG2f/TI=\")","v":{"$error":"#REF!"}},{"$f":"AND(#REF!,\"AAAAAG2f/TM=\")","v":{"$error":"#REF!"}},{"$f":"AND(#REF!,\"AAAAAG2f/TQ=\")","v":{"$error":"#REF!"}},{"$f":"AND(#REF!,\"AAAAAG2f/TU=\")","v":{"$error":"#REF!"}},{"$f":"AND(#REF!,\"AAAAAG2f/TY=\")","v":{"$error":"#REF!"}},{"$f":"AND(#REF!,\"AAAAAG2f/Tc=\")","v":{"$error":"#REF!"}},{"$f":"AND(#REF!,\"AAAAAG2f/Tg=\")","v":{"$error":"#REF!"}},{"$f":"IF(#REF!,\"AAAAAG2f/Tk=\",0)","v":{"$error":"#REF!"}},{"$f":"AND(#REF!,\"AAAAAG2f/To=\")","v":{"$error":"#REF!"}},{"$f":"AND(#REF!,\"AAAAAG2f/Ts=\")","v":{"$error":"#REF!"}},{"$f":"AND(#REF!,\"AAAAAG2f/Tw=\")","v":{"$error":"#REF!"}},{"$f":"AND(#REF!,\"AAAAAG2f/T0=\")","v":{"$error":"#REF!"}},{"$f":"AND(#REF!,\"AAAAAG2f/T4=\")","v":{"$error":"#REF!"}},{"$f":"AND(#REF!,\"AAAAAG2f/T8=\")","v":{"$error":"#REF!"}},{"$f":"AND(#REF!,\"AAAAAG2f/UA=\")","v":{"$error":"#REF!"}},{"$f":"AND(#REF!,\"AAAAAG2f/UE=\")","v":{"$error":"#REF!"}},{"$f":"IF(#REF!,\"AAAAAG2f/UI=\",0)","v":{"$error":"#REF!"}},{"$f":"AND(#REF!,\"AAAAAG2f/UM=\")","v":{"$error":"#REF!"}},{"$f":"AND(#REF!,\"AAAAAG2f/UQ=\")","v":{"$error":"#REF!"}},{"$f":"AND(#REF!,\"AAAAAG2f/UU=\")","v":{"$error":"#REF!"}},{"$f":"AND(#REF!,\"AAAAAG2f/UY=\")","v":{"$error":"#REF!"}},{"$f":"AND(#REF!,\"AAAAAG2f/Uc=\")","v":{"$error":"#REF!"}},{"$f":"AND(#REF!,\"AAAAAG2f/Ug=\")","v":{"$error":"#REF!"}},{"$f":"AND(#REF!,\"AAAAAG2f/Uk=\")","v":{"$error":"#REF!"}},{"$f":"AND(#REF!,\"AAAAAG2f/Uo=\")","v":{"$error":"#REF!"}},{"$f":"IF(#REF!,\"AAAAAG2f/Us=\",0)","v":{"$error":"#REF!"}},{"$f":"AND(#REF!,\"AAAAAG2f/Uw=\")","v":{"$error":"#REF!"}},{"$f":"AND(#REF!,\"AAAAAG2f/U0=\")","v":{"$error":"#REF!"}},{"$f":"AND(#REF!,\"AAAAAG2f/U4=\")","v":{"$error":"#REF!"}},{"$f":"AND(#REF!,\"AAAAAG2f/U8=\")","v":{"$error":"#REF!"}},{"$f":"AND(#REF!,\"AAAAAG2f/VA=\")","v":{"$error":"#REF!"}},{"$f":"AND(#REF!,\"AAAAAG2f/VE=\")","v":{"$error":"#REF!"}},{"$f":"AND(#REF!,\"AAAAAG2f/VI=\")","v":{"$error":"#REF!"}},{"$f":"AND(#REF!,\"AAAAAG2f/VM=\")","v":{"$error":"#REF!"}},{"$f":"IF(#REF!,\"AAAAAG2f/VQ=\",0)","v":{"$error":"#REF!"}},{"$f":"AND(#REF!,\"AAAAAG2f/VU=\")","v":{"$error":"#REF!"}},{"$f":"AND(#REF!,\"AAAAAG2f/VY=\")","v":{"$error":"#REF!"}},{"$f":"AND(#REF!,\"AAAAAG2f/Vc=\")","v":{"$error":"#REF!"}},{"$f":"AND(#REF!,\"AAAAAG2f/Vg=\")","v":{"$error":"#REF!"}},{"$f":"AND(#REF!,\"AAAAAG2f/Vk=\")","v":{"$error":"#REF!"}},{"$f":"AND(#REF!,\"AAAAAG2f/Vo=\")","v":{"$error":"#REF!"}},{"$f":"AND(#REF!,\"AAAAAG2f/Vs=\")","v":{"$error":"#REF!"}},{"$f":"AND(#REF!,\"AAAAAG2f/Vw=\")","v":{"$error":"#REF!"}},{"$f":"IF(#REF!,\"AAAAAG2f/V0=\",0)","v":{"$error":"#REF!"}},{"$f":"AND(#REF!,\"AAAAAG2f/V4=\")","v":{"$error":"#REF!"}},{"$f":"AND(#REF!,\"AAAAAG2f/V8=\")","v":{"$error":"#REF!"}},{"$f":"AND(#REF!,\"AAAAAG2f/WA=\")","v":{"$error":"#REF!"}},{"$f":"AND(#REF!,\"AAAAAG2f/WE=\")","v":{"$error":"#REF!"}},{"$f":"AND(#REF!,\"AAAAAG2f/WI=\")","v":{"$error":"#REF!"}},{"$f":"AND(#REF!,\"AAAAAG2f/WM=\")","v":{"$error":"#REF!"}},{"$f":"AND(#REF!,\"AAAAAG2f/WQ=\")","v":{"$error":"#REF!"}},{"$f":"AND(#REF!,\"AAAAAG2f/WU=\")","v":{"$error":"#REF!"}},{"$f":"IF(#REF!,\"AAAAAG2f/WY=\",0)","v":{"$error":"#REF!"}},{"$f":"AND(#REF!,\"AAAAAG2f/Wc=\")","v":{"$error":"#REF!"}},{"$f":"AND(#REF!,\"AAAAAG2f/Wg=\")","v":{"$error":"#REF!"}},{"$f":"AND(#REF!,\"AAAAAG2f/Wk=\")","v":{"$error":"#REF!"}},{"$f":"AND(#REF!,\"AAAAAG2f/Wo=\")","v":{"$error":"#REF!"}},{"$f":"AND(#REF!,\"AAAAAG2f/Ws=\")","v":{"$error":"#REF!"}},{"$f":"AND(#REF!,\"AAAAAG2f/Ww=\")","v":{"$error":"#REF!"}},{"$f":"AND(#REF!,\"AAAAAG2f/W0=\")","v":{"$error":"#REF!"}},{"$f":"AND(#REF!,\"AAAAAG2f/W4=\")","v":{"$error":"#REF!"}},{"$f":"IF(#REF!,\"AAAAAG2f/W8=\",0)","v":{"$error":"#REF!"}},{"$f":"AND(#REF!,\"AAAAAG2f/XA=\")","v":{"$error":"#REF!"}},{"$f":"AND(#REF!,\"AAAAAG2f/XE=\")","v":{"$error":"#REF!"}},{"$f":"AND(#REF!,\"AAAAAG2f/XI=\")","v":{"$error":"#REF!"}},{"$f":"AND(#REF!,\"AAAAAG2f/XM=\")","v":{"$error":"#REF!"}},{"$f":"AND(#REF!,\"AAAAAG2f/XQ=\")","v":{"$error":"#REF!"}},{"$f":"AND(#REF!,\"AAAAAG2f/XU=\")","v":{"$error":"#REF!"}},{"$f":"AND(#REF!,\"AAAAAG2f/XY=\")","v":{"$error":"#REF!"}},{"$f":"AND(#REF!,\"AAAAAG2f/Xc=\")","v":{"$error":"#REF!"}},{"$f":"IF(#REF!,\"AAAAAG2f/Xg=\",0)","v":{"$error":"#REF!"}},{"$f":"AND(#REF!,\"AAAAAG2f/Xk=\")","v":{"$error":"#REF!"}},{"$f":"AND(#REF!,\"AAAAAG2f/Xo=\")","v":{"$error":"#REF!"}},{"$f":"AND(#REF!,\"AAAAAG2f/Xs=\")","v":{"$error":"#REF!"}},{"$f":"AND(#REF!,\"AAAAAG2f/Xw=\")","v":{"$error":"#REF!"}},{"$f":"AND(#REF!,\"AAAAAG2f/X0=\")","v":{"$error":"#REF!"}},{"$f":"AND(#REF!,\"AAAAAG2f/X4=\")","v":{"$error":"#REF!"}},{"$f":"AND(#REF!,\"AAAAAG2f/X8=\")","v":{"$error":"#REF!"}},{"$f":"AND(#REF!,\"AAAAAG2f/YA=\")","v":{"$error":"#REF!"}},{"$f":"IF(#REF!,\"AAAAAG2f/YE=\",0)","v":{"$error":"#REF!"}},{"$f":"AND(#REF!,\"AAAAAG2f/YI=\")","v":{"$error":"#REF!"}},{"$f":"AND(#REF!,\"AAAAAG2f/YM=\")","v":{"$error":"#REF!"}},{"$f":"AND(#REF!,\"AAAAAG2f/YQ=\")","v":{"$error":"#REF!"}},{"$f":"AND(#REF!,\"AAAAAG2f/YU=\")","v":{"$error":"#REF!"}},{"$f":"AND(#REF!,\"AAAAAG2f/YY=\")","v":{"$error":"#REF!"}},{"$f":"AND(#REF!,\"AAAAAG2f/Yc=\")","v":{"$error":"#REF!"}},{"$f":"AND(#REF!,\"AAAAAG2f/Yg=\")","v":{"$error":"#REF!"}},{"$f":"AND(#REF!,\"AAAAAG2f/Yk=\")","v":{"$error":"#REF!"}},{"$f":"IF(#REF!,\"AAAAAG2f/Yo=\",0)","v":{"$error":"#REF!"}},{"$f":"AND(#REF!,\"AAAAAG2f/Ys=\")","v":{"$error":"#REF!"}},{"$f":"AND(#REF!,\"AAAAAG2f/Yw=\")","v":{"$error":"#REF!"}},{"$f":"AND(#REF!,\"AAAAAG2f/Y0=\")","v":{"$error":"#REF!"}},{"$f":"AND(#REF!,\"AAAAAG2f/Y4=\")","v":{"$error":"#REF!"}},{"$f":"AND(#REF!,\"AAAAAG2f/Y8=\")","v":{"$error":"#REF!"}},{"$f":"AND(#REF!,\"AAAAAG2f/ZA=\")","v":{"$error":"#REF!"}},{"$f":"AND(#REF!,\"AAAAAG2f/ZE=\")","v":{"$error":"#REF!"}},{"$f":"AND(#REF!,\"AAAAAG2f/ZI=\")","v":{"$error":"#REF!"}},{"$f":"IF(#REF!,\"AAAAAG2f/ZM=\",0)","v":{"$error":"#REF!"}},{"$f":"AND(#REF!,\"AAAAAG2f/ZQ=\")","v":{"$error":"#REF!"}},{"$f":"AND(#REF!,\"AAAAAG2f/ZU=\")","v":{"$error":"#REF!"}},{"$f":"AND(#REF!,\"AAAAAG2f/ZY=\")","v":{"$error":"#REF!"}},{"$f":"AND(#REF!,\"AAAAAG2f/Zc=\")","v":{"$error":"#REF!"}},{"$f":"AND(#REF!,\"AAAAAG2f/Zg=\")","v":{"$error":"#REF!"}},{"$f":"AND(#REF!,\"AAAAAG2f/Zk=\")","v":{"$error":"#REF!"}},{"$f":"AND(#REF!,\"AAAAAG2f/Zo=\")","v":{"$error":"#REF!"}},{"$f":"AND(#REF!,\"AAAAAG2f/Zs=\")","v":{"$error":"#REF!"}},{"$f":"IF(#REF!,\"AAAAAG2f/Zw=\",0)","v":{"$error":"#REF!"}},{"$f":"AND(#REF!,\"AAAAAG2f/Z0=\")","v":{"$error":"#REF!"}},{"$f":"AND(#REF!,\"AAAAAG2f/Z4=\")","v":{"$error":"#REF!"}},{"$f":"AND(#REF!,\"AAAAAG2f/Z8=\")","v":{"$error":"#REF!"}},{"$f":"AND(#REF!,\"AAAAAG2f/aA=\")","v":{"$error":"#REF!"}},{"$f":"AND(#REF!,\"AAAAAG2f/aE=\")","v":{"$error":"#REF!"}},{"$f":"AND(#REF!,\"AAAAAG2f/aI=\")","v":{"$error":"#REF!"}},{"$f":"AND(#REF!,\"AAAAAG2f/aM=\")","v":{"$error":"#REF!"}},{"$f":"AND(#REF!,\"AAAAAG2f/aQ=\")","v":{"$error":"#REF!"}},{"$f":"IF(#REF!,\"AAAAAG2f/aU=\",0)","v":{"$error":"#REF!"}},{"$f":"AND(#REF!,\"AAAAAG2f/aY=\")","v":{"$error":"#REF!"}},{"$f":"AND(#REF!,\"AAAAAG2f/ac=\")","v":{"$error":"#REF!"}},{"$f":"AND(#REF!,\"AAAAAG2f/ag=\")","v":{"$error":"#REF!"}},{"$f":"AND(#REF!,\"AAAAAG2f/ak=\")","v":{"$error":"#REF!"}},{"$f":"AND(#REF!,\"AAAAAG2f/ao=\")","v":{"$error":"#REF!"}},{"$f":"AND(#REF!,\"AAAAAG2f/as=\")","v":{"$error":"#REF!"}},{"$f":"AND(#REF!,\"AAAAAG2f/aw=\")","v":{"$error":"#REF!"}},{"$f":"AND(#REF!,\"AAAAAG2f/a0=\")","v":{"$error":"#REF!"}},{"$f":"IF(#REF!,\"AAAAAG2f/a4=\",0)","v":{"$error":"#REF!"}},{"$f":"AND(#REF!,\"AAAAAG2f/a8=\")","v":{"$error":"#REF!"}},{"$f":"AND(#REF!,\"AAAAAG2f/bA=\")","v":{"$error":"#REF!"}},{"$f":"AND(#REF!,\"AAAAAG2f/bE=\")","v":{"$error":"#REF!"}},{"$f":"AND(#REF!,\"AAAAAG2f/bI=\")","v":{"$error":"#REF!"}},{"$f":"AND(#REF!,\"AAAAAG2f/bM=\")","v":{"$error":"#REF!"}},{"$f":"AND(#REF!,\"AAAAAG2f/bQ=\")","v":{"$error":"#REF!"}},{"$f":"AND(#REF!,\"AAAAAG2f/bU=\")","v":{"$error":"#REF!"}},{"$f":"AND(#REF!,\"AAAAAG2f/bY=\")","v":{"$error":"#REF!"}},{"$f":"IF(#REF!,\"AAAAAG2f/bc=\",0)","v":{"$error":"#REF!"}},{"$f":"AND(#REF!,\"AAAAAG2f/bg=\")","v":{"$error":"#REF!"}},{"$f":"AND(#REF!,\"AAAAAG2f/bk=\")","v":{"$error":"#REF!"}},{"$f":"AND(#REF!,\"AAAAAG2f/bo=\")","v":{"$error":"#REF!"}},{"$f":"AND(#REF!,\"AAAAAG2f/bs=\")","v":{"$error":"#REF!"}},{"$f":"AND(#REF!,\"AAAAAG2f/bw=\")","v":{"$error":"#REF!"}},{"$f":"AND(#REF!,\"AAAAAG2f/b0=\")","v":{"$error":"#REF!"}},{"$f":"AND(#REF!,\"AAAAAG2f/b4=\")","v":{"$error":"#REF!"}},{"$f":"AND(#REF!,\"AAAAAG2f/b8=\")","v":{"$error":"#REF!"}},{"$f":"IF(#REF!,\"AAAAAG2f/cA=\",0)","v":{"$error":"#REF!"}},{"$f":"AND(#REF!,\"AAAAAG2f/cE=\")","v":{"$error":"#REF!"}},{"$f":"AND(#REF!,\"AAAAAG2f/cI=\")","v":{"$error":"#REF!"}},{"$f":"AND(#REF!,\"AAAAAG2f/cM=\")","v":{"$error":"#REF!"}},{"$f":"AND(#REF!,\"AAAAAG2f/cQ=\")","v":{"$error":"#REF!"}},{"$f":"AND(#REF!,\"AAAAAG2f/cU=\")","v":{"$error":"#REF!"}},{"$f":"AND(#REF!,\"AAAAAG2f/cY=\")","v":{"$error":"#REF!"}},{"$f":"AND(#REF!,\"AAAAAG2f/cc=\")","v":{"$error":"#REF!"}},{"$f":"AND(#REF!,\"AAAAAG2f/cg=\")","v":{"$error":"#REF!"}},{"$f":"IF(#REF!,\"AAAAAG2f/ck=\",0)","v":{"$error":"#REF!"}},{"$f":"AND(#REF!,\"AAAAAG2f/co=\")","v":{"$error":"#REF!"}},{"$f":"AND(#REF!,\"AAAAAG2f/cs=\")","v":{"$error":"#REF!"}},{"$f":"AND(#REF!,\"AAAAAG2f/cw=\")","v":{"$error":"#REF!"}},{"$f":"AND(#REF!,\"AAAAAG2f/c0=\")","v":{"$error":"#REF!"}},{"$f":"AND(#REF!,\"AAAAAG2f/c4=\")","v":{"$error":"#REF!"}},{"$f":"AND(#REF!,\"AAAAAG2f/c8=\")","v":{"$error":"#REF!"}},{"$f":"AND(#REF!,\"AAAAAG2f/dA=\")","v":{"$error":"#REF!"}},{"$f":"AND(#REF!,\"AAAAAG2f/dE=\")","v":{"$error":"#REF!"}},{"$f":"IF(#REF!,\"AAAAAG2f/dI=\",0)","v":{"$error":"#REF!"}},{"$f":"AND(#REF!,\"AAAAAG2f/dM=\")","v":{"$error":"#REF!"}},{"$f":"AND(#REF!,\"AAAAAG2f/dQ=\")","v":{"$error":"#REF!"}},{"$f":"AND(#REF!,\"AAAAAG2f/dU=\")","v":{"$error":"#REF!"}},{"$f":"AND(#REF!,\"AAAAAG2f/dY=\")","v":{"$error":"#REF!"}},{"$f":"AND(#REF!,\"AAAAAG2f/dc=\")","v":{"$error":"#REF!"}},{"$f":"AND(#REF!,\"AAAAAG2f/dg=\")","v":{"$error":"#REF!"}},{"$f":"AND(#REF!,\"AAAAAG2f/dk=\")","v":{"$error":"#REF!"}},{"$f":"AND(#REF!,\"AAAAAG2f/do=\")","v":{"$error":"#REF!"}},{"$f":"IF(#REF!,\"AAAAAG2f/ds=\",0)","v":{"$error":"#REF!"}},{"$f":"AND(#REF!,\"AAAAAG2f/dw=\")","v":{"$error":"#REF!"}},{"$f":"AND(#REF!,\"AAAAAG2f/d0=\")","v":{"$error":"#REF!"}},{"$f":"AND(#REF!,\"AAAAAG2f/d4=\")","v":{"$error":"#REF!"}},{"$f":"AND(#REF!,\"AAAAAG2f/d8=\")","v":{"$error":"#REF!"}},{"$f":"AND(#REF!,\"AAAAAG2f/eA=\")","v":{"$error":"#REF!"}},{"$f":"AND(#REF!,\"AAAAAG2f/eE=\")","v":{"$error":"#REF!"}},{"$f":"AND(#REF!,\"AAAAAG2f/eI=\")","v":{"$error":"#REF!"}},{"$f":"AND(#REF!,\"AAAAAG2f/eM=\")","v":{"$error":"#REF!"}},{"$f":"IF(#REF!,\"AAAAAG2f/eQ=\",0)","v":{"$error":"#REF!"}},{"$f":"AND(#REF!,\"AAAAAG2f/eU=\")","v":{"$error":"#REF!"}},{"$f":"AND(#REF!,\"AAAAAG2f/eY=\")","v":{"$error":"#REF!"}},{"$f":"AND(#REF!,\"AAAAAG2f/ec=\")","v":{"$error":"#REF!"}},{"$f":"AND(#REF!,\"AAAAAG2f/eg=\")","v":{"$error":"#REF!"}},{"$f":"AND(#REF!,\"AAAAAG2f/ek=\")","v":{"$error":"#REF!"}},{"$f":"AND(#REF!,\"AAAAAG2f/eo=\")","v":{"$error":"#REF!"}},{"$f":"AND(#REF!,\"AAAAAG2f/es=\")","v":{"$error":"#REF!"}},{"$f":"AND(#REF!,\"AAAAAG2f/ew=\")","v":{"$error":"#REF!"}},{"$f":"IF(#REF!,\"AAAAAG2f/e0=\",0)","v":{"$error":"#REF!"}},{"$f":"AND(#REF!,\"AAAAAG2f/e4=\")","v":{"$error":"#REF!"}},{"$f":"AND(#REF!,\"AAAAAG2f/e8=\")","v":{"$error":"#REF!"}},{"$f":"AND(#REF!,\"AAAAAG2f/fA=\")","v":{"$error":"#REF!"}},{"$f":"AND(#REF!,\"AAAAAG2f/fE=\")","v":{"$error":"#REF!"}},{"$f":"AND(#REF!,\"AAAAAG2f/fI=\")","v":{"$error":"#REF!"}},{"$f":"AND(#REF!,\"AAAAAG2f/fM=\")","v":{"$error":"#REF!"}},{"$f":"AND(#REF!,\"AAAAAG2f/fQ=\")","v":{"$error":"#REF!"}},{"$f":"AND(#REF!,\"AAAAAG2f/fU=\")","v":{"$error":"#REF!"}},{"$f":"IF(#REF!,\"AAAAAG2f/fY=\",0)","v":{"$error":"#REF!"}},{"$f":"AND(#REF!,\"AAAAAG2f/fc=\")","v":{"$error":"#REF!"}},{"$f":"AND(#REF!,\"AAAAAG2f/fg=\")","v":{"$error":"#REF!"}},{"$f":"AND(#REF!,\"AAAAAG2f/fk=\")","v":{"$error":"#REF!"}},{"$f":"AND(#REF!,\"AAAAAG2f/fo=\")","v":{"$error":"#REF!"}},{"$f":"AND(#REF!,\"AAAAAG2f/fs=\")","v":{"$error":"#REF!"}},{"$f":"AND(#REF!,\"AAAAAG2f/fw=\")","v":{"$error":"#REF!"}},{"$f":"AND(#REF!,\"AAAAAG2f/f0=\")","v":{"$error":"#REF!"}},{"$f":"AND(#REF!,\"AAAAAG2f/f4=\")","v":{"$error":"#REF!"}},{"$f":"IF(#REF!,\"AAAAAG2f/f8=\",0)","v":{"$error":"#REF!"}}]
[{"$f":"AND(#REF!,\"AAAAADvxbgA=\")","v":{"$error":"#REF!"}},{"$f":"AND(#REF!,\"AAAAADvxbgE=\")","v":{"$error":"#REF!"}},{"$f":"AND(#REF!,\"AAAAADvxbgI=\")","v":{"$error":"#REF!"}},{"$f":"AND(#REF!,\"AAAAADvxbgM=\")","v":{"$error":"#REF!"}},{"$f":"AND(#REF!,\"AAAAADvxbgQ=\")","v":{"$error":"#REF!"}},{"$f":"AND(#REF!,\"AAAAADvxbgU=\")","v":{"$error":"#REF!"}},{"$f":"AND(#REF!,\"AAAAADvxbgY=\")","v":{"$error":"#REF!"}},{"$f":"AND(#REF!,\"AAAAADvxbgc=\")","v":{"$error":"#REF!"}},{"$f":"IF(#REF!,\"AAAAADvxbgg=\",0)","v":{"$error":"#REF!"}},{"$f":"AND(#REF!,\"AAAAADvxbgk=\")","v":{"$error":"#REF!"}},{"$f":"AND(#REF!,\"AAAAADvxbgo=\")","v":{"$error":"#REF!"}},{"$f":"AND(#REF!,\"AAAAADvxbgs=\")","v":{"$error":"#REF!"}},{"$f":"AND(#REF!,\"AAAAADvxbgw=\")","v":{"$error":"#REF!"}},{"$f":"AND(#REF!,\"AAAAADvxbg0=\")","v":{"$error":"#REF!"}},{"$f":"AND(#REF!,\"AAAAADvxbg4=\")","v":{"$error":"#REF!"}},{"$f":"AND(#REF!,\"AAAAADvxbg8=\")","v":{"$error":"#REF!"}},{"$f":"AND(#REF!,\"AAAAADvxbhA=\")","v":{"$error":"#REF!"}},{"$f":"IF(#REF!,\"AAAAADvxbhE=\",0)","v":{"$error":"#REF!"}},{"$f":"AND(#REF!,\"AAAAADvxbhI=\")","v":{"$error":"#REF!"}},{"$f":"AND(#REF!,\"AAAAADvxbhM=\")","v":{"$error":"#REF!"}},{"$f":"AND(#REF!,\"AAAAADvxbhQ=\")","v":{"$error":"#REF!"}},{"$f":"AND(#REF!,\"AAAAADvxbhU=\")","v":{"$error":"#REF!"}},{"$f":"AND(#REF!,\"AAAAADvxbhY=\")","v":{"$error":"#REF!"}},{"$f":"AND(#REF!,\"AAAAADvxbhc=\")","v":{"$error":"#REF!"}},{"$f":"AND(#REF!,\"AAAAADvxbhg=\")","v":{"$error":"#REF!"}},{"$f":"AND(#REF!,\"AAAAADvxbhk=\")","v":{"$error":"#REF!"}},{"$f":"IF(#REF!,\"AAAAADvxbho=\",0)","v":{"$error":"#REF!"}},{"$f":"AND(#REF!,\"AAAAADvxbhs=\")","v":{"$error":"#REF!"}},{"$f":"AND(#REF!,\"AAAAADvxbhw=\")","v":{"$error":"#REF!"}},{"$f":"AND(#REF!,\"AAAAADvxbh0=\")","v":{"$error":"#REF!"}},{"$f":"AND(#REF!,\"AAAAADvxbh4=\")","v":{"$error":"#REF!"}},{"$f":"AND(#REF!,\"AAAAADvxbh8=\")","v":{"$error":"#REF!"}},{"$f":"AND(#REF!,\"AAAAADvxbiA=\")","v":{"$error":"#REF!"}},{"$f":"AND(#REF!,\"AAAAADvxbiE=\")","v":{"$error":"#REF!"}},{"$f":"AND(#REF!,\"AAAAADvxbiI=\")","v":{"$error":"#REF!"}},{"$f":"IF(#REF!,\"AAAAADvxbiM=\",0)","v":{"$error":"#REF!"}},{"$f":"AND(#REF!,\"AAAAADvxbiQ=\")","v":{"$error":"#REF!"}},{"$f":"AND(#REF!,\"AAAAADvxbiU=\")","v":{"$error":"#REF!"}},{"$f":"AND(#REF!,\"AAAAADvxbiY=\")","v":{"$error":"#REF!"}},{"$f":"AND(#REF!,\"AAAAADvxbic=\")","v":{"$error":"#REF!"}},{"$f":"AND(#REF!,\"AAAAADvxbig=\")","v":{"$error":"#REF!"}},{"$f":"AND(#REF!,\"AAAAADvxbik=\")","v":{"$error":"#REF!"}},{"$f":"AND(#REF!,\"AAAAADvxbio=\")","v":{"$error":"#REF!"}},{"$f":"AND(#REF!,\"AAAAADvxbis=\")","v":{"$error":"#REF!"}},{"$f":"IF(#REF!,\"AAAAADvxbiw=\",0)","v":{"$error":"#REF!"}},{"$f":"AND(#REF!,\"AAAAADvxbi0=\")","v":{"$error":"#REF!"}},{"$f":"AND(#REF!,\"AAAAADvxbi4=\")","v":{"$error":"#REF!"}},{"$f":"AND(#REF!,\"AAAAADvxbi8=\")","v":{"$error":"#REF!"}},{"$f":"AND(#REF!,\"AAAAADvxbjA=\")","v":{"$error":"#REF!"}},{"$f":"AND(#REF!,\"AAAAADvxbjE=\")","v":{"$error":"#REF!"}},{"$f":"AND(#REF!,\"AAAAADvxbjI=\")","v":{"$error":"#REF!"}},{"$f":"AND(#REF!,\"AAAAADvxbjM=\")","v":{"$error":"#REF!"}},{"$f":"AND(#REF!,\"AAAAADvxbjQ=\")","v":{"$error":"#REF!"}},{"$f":"IF(#REF!,\"AAAAADvxbjU=\",0)","v":{"$error":"#REF!"}},{"$f":"AND(#REF!,\"AAAAADvxbjY=\")","v":{"$error":"#REF!"}},{"$f":"AND(#REF!,\"AAAAADvxbjc=\")","v":{"$error":"#REF!"}},{"$f":"AND(#REF!,\"AAAAADvxbjg=\")","v":{"$error":"#REF!"}},{"$f":"AND(#REF!,\"AAAAADvxbjk=\")","v":{"$error":"#REF!"}},{"$f":"AND(#REF!,\"AAAAADvxbjo=\")","v":{"$error":"#REF!"}},{"$f":"AND(#REF!,\"AAAAADvxbjs=\")","v":{"$error":"#REF!"}},{"$f":"AND(#REF!,\"AAAAADvxbjw=\")","v":{"$error":"#REF!"}},{"$f":"AND(#REF!,\"AAAAADvxbj0=\")","v":{"$error":"#REF!"}},{"$f":"IF(#REF!,\"AAAAADvxbj4=\",0)","v":{"$error":"#REF!"}},{"$f":"AND(#REF!,\"AAAAADvxbj8=\")","v":{"$error":"#REF!"}},{"$f":"AND(#REF!,\"AAAAADvxbkA=\")","v":{"$error":"#REF!"}},{"$f":"AND(#REF!,\"AAAAADvxbkE=\")","v":{"$error":"#REF!"}},{"$f":"AND(#REF!,\"AAAAADvxbkI=\")","v":{"$error":"#REF!"}},{"$f":"AND(#REF!,\"AAAAADvxbkM=\")","v":{"$error":"#REF!"}},{"$f":"AND(#REF!,\"AAAAADvxbkQ=\")","v":{"$error":"#REF!"}},{"$f":"AND(#REF!,\"AAAAADvxbkU=\")","v":{"$error":"#REF!"}},{"$f":"AND(#REF!,\"AAAAADvxbkY=\")","v":{"$error":"#REF!"}},{"$f":"IF(#REF!,\"AAAAADvxbkc=\",0)","v":{"$error":"#REF!"}},{"$f":"AND(#REF!,\"AAAAADvxbkg=\")","v":{"$error":"#REF!"}},{"$f":"AND(#REF!,\"AAAAADvxbkk=\")","v":{"$error":"#REF!"}},{"$f":"AND(#REF!,\"AAAAADvxbko=\")","v":{"$error":"#REF!"}},{"$f":"AND(#REF!,\"AAAAADvxbks=\")","v":{"$error":"#REF!"}},{"$f":"AND(#REF!,\"AAAAADvxbkw=\")","v":{"$error":"#REF!"}},{"$f":"AND(#REF!,\"AAAAADvxbk0=\")","v":{"$error":"#REF!"}},{"$f":"AND(#REF!,\"AAAAADvxbk4=\")","v":{"$error":"#REF!"}},{"$f":"AND(#REF!,\"AAAAADvxbk8=\")","v":{"$error":"#REF!"}},{"$f":"IF(#REF!,\"AAAAADvxblA=\",0)","v":{"$error":"#REF!"}},{"$f":"AND(#REF!,\"AAAAADvxblE=\")","v":{"$error":"#REF!"}},{"$f":"AND(#REF!,\"AAAAADvxblI=\")","v":{"$error":"#REF!"}},{"$f":"AND(#REF!,\"AAAAADvxblM=\")","v":{"$error":"#REF!"}},{"$f":"AND(#REF!,\"AAAAADvxblQ=\")","v":{"$error":"#REF!"}},{"$f":"AND(#REF!,\"AAAAADvxblU=\")","v":{"$error":"#REF!"}},{"$f":"AND(#REF!,\"AAAAADvxblY=\")","v":{"$error":"#REF!"}},{"$f":"AND(#REF!,\"AAAAADvxblc=\")","v":{"$error":"#REF!"}},{"$f":"AND(#REF!,\"AAAAADvxblg=\")","v":{"$error":"#REF!"}},{"$f":"IF(#REF!,\"AAAAADvxblk=\",0)","v":{"$error":"#REF!"}},{"$f":"AND(#REF!,\"AAAAADvxblo=\")","v":{"$error":"#REF!"}},{"$f":"AND(#REF!,\"AAAAADvxbls=\")","v":{"$error":"#REF!"}},{"$f":"AND(#REF!,\"AAAAADvxblw=\")","v":{"$error":"#REF!"}},{"$f":"AND(#REF!,\"AAAAADvxbl0=\")","v":{"$error":"#REF!"}},{"$f":"AND(#REF!,\"AAAAADvxbl4=\")","v":{"$error":"#REF!"}},{"$f":"AND(#REF!,\"AAAAADvxbl8=\")","v":{"$error":"#REF!"}},{"$f":"AND(#REF!,\"AAAAADvxbmA=\")","v":{"$error":"#REF!"}},{"$f":"AND(#REF!,\"AAAAADvxbmE=\")","v":{"$error":"#REF!"}},{"$f":"IF(#REF!,\"AAAAADvxbmI=\",0)","v":{"$error":"#REF!"}},{"$f":"AND(#REF!,\"AAAAADvxbmM=\")","v":{"$error":"#REF!"}},{"$f":"AND(#REF!,\"AAAAADvxbmQ=\")","v":{"$error":"#REF!"}},{"$f":"AND(#REF!,\"AAAAADvxbmU=\")","v":{"$error":"#REF!"}},{"$f":"AND(#REF!,\"AAAAADvxbmY=\")","v":{"$error":"#REF!"}},{"$f":"AND(#REF!,\"AAAAADvxbmc=\")","v":{"$error":"#REF!"}},{"$f":"AND(#REF!,\"AAAAADvxbmg=\")","v":{"$error":"#REF!"}},{"$f":"AND(#REF!,\"AAAAADvxbmk=\")","v":{"$error":"#REF!"}},{"$f":"AND(#REF!,\"AAAAADvxbmo=\")","v":{"$error":"#REF!"}},{"$f":"IF(#REF!,\"AAAAADvxbms=\",0)","v":{"$error":"#REF!"}},{"$f":"AND(#REF!,\"AAAAADvxbmw=\")","v":{"$error":"#REF!"}},{"$f":"AND(#REF!,\"AAAAADvxbm0=\")","v":{"$error":"#REF!"}},{"$f":"AND(#REF!,\"AAAAADvxbm4=\")","v":{"$error":"#REF!"}},{"$f":"AND(#REF!,\"AAAAADvxbm8=\")","v":{"$error":"#REF!"}},{"$f":"AND(#REF!,\"AAAAADvxbnA=\")","v":{"$error":"#REF!"}},{"$f":"AND(#REF!,\"AAAAADvxbnE=\")","v":{"$error":"#REF!"}},{"$f":"AND(#REF!,\"AAAAADvxbnI=\")","v":{"$error":"#REF!"}},{"$f":"AND(#REF!,\"AAAAADvxbnM=\")","v":{"$error":"#REF!"}},{"$f":"IF(#REF!,\"AAAAADvxbnQ=\",0)","v":{"$error":"#REF!"}},{"$f":"AND(#REF!,\"AAAAADvxbnU=\")","v":{"$error":"#REF!"}},{"$f":"AND(#REF!,\"AAAAADvxbnY=\")","v":{"$error":"#REF!"}},{"$f":"AND(#REF!,\"AAAAADvxbnc=\")","v":{"$error":"#REF!"}},{"$f":"AND(#REF!,\"AAAAADvxbng=\")","v":{"$error":"#REF!"}},{"$f":"AND(#REF!,\"AAAAADvxbnk=\")","v":{"$error":"#REF!"}},{"$f":"AND(#REF!,\"AAAAADvxbno=\")","v":{"$error":"#REF!"}},{"$f":"AND(#REF!,\"AAAAADvxbns=\")","v":{"$error":"#REF!"}},{"$f":"AND(#REF!,\"AAAAADvxbnw=\")","v":{"$error":"#REF!"}},{"$f":"IF(#REF!,\"AAAAADvxbn0=\",0)","v":{"$error":"#REF!"}},{"$f":"AND(#REF!,\"AAAAADvxbn4=\")","v":{"$error":"#REF!"}},{"$f":"AND(#REF!,\"AAAAADvxbn8=\")","v":{"$error":"#REF!"}},{"$f":"AND(#REF!,\"AAAAADvxboA=\")","v":{"$error":"#REF!"}},{"$f":"AND(#REF!,\"AAAAADvxboE=\")","v":{"$error":"#REF!"}},{"$f":"AND(#REF!,\"AAAAADvxboI=\")","v":{"$error":"#REF!"}},{"$f":"AND(#REF!,\"AAAAADvxboM=\")","v":{"$error":"#REF!"}},{"$f":"AND(#REF!,\"AAAAADvxboQ=\")","v":{"$error":"#REF!"}},{"$f":"AND(#REF!,\"AAAAADvxboU=\")","v":{"$error":"#REF!"}},{"$f":"IF(#REF!,\"AAAAADvxboY=\",0)","v":{"$error":"#REF!"}},{"$f":"AND(#REF!,\"AAAAADvxboc=\")","v":{"$error":"#REF!"}},{"$f":"AND(#REF!,\"AAAAADvxbog=\")","v":{"$error":"#REF!"}},{"$f":"AND(#REF!,\"AAAAADvxbok=\")","v":{"$error":"#REF!"}},{"$f":"AND(#REF!,\"AAAAADvxboo=\")","v":{"$error":"#REF!"}},{"$f":"AND(#REF!,\"AAAAADvxbos=\")","v":{"$error":"#REF!"}},{"$f":"AND(#REF!,\"AAAAADvxbow=\")","v":{"$error":"#REF!"}},{"$f":"AND(#REF!,\"AAAAADvxbo0=\")","v":{"$error":"#REF!"}},{"$f":"AND(#REF!,\"AAAAADvxbo4=\")","v":{"$error":"#REF!"}},{"$f":"IF(#REF!,\"AAAAADvxbo8=\",0)","v":{"$error":"#REF!"}},{"$f":"AND(#REF!,\"AAAAADvxbpA=\")","v":{"$error":"#REF!"}},{"$f":"AND(#REF!,\"AAAAADvxbpE=\")","v":{"$error":"#REF!"}},{"$f":"AND(#REF!,\"AAAAADvxbpI=\")","v":{"$error":"#REF!"}},{"$f":"AND(#REF!,\"AAAAADvxbpM=\")","v":{"$error":"#REF!"}},{"$f":"AND(#REF!,\"AAAAADvxbpQ=\")","v":{"$error":"#REF!"}},{"$f":"AND(#REF!,\"AAAAADvxbpU=\")","v":{"$error":"#REF!"}},{"$f":"AND(#REF!,\"AAAAADvxbpY=\")","v":{"$error":"#REF!"}},{"$f":"AND(#REF!,\"AAAAADvxbpc=\")","v":{"$error":"#REF!"}},{"$f":"IF(#REF!,\"AAAAADvxbpg=\",0)","v":{"$error":"#REF!"}},{"$f":"AND(#REF!,\"AAAAADvxbpk=\")","v":{"$error":"#REF!"}},{"$f":"AND(#REF!,\"AAAAADvxbpo=\")","v":{"$error":"#REF!"}},{"$f":"AND(#REF!,\"AAAAADvxbps=\")","v":{"$error":"#REF!"}},{"$f":"AND(#REF!,\"AAAAADvxbpw=\")","v":{"$error":"#REF!"}},{"$f":"AND(#REF!,\"AAAAADvxbp0=\")","v":{"$error":"#REF!"}},{"$f":"AND(#REF!,\"AAAAADvxbp4=\")","v":{"$error":"#REF!"}},{"$f":"AND(#REF!,\"AAAAADvxbp8=\")","v":{"$error":"#REF!"}},{"$f":"AND(#REF!,\"AAAAADvxbqA=\")","v":{"$error":"#REF!"}},{"$f":"IF(#REF!,\"AAAAADvxbqE=\",0)","v":{"$error":"#REF!"}},{"$f":"AND(#REF!,\"AAAAADvxbqI=\")","v":{"$error":"#REF!"}},{"$f":"AND(#REF!,\"AAAAADvxbqM=\")","v":{"$error":"#REF!"}},{"$f":"AND(#REF!,\"AAAAADvxbqQ=\")","v":{"$error":"#REF!"}},{"$f":"AND(#REF!,\"AAAAADvxbqU=\")","v":{"$error":"#REF!"}},{"$f":"AND(#REF!,\"AAAAADvxbqY=\")","v":{"$error":"#REF!"}},{"$f":"AND(#REF!,\"AAAAADvxbqc=\")","v":{"$error":"#REF!"}},{"$f":"AND(#REF!,\"AAAAADvxbqg=\")","v":{"$error":"#REF!"}},{"$f":"AND(#REF!,\"AAAAADvxbqk=\")","v":{"$error":"#REF!"}},{"$f":"IF(#REF!,\"AAAAADvxbqo=\",0)","v":{"$error":"#REF!"}},{"$f":"AND(#REF!,\"AAAAADvxbqs=\")","v":{"$error":"#REF!"}},{"$f":"AND(#REF!,\"AAAAADvxbqw=\")","v":{"$error":"#REF!"}},{"$f":"AND(#REF!,\"AAAAADvxbq0=\")","v":{"$error":"#REF!"}},{"$f":"AND(#REF!,\"AAAAADvxbq4=\")","v":{"$error":"#REF!"}},{"$f":"AND(#REF!,\"AAAAADvxbq8=\")","v":{"$error":"#REF!"}},{"$f":"AND(#REF!,\"AAAAADvxbrA=\")","v":{"$error":"#REF!"}},{"$f":"AND(#REF!,\"AAAAADvxbrE=\")","v":{"$error":"#REF!"}},{"$f":"AND(#REF!,\"AAAAADvxbrI=\")","v":{"$error":"#REF!"}},{"$f":"IF(#REF!,\"AAAAADvxbrM=\",0)","v":{"$error":"#REF!"}},{"$f":"AND(#REF!,\"AAAAADvxbrQ=\")","v":{"$error":"#REF!"}},{"$f":"AND(#REF!,\"AAAAADvxbrU=\")","v":{"$error":"#REF!"}},{"$f":"AND(#REF!,\"AAAAADvxbrY=\")","v":{"$error":"#REF!"}},{"$f":"AND(#REF!,\"AAAAADvxbrc=\")","v":{"$error":"#REF!"}},{"$f":"AND(#REF!,\"AAAAADvxbrg=\")","v":{"$error":"#REF!"}},{"$f":"AND(#REF!,\"AAAAADvxbrk=\")","v":{"$error":"#REF!"}},{"$f":"AND(#REF!,\"AAAAADvxbro=\")","v":{"$error":"#REF!"}},{"$f":"AND(#REF!,\"AAAAADvxbrs=\")","v":{"$error":"#REF!"}},{"$f":"IF(#REF!,\"AAAAADvxbrw=\",0)","v":{"$error":"#REF!"}},{"$f":"AND(#REF!,\"AAAAADvxbr0=\")","v":{"$error":"#REF!"}},{"$f":"AND(#REF!,\"AAAAADvxbr4=\")","v":{"$error":"#REF!"}},{"$f":"AND(#REF!,\"AAAAADvxbr8=\")","v":{"$error":"#REF!"}},{"$f":"AND(#REF!,\"AAAAADvxbsA=\")","v":{"$error":"#REF!"}},{"$f":"AND(#REF!,\"AAAAADvxbsE=\")","v":{"$error":"#REF!"}},{"$f":"AND(#REF!,\"AAAAADvxbsI=\")","v":{"$error":"#REF!"}},{"$f":"AND(#REF!,\"AAAAADvxbsM=\")","v":{"$error":"#REF!"}},{"$f":"AND(#REF!,\"AAAAADvxbsQ=\")","v":{"$error":"#REF!"}},{"$f":"IF(#REF!,\"AAAAADvxbsU=\",0)","v":{"$error":"#REF!"}},{"$f":"AND(#REF!,\"AAAAADvxbsY=\")","v":{"$error":"#REF!"}},{"$f":"AND(#REF!,\"AAAAADvxbsc=\")","v":{"$error":"#REF!"}},{"$f":"AND(#REF!,\"AAAAADvxbsg=\")","v":{"$error":"#REF!"}},{"$f":"AND(#REF!,\"AAAAADvxbsk=\")","v":{"$error":"#REF!"}},{"$f":"AND(#REF!,\"AAAAADvxbso=\")","v":{"$error":"#REF!"}},{"$f":"AND(#REF!,\"AAAAADvxbss=\")","v":{"$error":"#REF!"}},{"$f":"AND(#REF!,\"AAAAADvxbsw=\")","v":{"$error":"#REF!"}},{"$f":"AND(#REF!,\"AAAAADvxbs0=\")","v":{"$error":"#REF!"}},{"$f":"IF(#REF!,\"AAAAADvxbs4=\",0)","v":{"$error":"#REF!"}},{"$f":"AND(#REF!,\"AAAAADvxbs8=\")","v":{"$error":"#REF!"}},{"$f":"AND(#REF!,\"AAAAADvxbtA=\")","v":{"$error":"#REF!"}},{"$f":"AND(#REF!,\"AAAAADvxbtE=\")","v":{"$error":"#REF!"}},{"$f":"AND(#REF!,\"AAAAADvxbtI=\")","v":{"$error":"#REF!"}},{"$f":"AND(#REF!,\"AAAAADvxbtM=\")","v":{"$error":"#REF!"}},{"$f":"AND(#REF!,\"AAAAADvxbtQ=\")","v":{"$error":"#REF!"}},{"$f":"AND(#REF!,\"AAAAADvxbtU=\")","v":{"$error":"#REF!"}},{"$f":"AND(#REF!,\"AAAAADvxbtY=\")","v":{"$error":"#REF!"}},{"$f":"IF(#REF!,\"AAAAADvxbtc=\",0)","v":{"$error":"#REF!"}},{"$f":"AND(#REF!,\"AAAAADvxbtg=\")","v":{"$error":"#REF!"}},{"$f":"AND(#REF!,\"AAAAADvxbtk=\")","v":{"$error":"#REF!"}},{"$f":"AND(#REF!,\"AAAAADvxbto=\")","v":{"$error":"#REF!"}},{"$f":"AND(#REF!,\"AAAAADvxbts=\")","v":{"$error":"#REF!"}},{"$f":"AND(#REF!,\"AAAAADvxbtw=\")","v":{"$error":"#REF!"}},{"$f":"AND(#REF!,\"AAAAADvxbt0=\")","v":{"$error":"#REF!"}},{"$f":"AND(#REF!,\"AAAAADvxbt4=\")","v":{"$error":"#REF!"}},{"$f":"AND(#REF!,\"AAAAADvxbt8=\")","v":{"$error":"#REF!"}},{"$f":"IF(#REF!,\"AAAAADvxbuA=\",0)","v":{"$error":"#REF!"}},{"$f":"AND(#REF!,\"AAAAADvxbuE=\")","v":{"$error":"#REF!"}},{"$f":"AND(#REF!,\"AAAAADvxbuI=\")","v":{"$error":"#REF!"}},{"$f":"AND(#REF!,\"AAAAADvxbuM=\")","v":{"$error":"#REF!"}},{"$f":"AND(#REF!,\"AAAAADvxbuQ=\")","v":{"$error":"#REF!"}},{"$f":"AND(#REF!,\"AAAAADvxbuU=\")","v":{"$error":"#REF!"}},{"$f":"AND(#REF!,\"AAAAADvxbuY=\")","v":{"$error":"#REF!"}},{"$f":"AND(#REF!,\"AAAAADvxbuc=\")","v":{"$error":"#REF!"}},{"$f":"AND(#REF!,\"AAAAADvxbug=\")","v":{"$error":"#REF!"}},{"$f":"IF(#REF!,\"AAAAADvxbuk=\",0)","v":{"$error":"#REF!"}},{"$f":"AND(#REF!,\"AAAAADvxbuo=\")","v":{"$error":"#REF!"}},{"$f":"AND(#REF!,\"AAAAADvxbus=\")","v":{"$error":"#REF!"}},{"$f":"AND(#REF!,\"AAAAADvxbuw=\")","v":{"$error":"#REF!"}},{"$f":"AND(#REF!,\"AAAAADvxbu0=\")","v":{"$error":"#REF!"}},{"$f":"AND(#REF!,\"AAAAADvxbu4=\")","v":{"$error":"#REF!"}},{"$f":"AND(#REF!,\"AAAAADvxbu8=\")","v":{"$error":"#REF!"}},{"$f":"AND(#REF!,\"AAAAADvxbvA=\")","v":{"$error":"#REF!"}},{"$f":"AND(#REF!,\"AAAAADvxbvE=\")","v":{"$error":"#REF!"}},{"$f":"IF(#REF!,\"AAAAADvxbvI=\",0)","v":{"$error":"#REF!"}},{"$f":"AND(#REF!,\"AAAAADvxbvM=\")","v":{"$error":"#REF!"}},{"$f":"AND(#REF!,\"AAAAADvxbvQ=\")","v":{"$error":"#REF!"}},{"$f":"AND(#REF!,\"AAAAADvxbvU=\")","v":{"$error":"#REF!"}},{"$f":"AND(#REF!,\"AAAAADvxbvY=\")","v":{"$error":"#REF!"}},{"$f":"AND(#REF!,\"AAAAADvxbvc=\")","v":{"$error":"#REF!"}},{"$f":"AND(#REF!,\"AAAAADvxbvg=\")","v":{"$error":"#REF!"}},{"$f":"AND(#REF!,\"AAAAADvxbvk=\")","v":{"$error":"#REF!"}},{"$f":"AND(#REF!,\"AAAAADvxbvo=\")","v":{"$error":"#REF!"}},{"$f":"IF(#REF!,\"AAAAADvxbvs=\",0)","v":{"$error":"#REF!"}},{"$f":"AND(#REF!,\"AAAAADvxbvw=\")","v":{"$error":"#REF!"}},{"$f":"AND(#REF!,\"AAAAADvxbv0=\")","v":{"$error":"#REF!"}},{"$f":"AND(#REF!,\"AAAAADvxbv4=\")","v":{"$error":"#REF!"}},{"$f":"AND(#REF!,\"AAAAADvxbv8=\")","v":{"$error":"#REF!"}}]
[{"$f":"AND(#REF!,\"AAAAAD9OKwA=\")","v":{"$error":"#REF!"}},{"$f":"AND(#REF!,\"AAAAAD9OKwE=\")","v":{"$error":"#REF!"}},{"$f":"AND(#REF!,\"AAAAAD9OKwI=\")","v":{"$error":"#REF!"}},{"$f":"AND(#REF!,\"AAAAAD9OKwM=\")","v":{"$error":"#REF!"}},{"$f":"IF(#REF!,\"AAAAAD9OKwQ=\",0)","v":{"$error":"#REF!"}},{"$f":"AND(#REF!,\"AAAAAD9OKwU=\")","v":{"$error":"#REF!"}},{"$f":"AND(#REF!,\"AAAAAD9OKwY=\")","v":{"$error":"#REF!"}},{"$f":"AND(#REF!,\"AAAAAD9OKwc=\")","v":{"$error":"#REF!"}},{"$f":"AND(#REF!,\"AAAAAD9OKwg=\")","v":{"$error":"#REF!"}},{"$f":"AND(#REF!,\"AAAAAD9OKwk=\")","v":{"$error":"#REF!"}},{"$f":"AND(#REF!,\"AAAAAD9OKwo=\")","v":{"$error":"#REF!"}},{"$f":"AND(#REF!,\"AAAAAD9OKws=\")","v":{"$error":"#REF!"}},{"$f":"AND(#REF!,\"AAAAAD9OKww=\")","v":{"$error":"#REF!"}},{"$f":"IF(#REF!,\"AAAAAD9OKw0=\",0)","v":{"$error":"#REF!"}},{"$f":"AND(#REF!,\"AAAAAD9OKw4=\")","v":{"$error":"#REF!"}},{"$f":"AND(#REF!,\"AAAAAD9OKw8=\")","v":{"$error":"#REF!"}},{"$f":"AND(#REF!,\"AAAAAD9OKxA=\")","v":{"$error":"#REF!"}},{"$f":"AND(#REF!,\"AAAAAD9OKxE=\")","v":{"$error":"#REF!"}},{"$f":"AND(#REF!,\"AAAAAD9OKxI=\")","v":{"$error":"#REF!"}},{"$f":"AND(#REF!,\"AAAAAD9OKxM=\")","v":{"$error":"#REF!"}},{"$f":"AND(#REF!,\"AAAAAD9OKxQ=\")","v":{"$error":"#REF!"}},{"$f":"AND(#REF!,\"AAAAAD9OKxU=\")","v":{"$error":"#REF!"}},{"$f":"IF(#REF!,\"AAAAAD9OKxY=\",0)","v":{"$error":"#REF!"}},{"$f":"AND(#REF!,\"AAAAAD9OKxc=\")","v":{"$error":"#REF!"}},{"$f":"AND(#REF!,\"AAAAAD9OKxg=\")","v":{"$error":"#REF!"}},{"$f":"AND(#REF!,\"AAAAAD9OKxk=\")","v":{"$error":"#REF!"}},{"$f":"AND(#REF!,\"AAAAAD9OKxo=\")","v":{"$error":"#REF!"}},{"$f":"AND(#REF!,\"AAAAAD9OKxs=\")","v":{"$error":"#REF!"}},{"$f":"AND(#REF!,\"AAAAAD9OKxw=\")","v":{"$error":"#REF!"}},{"$f":"AND(#REF!,\"AAAAAD9OKx0=\")","v":{"$error":"#REF!"}},{"$f":"AND(#REF!,\"AAAAAD9OKx4=\")","v":{"$error":"#REF!"}},{"$f":"IF(#REF!,\"AAAAAD9OKx8=\",0)","v":{"$error":"#REF!"}},{"$f":"AND(#REF!,\"AAAAAD9OKyA=\")","v":{"$error":"#REF!"}},{"$f":"AND(#REF!,\"AAAAAD9OKyE=\")","v":{"$error":"#REF!"}},{"$f":"AND(#REF!,\"AAAAAD9OKyI=\")","v":{"$error":"#REF!"}},{"$f":"AND(#REF!,\"AAAAAD9OKyM=\")","v":{"$error":"#REF!"}},{"$f":"AND(#REF!,\"AAAAAD9OKyQ=\")","v":{"$error":"#REF!"}},{"$f":"AND(#REF!,\"AAAAAD9OKyU=\")","v":{"$error":"#REF!"}},{"$f":"AND(#REF!,\"AAAAAD9OKyY=\")","v":{"$error":"#REF!"}},{"$f":"AND(#REF!,\"AAAAAD9OKyc=\")","v":{"$error":"#REF!"}},{"$f":"IF(#REF!,\"AAAAAD9OKyg=\",0)","v":{"$error":"#REF!"}},{"$f":"AND(#REF!,\"AAAAAD9OKyk=\")","v":{"$error":"#REF!"}},{"$f":"AND(#REF!,\"AAAAAD9OKyo=\")","v":{"$error":"#REF!"}},{"$f":"AND(#REF!,\"AAAAAD9OKys=\")","v":{"$error":"#REF!"}},{"$f":"AND(#REF!,\"AAAAAD9OKyw=\")","v":{"$error":"#REF!"}},{"$f":"AND(#REF!,\"AAAAAD9OKy0=\")","v":{"$error":"#REF!"}},{"$f":"AND(#REF!,\"AAAAAD9OKy4=\")","v":{"$error":"#REF!"}},{"$f":"AND(#REF!,\"AAAAAD9OKy8=\")","v":{"$error":"#REF!"}},{"$f":"AND(#REF!,\"AAAAAD9OKzA=\")","v":{"$error":"#REF!"}},{"$f":"IF(#REF!,\"AAAAAD9OKzE=\",0)","v":{"$error":"#REF!"}},{"$f":"AND(#REF!,\"AAAAAD9OKzI=\")","v":{"$error":"#REF!"}},{"$f":"AND(#REF!,\"AAAAAD9OKzM=\")","v":{"$error":"#REF!"}},{"$f":"AND(#REF!,\"AAAAAD9OKzQ=\")","v":{"$error":"#REF!"}},{"$f":"AND(#REF!,\"AAAAAD9OKzU=\")","v":{"$error":"#REF!"}},{"$f":"AND(#REF!,\"AAAAAD9OKzY=\")","v":{"$error":"#REF!"}},{"$f":"AND(#REF!,\"AAAAAD9OKzc=\")","v":{"$error":"#REF!"}},{"$f":"AND(#REF!,\"AAAAAD9OKzg=\")","v":{"$error":"#REF!"}},{"$f":"AND(#REF!,\"AAAAAD9OKzk=\")","v":{"$error":"#REF!"}},{"$f":"IF(#REF!,\"AAAAAD9OKzo=\",0)","v":{"$error":"#REF!"}},{"$f":"AND(#REF!,\"AAAAAD9OKzs=\")","v":{"$error":"#REF!"}},{"$f":"AND(#REF!,\"AAAAAD9OKzw=\")","v":{"$error":"#REF!"}},{"$f":"AND(#REF!,\"AAAAAD9OKz0=\")","v":{"$error":"#REF!"}},{"$f":"AND(#REF!,\"AAAAAD9OKz4=\")","v":{"$error":"#REF!"}},{"$f":"AND(#REF!,\"AAAAAD9OKz8=\")","v":{"$error":"#REF!"}},{"$f":"AND(#REF!,\"AAAAAD9OK0A=\")","v":{"$error":"#REF!"}},{"$f":"AND(#REF!,\"AAAAAD9OK0E=\")","v":{"$error":"#REF!"}},{"$f":"AND(#REF!,\"AAAAAD9OK0I=\")","v":{"$error":"#REF!"}},{"$f":"IF(#REF!,\"AAAAAD9OK0M=\",0)","v":{"$error":"#REF!"}},{"$f":"AND(#REF!,\"AAAAAD9OK0Q=\")","v":{"$error":"#REF!"}},{"$f":"AND(#REF!,\"AAAAAD9OK0U=\")","v":{"$error":"#REF!"}},{"$f":"AND(#REF!,\"AAAAAD9OK0Y=\")","v":{"$error":"#REF!"}},{"$f":"AND(#REF!,\"AAAAAD9OK0c=\")","v":{"$error":"#REF!"}},{"$f":"AND(#REF!,\"AAAAAD9OK0g=\")","v":{"$error":"#REF!"}},{"$f":"AND(#REF!,\"AAAAAD9OK0k=\")","v":{"$error":"#REF!"}},{"$f":"AND(#REF!,\"AAAAAD9OK0o=\")","v":{"$error":"#REF!"}},{"$f":"AND(#REF!,\"AAAAAD9OK0s=\")","v":{"$error":"#REF!"}},{"$f":"IF(#REF!,\"AAAAAD9OK0w=\",0)","v":{"$error":"#REF!"}},{"$f":"AND(#REF!,\"AAAAAD9OK00=\")","v":{"$error":"#REF!"}},{"$f":"AND(#REF!,\"AAAAAD9OK04=\")","v":{"$error":"#REF!"}},{"$f":"AND(#REF!,\"AAAAAD9OK08=\")","v":{"$error":"#REF!"}},{"$f":"AND(#REF!,\"AAAAAD9OK1A=\")","v":{"$error":"#REF!"}},{"$f":"AND(#REF!,\"AAAAAD9OK1E=\")","v":{"$error":"#REF!"}},{"$f":"AND(#REF!,\"AAAAAD9OK1I=\")","v":{"$error":"#REF!"}},{"$f":"AND(#REF!,\"AAAAAD9OK1M=\")","v":{"$error":"#REF!"}},{"$f":"AND(#REF!,\"AAAAAD9OK1Q=\")","v":{"$error":"#REF!"}},{"$f":"IF(#REF!,\"AAAAAD9OK1U=\",0)","v":{"$error":"#REF!"}},{"$f":"AND(#REF!,\"AAAAAD9OK1Y=\")","v":{"$error":"#REF!"}},{"$f":"AND(#REF!,\"AAAAAD9OK1c=\")","v":{"$error":"#REF!"}},{"$f":"AND(#REF!,\"AAAAAD9OK1g=\")","v":{"$error":"#REF!"}},{"$f":"AND(#REF!,\"AAAAAD9OK1k=\")","v":{"$error":"#REF!"}},{"$f":"AND(#REF!,\"AAAAAD9OK1o=\")","v":{"$error":"#REF!"}},{"$f":"AND(#REF!,\"AAAAAD9OK1s=\")","v":{"$error":"#REF!"}},{"$f":"AND(#REF!,\"AAAAAD9OK1w=\")","v":{"$error":"#REF!"}},{"$f":"AND(#REF!,\"AAAAAD9OK10=\")","v":{"$error":"#REF!"}},{"$f":"IF(#REF!,\"AAAAAD9OK14=\",0)","v":{"$error":"#REF!"}},{"$f":"AND(#REF!,\"AAAAAD9OK18=\")","v":{"$error":"#REF!"}},{"$f":"AND(#REF!,\"AAAAAD9OK2A=\")","v":{"$error":"#REF!"}},{"$f":"AND(#REF!,\"AAAAAD9OK2E=\")","v":{"$error":"#REF!"}},{"$f":"AND(#REF!,\"AAAAAD9OK2I=\")","v":{"$error":"#REF!"}},{"$f":"AND(#REF!,\"AAAAAD9OK2M=\")","v":{"$error":"#REF!"}},{"$f":"AND(#REF!,\"AAAAAD9OK2Q=\")","v":{"$error":"#REF!"}},{"$f":"AND(#REF!,\"AAAAAD9OK2U=\")","v":{"$error":"#REF!"}},{"$f":"AND(#REF!,\"AAAAAD9OK2Y=\")","v":{"$error":"#REF!"}},{"$f":"IF(#REF!,\"AAAAAD9OK2c=\",0)","v":{"$error":"#REF!"}},{"$f":"AND(#REF!,\"AAAAAD9OK2g=\")","v":{"$error":"#REF!"}},{"$f":"AND(#REF!,\"AAAAAD9OK2k=\")","v":{"$error":"#REF!"}},{"$f":"AND(#REF!,\"AAAAAD9OK2o=\")","v":{"$error":"#REF!"}},{"$f":"AND(#REF!,\"AAAAAD9OK2s=\")","v":{"$error":"#REF!"}},{"$f":"AND(#REF!,\"AAAAAD9OK2w=\")","v":{"$error":"#REF!"}},{"$f":"AND(#REF!,\"AAAAAD9OK20=\")","v":{"$error":"#REF!"}},{"$f":"AND(#REF!,\"AAAAAD9OK24=\")","v":{"$error":"#REF!"}},{"$f":"AND(#REF!,\"AAAAAD9OK28=\")","v":{"$error":"#REF!"}},{"$f":"IF(#REF!,\"AAAAAD9OK3A=\",0)","v":{"$error":"#REF!"}},{"$f":"AND(#REF!,\"AAAAAD9OK3E=\")","v":{"$error":"#REF!"}},{"$f":"AND(#REF!,\"AAAAAD9OK3I=\")","v":{"$error":"#REF!"}},{"$f":"AND(#REF!,\"AAAAAD9OK3M=\")","v":{"$error":"#REF!"}},{"$f":"AND(#REF!,\"AAAAAD9OK3Q=\")","v":{"$error":"#REF!"}},{"$f":"AND(#REF!,\"AAAAAD9OK3U=\")","v":{"$error":"#REF!"}},{"$f":"AND(#REF!,\"AAAAAD9OK3Y=\")","v":{"$error":"#REF!"}},{"$f":"AND(#REF!,\"AAAAAD9OK3c=\")","v":{"$error":"#REF!"}},{"$f":"AND(#REF!,\"AAAAAD9OK3g=\")","v":{"$error":"#REF!"}},{"$f":"IF(#REF!,\"AAAAAD9OK3k=\",0)","v":{"$error":"#REF!"}},{"$f":"AND(#REF!,\"AAAAAD9OK3o=\")","v":{"$error":"#REF!"}},{"$f":"AND(#REF!,\"AAAAAD9OK3s=\")","v":{"$error":"#REF!"}},{"$f":"AND(#REF!,\"AAAAAD9OK3w=\")","v":{"$error":"#REF!"}},{"$f":"AND(#REF!,\"AAAAAD9OK30=\")","v":{"$error":"#REF!"}},{"$f":"AND(#REF!,\"AAAAAD9OK34=\")","v":{"$error":"#REF!"}},{"$f":"AND(#REF!,\"AAAAAD9OK38=\")","v":{"$error":"#REF!"}},{"$f":"AND(#REF!,\"AAAAAD9OK4A=\")","v":{"$error":"#REF!"}},{"$f":"AND(#REF!,\"AAAAAD9OK4E=\")","v":{"$error":"#REF!"}},{"$f":"IF(#REF!,\"AAAAAD9OK4I=\",0)","v":{"$error":"#REF!"}},{"$f":"AND(#REF!,\"AAAAAD9OK4M=\")","v":{"$error":"#REF!"}},{"$f":"AND(#REF!,\"AAAAAD9OK4Q=\")","v":{"$error":"#REF!"}},{"$f":"AND(#REF!,\"AAAAAD9OK4U=\")","v":{"$error":"#REF!"}},{"$f":"AND(#REF!,\"AAAAAD9OK4Y=\")","v":{"$error":"#REF!"}},{"$f":"AND(#REF!,\"AAAAAD9OK4c=\")","v":{"$error":"#REF!"}},{"$f":"AND(#REF!,\"AAAAAD9OK4g=\")","v":{"$error":"#REF!"}},{"$f":"AND(#REF!,\"AAAAAD9OK4k=\")","v":{"$error":"#REF!"}},{"$f":"AND(#REF!,\"AAAAAD9OK4o=\")","v":{"$error":"#REF!"}},{"$f":"IF(#REF!,\"AAAAAD9OK4s=\",0)","v":{"$error":"#REF!"}},{"$f":"AND(#REF!,\"AAAAAD9OK4w=\")","v":{"$error":"#REF!"}},{"$f":"AND(#REF!,\"AAAAAD9OK40=\")","v":{"$error":"#REF!"}},{"$f":"AND(#REF!,\"AAAAAD9OK44=\")","v":{"$error":"#REF!"}},{"$f":"AND(#REF!,\"AAAAAD9OK48=\")","v":{"$error":"#REF!"}},{"$f":"AND(#REF!,\"AAAAAD9OK5A=\")","v":{"$error":"#REF!"}},{"$f":"AND(#REF!,\"AAAAAD9OK5E=\")","v":{"$error":"#REF!"}},{"$f":"AND(#REF!,\"AAAAAD9OK5I=\")","v":{"$error":"#REF!"}},{"$f":"AND(#REF!,\"AAAAAD9OK5M=\")","v":{"$error":"#REF!"}},{"$f":"IF(#REF!,\"AAAAAD9OK5Q=\",0)","v":{"$error":"#REF!"}},{"$f":"AND(#REF!,\"AAAAAD9OK5U=\")","v":{"$error":"#REF!"}},{"$f":"AND(#REF!,\"AAAAAD9OK5Y=\")","v":{"$error":"#REF!"}},{"$f":"AND(#REF!,\"AAAAAD9OK5c=\")","v":{"$error":"#REF!"}},{"$f":"AND(#REF!,\"AAAAAD9OK5g=\")","v":{"$error":"#REF!"}},{"$f":"AND(#REF!,\"AAAAAD9OK5k=\")","v":{"$error":"#REF!"}},{"$f":"AND(#REF!,\"AAAAAD9OK5o=\")","v":{"$error":"#REF!"}},{"$f":"AND(#REF!,\"AAAAAD9OK5s=\")","v":{"$error":"#REF!"}},{"$f":"AND(#REF!,\"AAAAAD9OK5w=\")","v":{"$error":"#REF!"}},{"$f":"IF(#REF!,\"AAAAAD9OK50=\",0)","v":{"$error":"#REF!"}},{"$f":"AND(#REF!,\"AAAAAD9OK54=\")","v":{"$error":"#REF!"}},{"$f":"AND(#REF!,\"AAAAAD9OK58=\")","v":{"$error":"#REF!"}},{"$f":"AND(#REF!,\"AAAAAD9OK6A=\")","v":{"$error":"#REF!"}},{"$f":"AND(#REF!,\"AAAAAD9OK6E=\")","v":{"$error":"#REF!"}},{"$f":"AND(#REF!,\"AAAAAD9OK6I=\")","v":{"$error":"#REF!"}},{"$f":"AND(#REF!,\"AAAAAD9OK6M=\")","v":{"$error":"#REF!"}},{"$f":"AND(#REF!,\"AAAAAD9OK6Q=\")","v":{"$error":"#REF!"}},{"$f":"AND(#REF!,\"AAAAAD9OK6U=\")","v":{"$error":"#REF!"}},{"$f":"IF(#REF!,\"AAAAAD9OK6Y=\",0)","v":{"$error":"#REF!"}},{"$f":"AND(#REF!,\"AAAAAD9OK6c=\")","v":{"$error":"#REF!"}},{"$f":"AND(#REF!,\"AAAAAD9OK6g=\")","v":{"$error":"#REF!"}},{"$f":"AND(#REF!,\"AAAAAD9OK6k=\")","v":{"$error":"#REF!"}},{"$f":"AND(#REF!,\"AAAAAD9OK6o=\")","v":{"$error":"#REF!"}},{"$f":"AND(#REF!,\"AAAAAD9OK6s=\")","v":{"$error":"#REF!"}},{"$f":"AND(#REF!,\"AAAAAD9OK6w=\")","v":{"$error":"#REF!"}},{"$f":"AND(#REF!,\"AAAAAD9OK60=\")","v":{"$error":"#REF!"}},{"$f":"AND(#REF!,\"AAAAAD9OK64=\")","v":{"$error":"#REF!"}},{"$f":"IF(#REF!,\"AAAAAD9OK68=\",0)","v":{"$error":"#REF!"}},{"$f":"AND(#REF!,\"AAAAAD9OK7A=\")","v":{"$error":"#REF!"}},{"$f":"AND(#REF!,\"AAAAAD9OK7E=\")","v":{"$error":"#REF!"}},{"$f":"AND(#REF!,\"AAAAAD9OK7I=\")","v":{"$error":"#REF!"}},{"$f":"AND(#REF!,\"AAAAAD9OK7M=\")","v":{"$error":"#REF!"}},{"$f":"AND(#REF!,\"AAAAAD9OK7Q=\")","v":{"$error":"#REF!"}},{"$f":"AND(#REF!,\"AAAAAD9OK7U=\")","v":{"$error":"#REF!"}},{"$f":"AND(#REF!,\"AAAAAD9OK7Y=\")","v":{"$error":"#REF!"}},{"$f":"AND(#REF!,\"AAAAAD9OK7c=\")","v":{"$error":"#REF!"}},{"$f":"IF(#REF!,\"AAAAAD9OK7g=\",0)","v":{"$error":"#REF!"}},{"$f":"AND(#REF!,\"AAAAAD9OK7k=\")","v":{"$error":"#REF!"}},{"$f":"AND(#REF!,\"AAAAAD9OK7o=\")","v":{"$error":"#REF!"}},{"$f":"AND(#REF!,\"AAAAAD9OK7s=\")","v":{"$error":"#REF!"}},{"$f":"AND(#REF!,\"AAAAAD9OK7w=\")","v":{"$error":"#REF!"}},{"$f":"AND(#REF!,\"AAAAAD9OK70=\")","v":{"$error":"#REF!"}},{"$f":"AND(#REF!,\"AAAAAD9OK74=\")","v":{"$error":"#REF!"}},{"$f":"AND(#REF!,\"AAAAAD9OK78=\")","v":{"$error":"#REF!"}},{"$f":"AND(#REF!,\"AAAAAD9OK8A=\")","v":{"$error":"#REF!"}},{"$f":"IF(#REF!,\"AAAAAD9OK8E=\",0)","v":{"$error":"#REF!"}},{"$f":"AND(#REF!,\"AAAAAD9OK8I=\")","v":{"$error":"#REF!"}},{"$f":"AND(#REF!,\"AAAAAD9OK8M=\")","v":{"$error":"#REF!"}},{"$f":"AND(#REF!,\"AAAAAD9OK8Q=\")","v":{"$error":"#REF!"}},{"$f":"AND(#REF!,\"AAAAAD9OK8U=\")","v":{"$error":"#REF!"}},{"$f":"AND(#REF!,\"AAAAAD9OK8Y=\")","v":{"$error":"#REF!"}},{"$f":"AND(#REF!,\"AAAAAD9OK8c=\")","v":{"$error":"#REF!"}},{"$f":"AND(#REF!,\"AAAAAD9OK8g=\")","v":{"$error":"#REF!"}},{"$f":"AND(#REF!,\"AAAAAD9OK8k=\")","v":{"$error":"#REF!"}},{"$f":"IF(#REF!,\"AAAAAD9OK8o=\",0)","v":{"$error":"#REF!"}},{"$f":"AND(#REF!,\"AAAAAD9OK8s=\")","v":{"$error":"#REF!"}},{"$f":"AND(#REF!,\"AAAAAD9OK8w=\")","v":{"$error":"#REF!"}},{"$f":"AND(#REF!,\"AAAAAD9OK80=\")","v":{"$error":"#REF!"}},{"$f":"AND(#REF!,\"AAAAAD9OK84=\")","v":{"$error":"#REF!"}},{"$f":"AND(#REF!,\"AAAAAD9OK88=\")","v":{"$error":"#REF!"}},{"$f":"AND(#REF!,\"AAAAAD9OK9A=\")","v":{"$error":"#REF!"}},{"$f":"AND(#REF!,\"AAAAAD9OK9E=\")","v":{"$error":"#REF!"}},{"$f":"AND(#REF!,\"AAAAAD9OK9I=\")","v":{"$error":"#REF!"}},{"$f":"IF(#REF!,\"AAAAAD9OK9M=\",0)","v":{"$error":"#REF!"}},{"$f":"AND(#REF!,\"AAAAAD9OK9Q=\")","v":{"$error":"#REF!"}},{"$f":"AND(#REF!,\"AAAAAD9OK9U=\")","v":{"$error":"#REF!"}},{"$f":"AND(#REF!,\"AAAAAD9OK9Y=\")","v":{"$error":"#REF!"}},{"$f":"AND(#REF!,\"AAAAAD9OK9c=\")","v":{"$error":"#REF!"}},{"$f":"AND(#REF!,\"AAAAAD9OK9g=\")","v":{"$error":"#REF!"}},{"$f":"AND(#REF!,\"AAAAAD9OK9k=\")","v":{"$error":"#REF!"}},{"$f":"AND(#REF!,\"AAAAAD9OK9o=\")","v":{"$error":"#REF!"}},{"$f":"AND(#REF!,\"AAAAAD9OK9s=\")","v":{"$error":"#REF!"}},{"$f":"IF(#REF!,\"AAAAAD9OK9w=\",0)","v":{"$error":"#REF!"}},{"$f":"AND(#REF!,\"AAAAAD9OK90=\")","v":{"$error":"#REF!"}},{"$f":"AND(#REF!,\"AAAAAD9OK94=\")","v":{"$error":"#REF!"}},{"$f":"AND(#REF!,\"AAAAAD9OK98=\")","v":{"$error":"#REF!"}},{"$f":"AND(#REF!,\"AAAAAD9OK+A=\")","v":{"$error":"#REF!"}},{"$f":"AND(#REF!,\"AAAAAD9OK+E=\")","v":{"$error":"#REF!"}},{"$f":"AND(#REF!,\"AAAAAD9OK+I=\")","v":{"$error":"#REF!"}},{"$f":"AND(#REF!,\"AAAAAD9OK+M=\")","v":{"$error":"#REF!"}},{"$f":"AND(#REF!,\"AAAAAD9OK+Q=\")","v":{"$error":"#REF!"}},{"$f":"IF(#REF!,\"AAAAAD9OK+U=\",0)","v":{"$error":"#REF!"}},{"$f":"AND(#REF!,\"AAAAAD9OK+Y=\")","v":{"$error":"#REF!"}},{"$f":"AND(#REF!,\"AAAAAD9OK+c=\")","v":{"$error":"#REF!"}},{"$f":"AND(#REF!,\"AAAAAD9OK+g=\")","v":{"$error":"#REF!"}},{"$f":"AND(#REF!,\"AAAAAD9OK+k=\")","v":{"$error":"#REF!"}},{"$f":"AND(#REF!,\"AAAAAD9OK+o=\")","v":{"$error":"#REF!"}},{"$f":"AND(#REF!,\"AAAAAD9OK+s=\")","v":{"$error":"#REF!"}},{"$f":"AND(#REF!,\"AAAAAD9OK+w=\")","v":{"$error":"#REF!"}},{"$f":"AND(#REF!,\"AAAAAD9OK+0=\")","v":{"$error":"#REF!"}},{"$f":"IF(#REF!,\"AAAAAD9OK+4=\",0)","v":{"$error":"#REF!"}},{"$f":"AND(#REF!,\"AAAAAD9OK+8=\")","v":{"$error":"#REF!"}},{"$f":"AND(#REF!,\"AAAAAD9OK/A=\")","v":{"$error":"#REF!"}},{"$f":"AND(#REF!,\"AAAAAD9OK/E=\")","v":{"$error":"#REF!"}},{"$f":"AND(#REF!,\"AAAAAD9OK/I=\")","v":{"$error":"#REF!"}},{"$f":"AND(#REF!,\"AAAAAD9OK/M=\")","v":{"$error":"#REF!"}},{"$f":"AND(#REF!,\"AAAAAD9OK/Q=\")","v":{"$error":"#REF!"}},{"$f":"AND(#REF!,\"AAAAAD9OK/U=\")","v":{"$error":"#REF!"}},{"$f":"AND(#REF!,\"AAAAAD9OK/Y=\")","v":{"$error":"#REF!"}},{"$f":"IF(#REF!,\"AAAAAD9OK/c=\",0)","v":{"$error":"#REF!"}},{"$f":"AND(#REF!,\"AAAAAD9OK/g=\")","v":{"$error":"#REF!"}},{"$f":"AND(#REF!,\"AAAAAD9OK/k=\")","v":{"$error":"#REF!"}},{"$f":"AND(#REF!,\"AAAAAD9OK/o=\")","v":{"$error":"#REF!"}},{"$f":"AND(#REF!,\"AAAAAD9OK/s=\")","v":{"$error":"#REF!"}},{"$f":"AND(#REF!,\"AAAAAD9OK/w=\")","v":{"$error":"#REF!"}},{"$f":"AND(#REF!,\"AAAAAD9OK/0=\")","v":{"$error":"#REF!"}},{"$f":"AND(#REF!,\"AAAAAD9OK/4=\")","v":{"$error":"#REF!"}},{"$f":"AND(#REF!,\"AAAAAD9OK/8=\")","v":{"$error":"#REF!"}}]
[{"$f":"IF(#REF!,\"AAAAAB899wA=\",0)","v":{"$error":"#REF!"}},{"$f":"AND(#REF!,\"AAAAAB899wE=\")","v":{"$error":"#REF!"}},{"$f":"AND(#REF!,\"AAAAAB899wI=\")","v":{"$error":"#REF!"}},{"$f":"AND(#REF!,\"AAAAAB899wM=\")","v":{"$error":"#REF!"}},{"$f":"AND(#REF!,\"AAAAAB899wQ=\")","v":{"$error":"#REF!"}},{"$f":"AND(#REF!,\"AAAAAB899wU=\")","v":{"$error":"#REF!"}},{"$f":"AND(#REF!,\"AAAAAB899wY=\")","v":{"$error":"#REF!"}},{"$f":"AND(#REF!,\"AAAAAB899wc=\")","v":{"$error":"#REF!"}},{"$f":"AND(#REF!,\"AAAAAB899wg=\")","v":{"$error":"#REF!"}},{"$f":"IF(#REF!,\"AAAAAB899wk=\",0)","v":{"$error":"#REF!"}},{"$f":"AND(#REF!,\"AAAAAB899wo=\")","v":{"$error":"#REF!"}},{"$f":"AND(#REF!,\"AAAAAB899ws=\")","v":{"$error":"#REF!"}},{"$f":"AND(#REF!,\"AAAAAB899ww=\")","v":{"$error":"#REF!"}},{"$f":"AND(#REF!,\"AAAAAB899w0=\")","v":{"$error":"#REF!"}},{"$f":"AND(#REF!,\"AAAAAB899w4=\")","v":{"$error":"#REF!"}},{"$f":"IF(#REF!,\"AAAAAB899w8=\",0)","v":{"$error":"#REF!"}},{"$f":"IF(#REF!,\"AAAAAB899xA=\",0)","v":{"$error":"#REF!"}},{"$f":"IF(#REF!,\"AAAAAB899xE=\",0)","v":{"$error":"#REF!"}},{"$f":"IF(#REF!,\"AAAAAB899xI=\",0)","v":{"$error":"#REF!"}},{"$f":"IF(#REF!,\"AAAAAB899xM=\",0)","v":{"$error":"#REF!"}},{"$f":"IF(#REF!,\"AAAAAB899xQ=\",0)","v":{"$error":"#REF!"}},{"$f":"IF(#REF!,\"AAAAAB899xU=\",0)","v":{"$error":"#REF!"}},{"$f":"IF(#REF!,\"AAAAAB899xY=\",0)","v":{"$error":"#REF!"}},"AAAAAB899xc="]